From mboxrd@z Thu Jan 1 00:00:00 1970 Return-Path: Received: from mails.dpdk.org (mails.dpdk.org [217.70.189.124]) by inbox.dpdk.org (Postfix) with ESMTP id 2E87D46165 for ; Thu, 6 Feb 2025 17:42:53 +0100 (CET) Received: from mails.dpdk.org (localhost [127.0.0.1]) by mails.dpdk.org (Postfix) with ESMTP id 28B1D40E49; Thu, 6 Feb 2025 17:42:53 +0100 (CET) Received: from mail-qv1-f100.google.com (mail-qv1-f100.google.com [209.85.219.100]) by mails.dpdk.org (Postfix) with ESMTP id B419F402F1 for ; Thu, 6 Feb 2025 17:42:52 +0100 (CET) Received: by mail-qv1-f100.google.com with SMTP id 6a1803df08f44-6e1a41935c3so14943176d6.3 for ; Thu, 06 Feb 2025 08:42:52 -0800 (PST) DKIM-Signature: v=1; a=rsa-sha256; c=relaxed/relaxed; d=iol.unh.edu; s=unh-iol; t=1738860172; x=1739464972; darn=dpdk.org; h=cc:to:from:subject:message-id:date:from:to:cc:subject:date :message-id:reply-to; bh=f0b3Wi4AzSSzq8v5D/oIvvN6Y6uR102LLDhcJq6Lvqo=; b=hFitYtThU7/PkSh/Zc+5soOjJf9cJYRhOd4bT9JBE+0C0bIxP7lKEhLamX2vR6t48g vcdnyLG24gJEfnYUBbNq7NIHBlbfcce6LFrMmTFXamcDgXfDX++07/DDZAfSjl5JZf/c FYH/pwJWX4NeuqDDPyBBOGPL80G69xLUdYBJ0= X-Google-DKIM-Signature: v=1; a=rsa-sha256; c=relaxed/relaxed; d=1e100.net; s=20230601; t=1738860172; x=1739464972; h=cc:to:from:subject:message-id:date:x-gm-message-state:from:to:cc :subject:date:message-id:reply-to; bh=f0b3Wi4AzSSzq8v5D/oIvvN6Y6uR102LLDhcJq6Lvqo=; b=AyUcZStMj3rNmzXGTLNxT+nG9NxDtWVf/bs7LTqbpUryEL3nxgt1Ni9uSIL6xoErKJ RZEDg2C+FC0RAFWmIEiYHi9Tq+WtBscBuvIxn66K2aw/j/x3/0vr+bK5chx1q3QtaTg/ hDkNmhlxDD5E3B4Bc71Im6aFi+Chjcs+rKU90dTkzRlE4U8w4jg3YXX9K1r6kP38cugA 4AN5iQDUK9OlWUx+WL3zYRGr+WbtrVaNvHbTVgPcosa5T/6fRyVs3fYGih4a1+GnfWGz zTCDNCJd229LX1erd3lXenPZx54W6D5S/Lfc7yvo/lvsJrU/v+y3hUS1nUM4H5vH3TO5 aZ+w== X-Gm-Message-State: AOJu0YzWSlieQozFvqCl0TgnuuYZFis0T55DNPnDncowK8/InLRnIj5+ dT4xwVEaCo6VZgI+K+RAyjEI9DOwA9brjiKJrlsvBaWJe567uxUBH49D2kChB6fP+qyaRFwfftV enAXNvyrLw+RaLum3jI846iCz40hOfi1k6kiVp/vR X-Gm-Gg: ASbGncujFx3FMfYP85tgO0j7uHIhxvt72bwEKaaHX6/X+1SYgwBu4noG28nA933G8Rx SA20wpcQouyfaufVzbvrMoV14bcDW+i3HXSjoi17L9kaL3nqCGGTpdgXW+D0xAV5hefRfO1+SY+ 37Kxg5daoZHNHwjCMzDsQnTyEdSzb8C3u5CI0FFxTgA4Q7udg7z5y3bxOd4Nr0nX9SgrPndlSKD myaesw2B+3BWPSDhI77cypGzeoDgYg4VxTgENdYMKM2MPdqhWfHBiQXUXNuKqdcWXz/5I+Qj/NK SkFb1EsQDudc7JUjPk16UQ2J0siIDw== X-Google-Smtp-Source: AGHT+IHk1ntbSML8CFjzI8u8ueirRdyOGwumdgDUcn8dbOzTvdzkPd8gF/x0oRI5vz6rObkop+peS4bFWfuw X-Received: by 2002:a05:6214:5711:b0:6d8:a856:133 with SMTP id 6a1803df08f44-6e42fb6d502mr103218146d6.12.1738860172102; Thu, 06 Feb 2025 08:42:52 -0800 (PST) Received: from postal.iol.unh.edu (postal.iol.unh.edu. [132.177.123.84]) by smtp-relay.gmail.com with ESMTPS id 6a1803df08f44-6e43ba33dbcsm954366d6.12.2025.02.06.08.42.52 (version=TLS1_2 cipher=ECDHE-ECDSA-AES128-GCM-SHA256 bits=128/128); Thu, 06 Feb 2025 08:42:52 -0800 (PST) X-Relaying-Domain: iol.unh.edu Date: Thu, 06 Feb 2025 08:42:52 -0800 (PST) Message-ID: <67a4e68c.050a0220.398a44.5732SMTPIN_ADDED_MISSING@mx.google.com> Received: from [172.21.0.6] (unknown [172.18.0.240]) by postal.iol.unh.edu (Postfix) with ESMTP id C79D66052471; Thu, 6 Feb 2025 11:42:51 -0500 (EST) Subject: |SUCCESS| [GIT MASTER] e595e7b5758fc73d99b810f5a8748f94bd467084 From: dpdklab@iol.unh.edu To: Test Report Cc: dpdk-test-reports@iol.unh.edu, Stephen Hemminger Content-Type: text/plain X-BeenThere: test-report@dpdk.org X-Mailman-Version: 2.1.29 Precedence: list List-Id: automatic DPDK test reports List-Unsubscribe: , List-Archive: List-Post: List-Help: List-Subscribe: , Errors-To: test-report-bounces@dpdk.org _Testing PASS_ Branch: dpdk-next-net e595e7b5758fc73d99b810f5a8748f94bd467084 --> testing pass Upstream job id: Generic-Unit-Test-DPDK#312255 Test environment and result as below: +---------------------+----------------+ | Environment | dpdk_unit_test | +=====================+================+ | Fedora 40 (Clang) | PASS | +---------------------+----------------+ | Fedora 40 | PASS | +---------------------+----------------+ | Debian Bullseye | PASS | +---------------------+----------------+ | CentOS Stream 9 | PASS | +---------------------+----------------+ | Debian 12 | PASS | +---------------------+----------------+ | RHEL9 | PASS | +---------------------+----------------+ | Ubuntu 20.04 | PASS | +---------------------+----------------+ | Fedora 41 | PASS | +---------------------+----------------+ | Fedora 41 (Clang) | PASS | +---------------------+----------------+ | RHEL8 | PASS | +---------------------+----------------+ | Ubuntu 24.04 | PASS | +---------------------+----------------+ | Ubuntu 22.04 | PASS | +---------------------+----------------+ | Windows Server 2022 | PASS | +---------------------+----------------+ Fedora 40 (Clang) Kernel: Depends on container host Compiler: clang 18.1.8 (Fedora 18.1.8-1.fc40) Fedora 40 Kernel: Depends on container host Compiler: gcc 14.2.1 20240912 (Red Hat 14.2.1-3) Debian Bullseye Kernel: Depends on container host Compiler: gcc (Debian 10.2.1-6) 10.2.1 20210110 CentOS Stream 9 Kernel: Depends on container host Compiler: gcc 11.5.0 20240719 (Red Hat 11.5.0-2) Debian 12 Kernel: Depends on container host Compiler: gcc (Debian 12.2.0-14) 12.2.0 RHEL9 Kernel: Depends on container host Compiler: gcc 11.5.0 20240719 (Red Hat 11.5.0-2) Ubuntu 20.04 Kernel: Depends on container host Compiler: gcc (Ubuntu 9.4.0-1ubuntu1~20.04.2) 9.4.0 Fedora 41 Kernel: Depends on container host Compiler: gcc 14.2.1 20240912 (Red Hat 14.2.1-3) Fedora 41 (Clang) Kernel: Depends on container host Compiler: clang 19.1.5 (Fedora 19.1.5-1.fc41) RHEL8 Kernel: Depends on container host Compiler: gcc 8.5.0 20210514 (Red Hat 8.5.0-22) Ubuntu 24.04 Kernel: Depends on container host Compiler: gcc (Ubuntu 13.3.0-6ubuntu2~24.04) 13.3.0 Ubuntu 22.04 Kernel: Depends on container host Compiler: gcc (Ubuntu 11.4.0-1ubuntu1~22.04) 11.4.0 Windows Server 2022 Kernel: 10.0.20348.2031 Compiler: clang 15.0.7, gcc 14.1.0 (MinGW), and MSVC VS 19.39.33521 To view detailed results, visit: https://lab.dpdk.org/results/dashboard/tarballs/32469/ UNH-IOL DPDK Community Lab To manage your email subscriptions, visit: https://lab.dpdk.org/results/dashboard/preferences/subscriptions/