From mboxrd@z Thu Jan 1 00:00:00 1970 Return-Path: Received: from mails.dpdk.org (mails.dpdk.org [217.70.189.124]) by inbox.dpdk.org (Postfix) with ESMTP id 0703F46165 for ; Thu, 6 Feb 2025 17:48:01 +0100 (CET) Received: from mails.dpdk.org (localhost [127.0.0.1]) by mails.dpdk.org (Postfix) with ESMTP id D37EF40E49; Thu, 6 Feb 2025 17:48:00 +0100 (CET) Received: from mail-oa1-f98.google.com (mail-oa1-f98.google.com [209.85.160.98]) by mails.dpdk.org (Postfix) with ESMTP id 313F4402F1 for ; Thu, 6 Feb 2025 17:48:00 +0100 (CET) Received: by mail-oa1-f98.google.com with SMTP id 586e51a60fabf-2adc2b6837eso387412fac.1 for ; Thu, 06 Feb 2025 08:48:00 -0800 (PST) DKIM-Signature: v=1; a=rsa-sha256; c=relaxed/relaxed; d=iol.unh.edu; s=unh-iol; t=1738860479; x=1739465279; darn=dpdk.org; h=references:in-reply-to:cc:to:from:subject:message-id:date:from:to :cc:subject:date:message-id:reply-to; bh=V/zsvinNW6Zv+JsK+vF3cnelMbSfBmbc0SGvMEim7fI=; b=ISi3favwf7bCEUHnNSSF8Ep8AoK4o5jcE6v/JWOgavQ9Ot1RHLrkqG+BZJ/7n8mrOL cF7QXgnxlYv/zZlJ0LnkmCZg35q+4FkErztO+LxtP+9Kji9Xu38sz4b0PVTIGEvHl406 CIh1Pj1mK7OWg6h5Sv0AXw77bZffy44ldl94Q= X-Google-DKIM-Signature: v=1; a=rsa-sha256; c=relaxed/relaxed; d=1e100.net; s=20230601; t=1738860479; x=1739465279; h=references:in-reply-to:cc:to:from:subject:message-id:date :x-gm-message-state:from:to:cc:subject:date:message-id:reply-to; bh=V/zsvinNW6Zv+JsK+vF3cnelMbSfBmbc0SGvMEim7fI=; b=gMQLfuUuMIFHGNkSHfu8e330JLwcYMDlVSVSo8n9oToWTxHj7YjhtUAzX7kF1Q6qtU GKAv7+SsWG1TgX/J5LA+zKRwPKirF8mpplhs8cvpn1lEzC4WkK4k1l9qw83tJRhh9Gl/ xY9cVk1wldI9MKw/OB5uO1sNM9ho3cjtf2kR8QVA5y3CFfeqxH5YpUyW9U0UK5IHNzGp ecOfPPu0u4p4PdqTNf1AjRiZNmyS3qq9K92mFwJPBkXCjuRkDfFH+1oArjlA7ylOKMh6 rTj6Dx4hPt88Z8EWcSAp/HBhMp33XIjf0b/zoUeno4XbzNOLhvZXyiXmT98s2xQQYOPv FafA== X-Gm-Message-State: AOJu0YxRJgNoqE2PLe9kYsxCf+VuD1zhe8H45FtpMxO2Ig/Y2zxWughU b7L0e3vQKFVPM7FgV95YuN38H5H2hWEq0psjS4p3BesUGmD2Z6czu+wvILHI33pOLv7dh9lFuyA W4f+XvNwRTsIt79YuxfqP1HljeACu1C6hgqScyjKbB50CeWSg1img6E8P X-Gm-Gg: ASbGncuJi79judosAnvhxmOXKvbYXTd3MJjHS4vpkNhabRi+HxrQSphzi31Ho23fIjd fdGrvGiupvTeA5jDrDDZZ4Nql91EBtG2jqr0FAUUuBYT92tLaZisQFndwPpmN4ONDtysfnZ6wDZ F0+h3azyciZmCeyvhew+RZ1Xd8qRbb+WVbFLHpX6d7EbzNSyVCUwr9H+pIwBT3ggZq5l7/wxtEY v+LvSAai30HCLLN/mdE1G2vI+NH2muQv7jPA3PeHyPvh6JebhWlk5BJgthYcTSSFCXhjIdRwLJW e2TohnAaQYKPkklx+WvhjZsN6zpyR/x5QxNMhpy5nQ== X-Google-Smtp-Source: AGHT+IETFaaKgW3Uh3qoMXqPfA50e13NbX0Z/y5oTs2viD1mIl6Vwx5jDCy7r9M4h9SyYivZTGBslsK0pY4D X-Received: by 2002:a05:6870:14d4:b0:27d:10f5:347 with SMTP id 586e51a60fabf-2b804f4ebd6mr5020253fac.15.1738860479314; Thu, 06 Feb 2025 08:47:59 -0800 (PST) Received: from postal.iol.unh.edu (postal.iol.unh.edu. [2606:4100:3880:1234::84]) by smtp-relay.gmail.com with ESMTPS id 586e51a60fabf-2b825fb7906sm64804fac.9.2025.02.06.08.47.59 (version=TLS1_2 cipher=ECDHE-ECDSA-AES128-GCM-SHA256 bits=128/128); Thu, 06 Feb 2025 08:47:59 -0800 (PST) X-Relaying-Domain: iol.unh.edu Date: Thu, 06 Feb 2025 08:47:59 -0800 (PST) Message-ID: <67a4e7bf.050a0220.f6ced.3689SMTPIN_ADDED_MISSING@mx.google.com> Received: from [172.21.0.5] (unknown [172.18.0.240]) by postal.iol.unh.edu (Postfix) with ESMTP id DB1A46052471; Thu, 6 Feb 2025 11:47:58 -0500 (EST) Subject: |SUCCESS| pw151039 [PATCH] [v7,1/1] graph: mcore: optimize graph sea From: dpdklab@iol.unh.edu To: Test Report Cc: dpdk-test-reports@iol.unh.edu In-Reply-To: <20250206025322.2182-1-chcchc88@163.com> References: <20250206025322.2182-1-chcchc88@163.com> Content-Type: text/plain X-BeenThere: test-report@dpdk.org X-Mailman-Version: 2.1.29 Precedence: list List-Id: automatic DPDK test reports List-Unsubscribe: , List-Archive: List-Post: List-Help: List-Subscribe: , Errors-To: test-report-bounces@dpdk.org Test-Label: iol-compile-arm64-testing Test-Status: SUCCESS http://dpdk.org/patch/151039 _Testing PASS_ Submitter: Huichao Cai Date: Thursday, February 06 2025 02:53:22 DPDK git baseline: Repo:dpdk Branch: master CommitID:32c18e7364e30a8e43cc7cc6709a7ce606fa285e 151039 --> testing pass Upstream job id: Generic-DPDK-Compile-Meson#358433 Test environment and result as below: +----------------------------------------+--------------------+ | Environment | dpdk_meson_compile | +========================================+====================+ | RHEL9 (ARM) | PASS | +----------------------------------------+--------------------+ | Ubuntu 20.04 ARM GCC Cross Compile | PASS | +----------------------------------------+--------------------+ | Ubuntu 20.04 ARM SVE | PASS | +----------------------------------------+--------------------+ | Debian 12 with MUSDK | PASS | +----------------------------------------+--------------------+ | Fedora 40 (ARM) | PASS | +----------------------------------------+--------------------+ | Fedora 40 (ARM Clang) | PASS | +----------------------------------------+--------------------+ | Fedora 41 (ARM) | PASS | +----------------------------------------+--------------------+ | Fedora 41 (ARM Clang) | PASS | +----------------------------------------+--------------------+ | Ubuntu 20.04 (ARM) | PASS | +----------------------------------------+--------------------+ | Ubuntu 22.04 (ARM) | PASS | +----------------------------------------+--------------------+ | Ubuntu 24.04 (ARM) | PASS | +----------------------------------------+--------------------+ | CentOS Stream 9 (ARM) | PASS | +----------------------------------------+--------------------+ | Debian 11 (Buster) (ARM) | PASS | +----------------------------------------+--------------------+ | Debian 12 (arm) | PASS | +----------------------------------------+--------------------+ | Ubuntu 20.04 ARM Clang Cross Compile | PASS | +----------------------------------------+--------------------+ | Ubuntu 20.04 aarch32 GCC Cross Compile | PASS | +----------------------------------------+--------------------+ RHEL9 (ARM) Kernel: Depends on container host Compiler: gcc 11.5.0 20240719 (Red Hat 11.5.0-2) Ubuntu 20.04 ARM GCC Cross Compile Kernel: Depends on container host Compiler: aarch64-linux-gnu-gcc (Ubuntu 9.4.0-1ubuntu1~20.04.2) 9.4.0 Ubuntu 20.04 ARM SVE Kernel: Depends on container host Compiler: gcc (Ubuntu 10.5.0-1ubuntu1~20.04) 10.5.0 Debian 12 with MUSDK Kernel: Depends on container host Compiler: gcc (Debian 12.2.0-14) 12.2.0 Fedora 40 (ARM) Kernel: Depends on container host Compiler: gcc 14.2.1 20240912 (Red Hat 14.2.1-3) Fedora 40 (ARM Clang) Kernel: Depends on container host Compiler: clang 18.1.8 (Fedora 18.1.8-1.fc40) Fedora 41 (ARM) Kernel: Depends on container host Compiler: gcc 14.2.1 20240912 (Red Hat 14.2.1-3) Fedora 41 (ARM Clang) Kernel: Depends on container host Compiler: clang 19.1.5 (Fedora 19.1.5-1.fc41) Ubuntu 20.04 (ARM) Kernel: Depends on container host Compiler: gcc (Ubuntu 9.4.0-1ubuntu1~20.04.2) 9.4.0 Ubuntu 22.04 (ARM) Kernel: Depends on container host Compiler: gcc (Ubuntu 11.4.0-1ubuntu1~22.04) 11.4.0 Ubuntu 24.04 (ARM) Kernel: Depends on container host Compiler: gcc (Ubuntu 13.3.0-6ubuntu2~24.04) 13.3.0 CentOS Stream 9 (ARM) Kernel: Depends on container host Compiler: gcc 11.5.0 20240719 (Red Hat 11.5.0-2) Debian 11 (Buster) (ARM) Kernel: Depends on container host Compiler: gcc (Debian 10.2.1-6) 10.2.1 20210110 Debian 12 (arm) Kernel: Depends on container host Compiler: gcc (Debian 12.2.0-14) 12.2.0 Ubuntu 20.04 ARM Clang Cross Compile Kernel: Depends on container host Compiler: clang 10.0.0-4ubuntu1 Ubuntu 20.04 aarch32 GCC Cross Compile Kernel: Depends on container host Compiler: gcc 9.4.0 To view detailed results, visit: https://lab.dpdk.org/results/dashboard/patchsets/32508/ UNH-IOL DPDK Community Lab To manage your email subscriptions, visit: https://lab.dpdk.org/results/dashboard/preferences/subscriptions/