From mboxrd@z Thu Jan 1 00:00:00 1970 Return-Path: Received: from mails.dpdk.org (mails.dpdk.org [217.70.189.124]) by inbox.dpdk.org (Postfix) with ESMTP id 06FDB4619D for ; Thu, 6 Feb 2025 18:13:49 +0100 (CET) Received: from mails.dpdk.org (localhost [127.0.0.1]) by mails.dpdk.org (Postfix) with ESMTP id 0307A40E49; Thu, 6 Feb 2025 18:13:49 +0100 (CET) Received: from mail-oa1-f97.google.com (mail-oa1-f97.google.com [209.85.160.97]) by mails.dpdk.org (Postfix) with ESMTP id 8B3EB402F1 for ; Thu, 6 Feb 2025 18:13:47 +0100 (CET) Received: by mail-oa1-f97.google.com with SMTP id 586e51a60fabf-2b7f4ed0468so587570fac.0 for ; Thu, 06 Feb 2025 09:13:47 -0800 (PST) DKIM-Signature: v=1; a=rsa-sha256; c=relaxed/relaxed; d=iol.unh.edu; s=unh-iol; t=1738862026; x=1739466826; darn=dpdk.org; h=references:in-reply-to:cc:to:from:subject:message-id:date:from:to :cc:subject:date:message-id:reply-to; bh=jT0+0p1H6olR2FYKKEpF+1exqjhp6CBeo/4BJELRS30=; b=eWFsA6YbY++R7miymht/5hNCDkNwDos1p0ec/lABz6oPb8eLX5rBwSKuyzl80ZTC/R 6w/tvOgd8cEvz24kvUWc2t8Lz0jz8JZxbhwJMOVzxY/Fjv3sEPVxtRhuKd822OEm6qje Ij6wecB4rgq0iHB0GOgg2ArkdWK+UGZz5VyTw= X-Google-DKIM-Signature: v=1; a=rsa-sha256; c=relaxed/relaxed; d=1e100.net; s=20230601; t=1738862026; x=1739466826; h=references:in-reply-to:cc:to:from:subject:message-id:date :x-gm-message-state:from:to:cc:subject:date:message-id:reply-to; bh=jT0+0p1H6olR2FYKKEpF+1exqjhp6CBeo/4BJELRS30=; b=dmjgyYE7etXdqSJp2GtzplG/6Y7Pz8/7bvyl0d5Yjy8UceiqhXW7e7rIcfVbG3l4vM h8v9R+vS11I0PHsCsAdvmQf82pFAD8UHeWf1V81XINrN3aN92esfbg8ufDjX/xlpkY2D OViEX03ahQSZjkHJFhZ48DMmTISd8DIsOponhN7osUqZvGM2QsLgal6Rnw8oSoNQg7fN POR9lYRo1isyWgoFIZvbC2MbkaJzNFpDRcU1w7NUdk/tdxf8HV3pI+n+/qa1jMzqGrTR eyqPvY9HNE60RbKLIVZtBsRMVTkEiXyioNkrMncb4i4cLBAcd5/zQrfLdMECTeo3IDCz uF/Q== X-Gm-Message-State: AOJu0Yy0SgIEFejaFAS8/N86Ju1sMX050cFjQoaJVbEFSC6Gu/oI1Nbb wdVyQFjFmCmMJTTVOWb9AFTJbpelnvc8gZu6HmQiLNWmGfQNnBXqCAGZqpegxzNubj9mhjltqCs 3SEIWiDCKgnXMzK8/LhIx2euoWmy0jqt8cCM58510XTBFsZuE2pVVISMQ X-Gm-Gg: ASbGncuLRcl4gTPgManf/PaZE7xPgPAzAVbuheZaHPLVR5t98qiNER8abpt36VboEyJ AaeiJ1Y6ZkUaZFxAz/wlqiPASnIo2NGR4tOGU37V7mtLNFrrOFlo9d2+Z/uOHnumXl2jHDbK1gW +wv82q0o+zzDVlqyqPnp8gIEYXysqWeo4s+LzSIUv1qpCHozhi/4rbc9GUSLjzdtd/nhw2hDWkV gC2p/uXs2lKXlTyI9J35bjphfgsiMITRxzr+CwiNeaS+plAwtnIBSlNhGPZETfYx5OMbZ34UfnG Md+GP64BauwEhAvDvVorOEYTywdFTUiVyl5vw1k9Xg== X-Google-Smtp-Source: AGHT+IHFDR7m/ojn125OTsHqNTwvaH/CFoleNDUbPvvNPaWd0tNClyP34yDg0z+Xs1HhT0cZnzkOgxJVA9sQ X-Received: by 2002:a05:6871:209:b0:29e:29e1:db1d with SMTP id 586e51a60fabf-2b804ef046emr4970694fac.3.1738862026724; Thu, 06 Feb 2025 09:13:46 -0800 (PST) Received: from postal.iol.unh.edu (postal.iol.unh.edu. [2606:4100:3880:1234::84]) by smtp-relay.gmail.com with ESMTPS id 586e51a60fabf-2b825e3c80asm89869fac.6.2025.02.06.09.13.46 (version=TLS1_2 cipher=ECDHE-ECDSA-AES128-GCM-SHA256 bits=128/128); Thu, 06 Feb 2025 09:13:46 -0800 (PST) X-Relaying-Domain: iol.unh.edu Date: Thu, 06 Feb 2025 09:13:46 -0800 (PST) Message-ID: <67a4edca.050a0220.1d8c15.5920SMTPIN_ADDED_MISSING@mx.google.com> Received: from [172.21.0.7] (unknown [172.18.0.240]) by postal.iol.unh.edu (Postfix) with ESMTP id 36E0F6052471; Thu, 6 Feb 2025 12:13:46 -0500 (EST) Subject: |SUCCESS| pw151013-151029 [PATCH] [v22,27/27] config: add -Wvla proj From: dpdklab@iol.unh.edu To: Test Report Cc: dpdk-test-reports@iol.unh.edu In-Reply-To: <1738805610-17507-28-git-send-email-andremue@linux.microsoft.com> References: <1738805610-17507-28-git-send-email-andremue@linux.microsoft.com> Content-Type: text/plain X-BeenThere: test-report@dpdk.org X-Mailman-Version: 2.1.29 Precedence: list List-Id: automatic DPDK test reports List-Unsubscribe: , List-Archive: List-Post: List-Help: List-Subscribe: , Errors-To: test-report-bounces@dpdk.org Test-Label: iol-compile-arm64-testing Test-Status: SUCCESS http://dpdk.org/patch/151029 _Testing PASS_ Submitter: Andre Muezerie Date: Thursday, February 06 2025 01:33:30 DPDK git baseline: Repo:dpdk Branch: master CommitID:32c18e7364e30a8e43cc7cc6709a7ce606fa285e 151013-151029 --> testing pass Upstream job id: Generic-DPDK-Compile-Meson#358407 Test environment and result as below: +----------------------------------------+--------------------+ | Environment | dpdk_meson_compile | +========================================+====================+ | RHEL9 (ARM) | PASS | +----------------------------------------+--------------------+ | Ubuntu 20.04 ARM GCC Cross Compile | PASS | +----------------------------------------+--------------------+ | Ubuntu 20.04 ARM SVE | PASS | +----------------------------------------+--------------------+ | Debian 12 with MUSDK | PASS | +----------------------------------------+--------------------+ | Fedora 40 (ARM) | PASS | +----------------------------------------+--------------------+ | Fedora 40 (ARM Clang) | PASS | +----------------------------------------+--------------------+ | Fedora 41 (ARM) | PASS | +----------------------------------------+--------------------+ | Fedora 41 (ARM Clang) | PASS | +----------------------------------------+--------------------+ | Ubuntu 20.04 (ARM) | PASS | +----------------------------------------+--------------------+ | Ubuntu 22.04 (ARM) | PASS | +----------------------------------------+--------------------+ | Ubuntu 24.04 (ARM) | PASS | +----------------------------------------+--------------------+ | CentOS Stream 9 (ARM) | PASS | +----------------------------------------+--------------------+ | Debian 11 (Buster) (ARM) | PASS | +----------------------------------------+--------------------+ | Debian 12 (arm) | PASS | +----------------------------------------+--------------------+ | Ubuntu 20.04 ARM Clang Cross Compile | PASS | +----------------------------------------+--------------------+ | Ubuntu 20.04 aarch32 GCC Cross Compile | PASS | +----------------------------------------+--------------------+ RHEL9 (ARM) Kernel: Depends on container host Compiler: gcc 11.5.0 20240719 (Red Hat 11.5.0-2) Ubuntu 20.04 ARM GCC Cross Compile Kernel: Depends on container host Compiler: aarch64-linux-gnu-gcc (Ubuntu 9.4.0-1ubuntu1~20.04.2) 9.4.0 Ubuntu 20.04 ARM SVE Kernel: Depends on container host Compiler: gcc (Ubuntu 10.5.0-1ubuntu1~20.04) 10.5.0 Debian 12 with MUSDK Kernel: Depends on container host Compiler: gcc (Debian 12.2.0-14) 12.2.0 Fedora 40 (ARM) Kernel: Depends on container host Compiler: gcc 14.2.1 20240912 (Red Hat 14.2.1-3) Fedora 40 (ARM Clang) Kernel: Depends on container host Compiler: clang 18.1.8 (Fedora 18.1.8-1.fc40) Fedora 41 (ARM) Kernel: Depends on container host Compiler: gcc 14.2.1 20240912 (Red Hat 14.2.1-3) Fedora 41 (ARM Clang) Kernel: Depends on container host Compiler: clang 19.1.5 (Fedora 19.1.5-1.fc41) Ubuntu 20.04 (ARM) Kernel: Depends on container host Compiler: gcc (Ubuntu 9.4.0-1ubuntu1~20.04.2) 9.4.0 Ubuntu 22.04 (ARM) Kernel: Depends on container host Compiler: gcc (Ubuntu 11.4.0-1ubuntu1~22.04) 11.4.0 Ubuntu 24.04 (ARM) Kernel: Depends on container host Compiler: gcc (Ubuntu 13.3.0-6ubuntu2~24.04) 13.3.0 CentOS Stream 9 (ARM) Kernel: Depends on container host Compiler: gcc 11.5.0 20240719 (Red Hat 11.5.0-2) Debian 11 (Buster) (ARM) Kernel: Depends on container host Compiler: gcc (Debian 10.2.1-6) 10.2.1 20210110 Debian 12 (arm) Kernel: Depends on container host Compiler: gcc (Debian 12.2.0-14) 12.2.0 Ubuntu 20.04 ARM Clang Cross Compile Kernel: Depends on container host Compiler: clang 10.0.0-4ubuntu1 Ubuntu 20.04 aarch32 GCC Cross Compile Kernel: Depends on container host Compiler: gcc 9.4.0 To view detailed results, visit: https://lab.dpdk.org/results/dashboard/patchsets/32507/ UNH-IOL DPDK Community Lab To manage your email subscriptions, visit: https://lab.dpdk.org/results/dashboard/preferences/subscriptions/