From mboxrd@z Thu Jan 1 00:00:00 1970 Return-Path: Received: from mails.dpdk.org (mails.dpdk.org [217.70.189.124]) by inbox.dpdk.org (Postfix) with ESMTP id 36E7B4619D for ; Thu, 6 Feb 2025 18:15:12 +0100 (CET) Received: from mails.dpdk.org (localhost [127.0.0.1]) by mails.dpdk.org (Postfix) with ESMTP id 2F20640E49; Thu, 6 Feb 2025 18:15:12 +0100 (CET) Received: from mail-qv1-f99.google.com (mail-qv1-f99.google.com [209.85.219.99]) by mails.dpdk.org (Postfix) with ESMTP id 9DB6A402F1 for ; Thu, 6 Feb 2025 18:15:11 +0100 (CET) Received: by mail-qv1-f99.google.com with SMTP id 6a1803df08f44-6e442b79de4so2685076d6.2 for ; Thu, 06 Feb 2025 09:15:11 -0800 (PST) DKIM-Signature: v=1; a=rsa-sha256; c=relaxed/relaxed; d=iol.unh.edu; s=unh-iol; t=1738862111; x=1739466911; darn=dpdk.org; h=references:in-reply-to:cc:to:from:subject:message-id:date:from:to :cc:subject:date:message-id:reply-to; bh=nQVfo/4wkZ25Lm2DLi7vAef9Vr09z4BASoZthDyw6vI=; b=hZO4oyMjcF55zzoEU/DblM2rS/ubwypEOU12vnyBdbRGLerkzteuXKNQp5pfej7dDz qLYWjAn2+jrEBYX7aclePPJp8qzHl20lySFnE9lOo1MtgM7kXjoB2bxy1vJV6rLjOvHo GJduJRRw9uqE2v07TTm3DJpTRuBj1couZrI0Y= X-Google-DKIM-Signature: v=1; a=rsa-sha256; c=relaxed/relaxed; d=1e100.net; s=20230601; t=1738862111; x=1739466911; h=references:in-reply-to:cc:to:from:subject:message-id:date :x-gm-message-state:from:to:cc:subject:date:message-id:reply-to; bh=nQVfo/4wkZ25Lm2DLi7vAef9Vr09z4BASoZthDyw6vI=; b=lQ5axZXODqss8eWH+MGYmZkAdHDbe3OhoaLkzlCtErQyovPQKEtXfRNiwnQ8PHL9QK CdUB/ZgDpZdXRPfi/bh4F/OJODs8OkbUahChhHsyboPA/49XWVhwR3BTAAZM83K9/zlP MRQhL0NNuEnUra+nH2nWIhjZpaeGqjXETDKVfdpOaea6j8C6ONyvbNritbBbd+vkT9GQ UMV6UNrzERDpoU67i1i47TyHDkSCIYITsMhG3xBozRVsKC9JdC36qKe6NowoOPWO5Gnh ZOKRlR1Y4KjQ3+nwyR9SskCxZoOCgioFOysLzbWI03x17Jud2eifTLMKRXQDkEfb55lc 0UYA== X-Gm-Message-State: AOJu0YwXULHgusmLzjmHF3CoZZnVTRlofNvAiV448jFwLYDqEx9HJ4My xaEtoHbcwConr2Wv+3ewpcKwnlCpgvsaenrg5Iwf0Tf3Qy+ucupxFJx9zvYEQfEiWtDeh4shHU7 GWeGYN8GaczK7b2unfvIGpMDNG64KnJgqP5+HvtPN X-Gm-Gg: ASbGncufZh2XmioK7c3iIxx1Nz7Xu9eXP0fapy8w/l8h1p9Xp/RnJulOcX7RLNGsxsP zSx7NGVuBVGCeWuDXJnUtp0AOuf7GVRylTB4TXjp9mtsXp+cAjIxXRKhHg4QgEtD+TPWJrbxq7Y /A95/hY4T+k01oQI5FZeXTbFk0E1zGUGtpjDToEG8yL9QKM8MUyR4DJ0who04ih34w70jaEA18T U1i4aSu8hRLGEvbqi6+ON4Tc/j9hSoT9QKHAuwlJcb5Q1qktrpUDWg8La2wFxUQw2DqAgL/MeId SOv9suE3miCR0QJ5q6tOrsk2PSPJ/g== X-Google-Smtp-Source: AGHT+IGXUkBlFxZ3L2yOxRn2ZwYGuewbelLHStyWkGpdYUHIbT6qFmmP9L6z+IteHLRQ2W97zmCCk6xtpTre X-Received: by 2002:a05:6214:1d0d:b0:6e4:4331:aae0 with SMTP id 6a1803df08f44-6e44331ae24mr6014886d6.1.1738862110891; Thu, 06 Feb 2025 09:15:10 -0800 (PST) Received: from postal.iol.unh.edu (postal.iol.unh.edu. [132.177.123.84]) by smtp-relay.gmail.com with ESMTPS id 6a1803df08f44-6e43bb0a455sm1002866d6.59.2025.02.06.09.15.10 (version=TLS1_2 cipher=ECDHE-ECDSA-AES128-GCM-SHA256 bits=128/128); Thu, 06 Feb 2025 09:15:10 -0800 (PST) X-Relaying-Domain: iol.unh.edu Date: Thu, 06 Feb 2025 09:15:10 -0800 (PST) Message-ID: <67a4ee1e.050a0220.262132.5bb6SMTPIN_ADDED_MISSING@mx.google.com> Received: from [172.21.0.6] (unknown [172.18.0.240]) by postal.iol.unh.edu (Postfix) with ESMTP id 93AB56052471; Thu, 6 Feb 2025 12:15:10 -0500 (EST) Subject: |SUCCESS| pw151013-151029 [PATCH] [v22,27/27] config: add -Wvla proj From: dpdklab@iol.unh.edu To: Test Report Cc: dpdk-test-reports@iol.unh.edu In-Reply-To: <1738805610-17507-28-git-send-email-andremue@linux.microsoft.com> References: <1738805610-17507-28-git-send-email-andremue@linux.microsoft.com> Content-Type: text/plain X-BeenThere: test-report@dpdk.org X-Mailman-Version: 2.1.29 Precedence: list List-Id: automatic DPDK test reports List-Unsubscribe: , List-Archive: List-Post: List-Help: List-Subscribe: , Errors-To: test-report-bounces@dpdk.org Test-Label: iol-compile-arm64-testing Test-Status: SUCCESS http://dpdk.org/patch/151029 _Testing PASS_ Submitter: Andre Muezerie Date: Thursday, February 06 2025 01:33:30 DPDK git baseline: Repo:dpdk Branch: master CommitID:32c18e7364e30a8e43cc7cc6709a7ce606fa285e 151013-151029 --> testing pass Upstream job id: Generic-DPDK-Compile-Meson#358409 Test environment and result as below: +----------------------------------------+--------------------+ | Environment | dpdk_meson_compile | +========================================+====================+ | RHEL9 (ARM) | PASS | +----------------------------------------+--------------------+ | Ubuntu 20.04 ARM GCC Cross Compile | PASS | +----------------------------------------+--------------------+ | Ubuntu 20.04 ARM SVE | PASS | +----------------------------------------+--------------------+ | Debian 12 with MUSDK | PASS | +----------------------------------------+--------------------+ | Fedora 40 (ARM) | PASS | +----------------------------------------+--------------------+ | Fedora 40 (ARM Clang) | PASS | +----------------------------------------+--------------------+ | Fedora 41 (ARM) | PASS | +----------------------------------------+--------------------+ | Fedora 41 (ARM Clang) | PASS | +----------------------------------------+--------------------+ | Ubuntu 20.04 (ARM) | PASS | +----------------------------------------+--------------------+ | Ubuntu 22.04 (ARM) | PASS | +----------------------------------------+--------------------+ | Ubuntu 24.04 (ARM) | PASS | +----------------------------------------+--------------------+ | CentOS Stream 9 (ARM) | PASS | +----------------------------------------+--------------------+ | Debian 11 (Buster) (ARM) | PASS | +----------------------------------------+--------------------+ | Debian 12 (arm) | PASS | +----------------------------------------+--------------------+ | Ubuntu 20.04 ARM Clang Cross Compile | PASS | +----------------------------------------+--------------------+ | Ubuntu 20.04 aarch32 GCC Cross Compile | PASS | +----------------------------------------+--------------------+ RHEL9 (ARM) Kernel: Depends on container host Compiler: gcc 11.5.0 20240719 (Red Hat 11.5.0-2) Ubuntu 20.04 ARM GCC Cross Compile Kernel: Depends on container host Compiler: aarch64-linux-gnu-gcc (Ubuntu 9.4.0-1ubuntu1~20.04.2) 9.4.0 Ubuntu 20.04 ARM SVE Kernel: Depends on container host Compiler: gcc (Ubuntu 10.5.0-1ubuntu1~20.04) 10.5.0 Debian 12 with MUSDK Kernel: Depends on container host Compiler: gcc (Debian 12.2.0-14) 12.2.0 Fedora 40 (ARM) Kernel: Depends on container host Compiler: gcc 14.2.1 20240912 (Red Hat 14.2.1-3) Fedora 40 (ARM Clang) Kernel: Depends on container host Compiler: clang 18.1.8 (Fedora 18.1.8-1.fc40) Fedora 41 (ARM) Kernel: Depends on container host Compiler: gcc 14.2.1 20240912 (Red Hat 14.2.1-3) Fedora 41 (ARM Clang) Kernel: Depends on container host Compiler: clang 19.1.5 (Fedora 19.1.5-1.fc41) Ubuntu 20.04 (ARM) Kernel: Depends on container host Compiler: gcc (Ubuntu 9.4.0-1ubuntu1~20.04.2) 9.4.0 Ubuntu 22.04 (ARM) Kernel: Depends on container host Compiler: gcc (Ubuntu 11.4.0-1ubuntu1~22.04) 11.4.0 Ubuntu 24.04 (ARM) Kernel: Depends on container host Compiler: gcc (Ubuntu 13.3.0-6ubuntu2~24.04) 13.3.0 CentOS Stream 9 (ARM) Kernel: Depends on container host Compiler: gcc 11.5.0 20240719 (Red Hat 11.5.0-2) Debian 11 (Buster) (ARM) Kernel: Depends on container host Compiler: gcc (Debian 10.2.1-6) 10.2.1 20210110 Debian 12 (arm) Kernel: Depends on container host Compiler: gcc (Debian 12.2.0-14) 12.2.0 Ubuntu 20.04 ARM Clang Cross Compile Kernel: Depends on container host Compiler: clang 10.0.0-4ubuntu1 Ubuntu 20.04 aarch32 GCC Cross Compile Kernel: Depends on container host Compiler: gcc 9.4.0 To view detailed results, visit: https://lab.dpdk.org/results/dashboard/patchsets/32507/ UNH-IOL DPDK Community Lab To manage your email subscriptions, visit: https://lab.dpdk.org/results/dashboard/preferences/subscriptions/