From mboxrd@z Thu Jan 1 00:00:00 1970 Return-Path: Received: from mails.dpdk.org (mails.dpdk.org [217.70.189.124]) by inbox.dpdk.org (Postfix) with ESMTP id 593274619D for ; Thu, 6 Feb 2025 18:16:16 +0100 (CET) Received: from mails.dpdk.org (localhost [127.0.0.1]) by mails.dpdk.org (Postfix) with ESMTP id 536B740E49; Thu, 6 Feb 2025 18:16:16 +0100 (CET) Received: from mail-pl1-f227.google.com (mail-pl1-f227.google.com [209.85.214.227]) by mails.dpdk.org (Postfix) with ESMTP id B35DE402F1 for ; Thu, 6 Feb 2025 18:16:14 +0100 (CET) Received: by mail-pl1-f227.google.com with SMTP id d9443c01a7336-21f3328f72aso13338625ad.3 for ; Thu, 06 Feb 2025 09:16:14 -0800 (PST) DKIM-Signature: v=1; a=rsa-sha256; c=relaxed/relaxed; d=iol.unh.edu; s=unh-iol; t=1738862174; x=1739466974; darn=dpdk.org; h=cc:to:from:subject:message-id:date:from:to:cc:subject:date :message-id:reply-to; bh=wUS5BNMqhmv8aXw29pc+KjpFqAvm2qcoN0UlETv8+Yg=; b=dxxcDnL687O7GNmvPClu/0Xf/W6RwzCW38rS8HaVzMck8qnN07pui0oMZiVPe/oFls OCWJzzIIrUnSNSoafpB6PPBe0f/z/3/oYjlqpY7pbloLqSS1w7oOQ7JELr5S0mf9+V5L GecrrLpMVIoVAIs/ueSpHa1hMunFjLwQ6FipQ= X-Google-DKIM-Signature: v=1; a=rsa-sha256; c=relaxed/relaxed; d=1e100.net; s=20230601; t=1738862174; x=1739466974; h=cc:to:from:subject:message-id:date:x-gm-message-state:from:to:cc :subject:date:message-id:reply-to; bh=wUS5BNMqhmv8aXw29pc+KjpFqAvm2qcoN0UlETv8+Yg=; b=UofKEWZrRz2FWPjQEpneM6neeppZO6hHhWgCNl+Q9LekNMSBuFPllCL2x7edJPr61H irrUtkJ6L0TSeFMseJDCOcfA9ZOkyk8UlQ30MaZa5HLGZgCTvx06qjvt48nsLTJs5LAr ZuSvnn+nXnF73vA00JVTOQFDv+vDOc5tFfkFK2Yz0y4nzZvuW9+qghzZhOldeMYaZ6D4 SPeDyicY2aQyMhB5NNRdKj+olylMhwBDJJJBh7vNX3bfcZlDqGpAeAESv2ML9CZIy8/g DG41/JzhCCQU4UiITU6ZiBHsVRsRZGs9Ir6fTTiIJeNDkSUVVtBclPi8sdh5bhmis+ie HiFg== X-Gm-Message-State: AOJu0Yy5sYlA6IadQlDNx0PrpmWKJcjr/04uPxeWtwSWJvLwkvvYndWL 51Kb2Ior96Ig0jBkTE6Uvi9yU6bdlqmmiwQW+HDq3Y6kp3VVZwDg52CGInptawGJA9R3+6AR6xx IXAr5ngvnnK1ooYK40MX2qlKYWT0MoypOpI4ozPUUvO26xw9P X-Gm-Gg: ASbGncvLUTiVmzpF19rVfodDJlq/9cV6I+DP36nc3wsv0KA57scnu7NiLXO6SBkUHRn x27tgGZlIdtNt/Flc6WumlYWOuBdC9ALgajsIYr5NDvLe3DeSjpeOFQhAV872Ow4akDMFEoCmIF NiC7byKxdXUCQZCI+hUOdxACynBqrjvUuJ/qjPqRsZN1twhUK31QDNul+tlJAWt17mB2BEbLiG7 zc1luAtFjwiMnQV96RRn87vlqN9Nc7LW255mRhBi0N/lL9N2Qgw5JqEGjp86FdGUdsS50FznSaO oQUGcvKj+N82LYqQGmgyL0FG3SL8cLZZezGID0e4lg== X-Google-Smtp-Source: AGHT+IH+UXs7KAufPzxVYjkYtO7OokgZa+Q4WCSbLRABb5gEIjN0YlDzt0Dtkve1QD2z8nPVTUvm/QnDQwbj X-Received: by 2002:a17:902:ea0c:b0:21f:4c8b:c514 with SMTP id d9443c01a7336-21f4c8bd7a2mr3109125ad.45.1738862173729; Thu, 06 Feb 2025 09:16:13 -0800 (PST) Received: from postal.iol.unh.edu (postal.iol.unh.edu. [2606:4100:3880:1234::84]) by smtp-relay.gmail.com with ESMTPS id d9443c01a7336-21f3658ba0csm660095ad.59.2025.02.06.09.16.13 (version=TLS1_2 cipher=ECDHE-ECDSA-AES128-GCM-SHA256 bits=128/128); Thu, 06 Feb 2025 09:16:13 -0800 (PST) X-Relaying-Domain: iol.unh.edu Date: Thu, 06 Feb 2025 09:16:13 -0800 (PST) Message-ID: <67a4ee5d.170a0220.1660e3.3c78SMTPIN_ADDED_MISSING@mx.google.com> Received: from [172.21.0.7] (unknown [172.18.0.240]) by postal.iol.unh.edu (Postfix) with ESMTP id 1FF0F6052471; Thu, 6 Feb 2025 12:16:13 -0500 (EST) Subject: |SUCCESS| [GIT MASTER] f2eea2f37a82bb73fb01d56350708f7d70e21379 From: dpdklab@iol.unh.edu To: Test Report Cc: dpdk-test-reports@iol.unh.edu, Xueming Li , Christian Ehrhardt , Kevin Traynor , Luca Boccassi Content-Type: text/plain X-BeenThere: test-report@dpdk.org X-Mailman-Version: 2.1.29 Precedence: list List-Id: automatic DPDK test reports List-Unsubscribe: , List-Archive: List-Post: List-Help: List-Subscribe: , Errors-To: test-report-bounces@dpdk.org _Testing PASS_ Branch: tags/v24.11 f2eea2f37a82bb73fb01d56350708f7d70e21379 --> testing pass Upstream job id: Generic-DPDK-Compile-Meson#358453 Test environment and result as below: +---------------------+-------------------+--------------------+-------------------------+----------------------+------------------+-------------------+ | Environment | dpdk_msvc_compile | dpdk_meson_compile | dpdk_llvm_clang_compile | dpdk_mingw64_compile | dpdk_compile_ovs | dpdk_compile_spdk | +=====================+===================+====================+=========================+======================+==================+===================+ | Windows Server 2022 | PASS | SKIPPED | PASS | PASS | SKIPPED | SKIPPED | +---------------------+-------------------+--------------------+-------------------------+----------------------+------------------+-------------------+ | FreeBSD 13.4 | SKIPPED | PASS | SKIPPED | SKIPPED | SKIPPED | SKIPPED | +---------------------+-------------------+--------------------+-------------------------+----------------------+------------------+-------------------+ | FreeBSD 14.2 | SKIPPED | PASS | SKIPPED | SKIPPED | SKIPPED | SKIPPED | +---------------------+-------------------+--------------------+-------------------------+----------------------+------------------+-------------------+ | CentOS Stream 9 | SKIPPED | PASS | SKIPPED | SKIPPED | PASS | PASS | +---------------------+-------------------+--------------------+-------------------------+----------------------+------------------+-------------------+ | Debian Bullseye | SKIPPED | PASS | SKIPPED | SKIPPED | PASS | PASS | +---------------------+-------------------+--------------------+-------------------------+----------------------+------------------+-------------------+ | Debian 12 | SKIPPED | PASS | SKIPPED | SKIPPED | PASS | PASS | +---------------------+-------------------+--------------------+-------------------------+----------------------+------------------+-------------------+ | Fedora 40 (Clang) | SKIPPED | PASS | SKIPPED | SKIPPED | PASS | PASS | +---------------------+-------------------+--------------------+-------------------------+----------------------+------------------+-------------------+ | Fedora 40 | SKIPPED | PASS | SKIPPED | SKIPPED | PASS | PASS | +---------------------+-------------------+--------------------+-------------------------+----------------------+------------------+-------------------+ | Fedora 41 (Clang) | SKIPPED | PASS | SKIPPED | SKIPPED | PASS | PASS | +---------------------+-------------------+--------------------+-------------------------+----------------------+------------------+-------------------+ | Fedora 41 | SKIPPED | PASS | SKIPPED | SKIPPED | PASS | PASS | +---------------------+-------------------+--------------------+-------------------------+----------------------+------------------+-------------------+ | openSUSE Leap 15 | SKIPPED | PASS | SKIPPED | SKIPPED | SKIPPED | SKIPPED | +---------------------+-------------------+--------------------+-------------------------+----------------------+------------------+-------------------+ | RHEL8 | SKIPPED | PASS | SKIPPED | SKIPPED | PASS | SKIPPED | +---------------------+-------------------+--------------------+-------------------------+----------------------+------------------+-------------------+ | RHEL9 | SKIPPED | PASS | SKIPPED | SKIPPED | PASS | SKIPPED | +---------------------+-------------------+--------------------+-------------------------+----------------------+------------------+-------------------+ | Ubuntu 20.04 | SKIPPED | PASS | SKIPPED | SKIPPED | SKIPPED | SKIPPED | +---------------------+-------------------+--------------------+-------------------------+----------------------+------------------+-------------------+ | Ubuntu 22.04 | SKIPPED | PASS | SKIPPED | SKIPPED | PASS | PASS | +---------------------+-------------------+--------------------+-------------------------+----------------------+------------------+-------------------+ | Ubuntu 24.04 | SKIPPED | PASS | SKIPPED | SKIPPED | PASS | PASS | +---------------------+-------------------+--------------------+-------------------------+----------------------+------------------+-------------------+ | Alpine | SKIPPED | PASS | SKIPPED | SKIPPED | PASS | SKIPPED | +---------------------+-------------------+--------------------+-------------------------+----------------------+------------------+-------------------+ Windows Server 2022 Kernel: 10.0.20348.2031 Compiler: clang 15.0.7, gcc 14.1.0 (MinGW), and MSVC VS 19.39.33521 FreeBSD 13.4 Kernel: 13.4-RELEASE-p1 Compiler: clang 18.1.6 FreeBSD 14.2 Kernel: 14.2-RELEASE Compiler: clang 18.1.6 CentOS Stream 9 Kernel: Depends on container host Compiler: gcc 11.5.0 20240719 (Red Hat 11.5.0-2) Debian Bullseye Kernel: Depends on container host Compiler: gcc (Debian 10.2.1-6) 10.2.1 20210110 Debian 12 Kernel: Depends on container host Compiler: gcc (Debian 12.2.0-14) 12.2.0 Fedora 40 (Clang) Kernel: Depends on container host Compiler: clang 18.1.8 (Fedora 18.1.8-1.fc40) Fedora 40 Kernel: Depends on container host Compiler: gcc 14.2.1 20240912 (Red Hat 14.2.1-3) Fedora 41 (Clang) Kernel: Depends on container host Compiler: clang 19.1.5 (Fedora 19.1.5-1.fc41) Fedora 41 Kernel: Depends on container host Compiler: gcc 14.2.1 20240912 (Red Hat 14.2.1-3) openSUSE Leap 15 Kernel: Depends on container host Compiler: gcc (SUSE Linux) 7.5.0 RHEL8 Kernel: Depends on container host Compiler: gcc 8.5.0 20210514 (Red Hat 8.5.0-22) RHEL9 Kernel: Depends on container host Compiler: gcc 11.5.0 20240719 (Red Hat 11.5.0-2) Ubuntu 20.04 Kernel: Depends on container host Compiler: gcc (Ubuntu 9.4.0-1ubuntu1~20.04.2) 9.4.0 Ubuntu 22.04 Kernel: Depends on container host Compiler: gcc (Ubuntu 11.4.0-1ubuntu1~22.04) 11.4.0 Ubuntu 24.04 Kernel: Depends on container host Compiler: gcc (Ubuntu 13.3.0-6ubuntu2~24.04) 13.3.0 Alpine Kernel: Depends on container host Compiler: gcc (Alpine 14.2.0) 14.2.0 To view detailed results, visit: https://lab.dpdk.org/results/dashboard/tarballs/32466/ UNH-IOL DPDK Community Lab To manage your email subscriptions, visit: https://lab.dpdk.org/results/dashboard/preferences/subscriptions/