From mboxrd@z Thu Jan 1 00:00:00 1970 Return-Path: Received: from mails.dpdk.org (mails.dpdk.org [217.70.189.124]) by inbox.dpdk.org (Postfix) with ESMTP id A9B7A4619D for ; Thu, 6 Feb 2025 18:17:48 +0100 (CET) Received: from mails.dpdk.org (localhost [127.0.0.1]) by mails.dpdk.org (Postfix) with ESMTP id A453F40E49; Thu, 6 Feb 2025 18:17:48 +0100 (CET) Received: from mail-il1-f227.google.com (mail-il1-f227.google.com [209.85.166.227]) by mails.dpdk.org (Postfix) with ESMTP id A3D94402F1 for ; Thu, 6 Feb 2025 18:17:47 +0100 (CET) Received: by mail-il1-f227.google.com with SMTP id e9e14a558f8ab-3d04e7f284aso3985355ab.0 for ; Thu, 06 Feb 2025 09:17:47 -0800 (PST) DKIM-Signature: v=1; a=rsa-sha256; c=relaxed/relaxed; d=iol.unh.edu; s=unh-iol; t=1738862267; x=1739467067; darn=dpdk.org; h=references:in-reply-to:cc:to:from:subject:message-id:date:from:to :cc:subject:date:message-id:reply-to; bh=D6xfBQRhVAO08VKZ9MPUOJe+ZAjco49pgUboT9R20AM=; b=P8Vyrw2Q2Ci1iTK6VYn97r0HABaG3+vaovxxXL0sABp0m7gjvjKZgJwP2ue+gDyDSX 3Z0EUsVIV2KJNcmMu93l4bHEHUYxmnTwuNiyJqMIa7Ok7WU/h5WDs1P/9olpCBgD7Gu4 KyLlFFQJWBkVjlqaVysUz6iJdYUOQWmwiZkqE= X-Google-DKIM-Signature: v=1; a=rsa-sha256; c=relaxed/relaxed; d=1e100.net; s=20230601; t=1738862267; x=1739467067; h=references:in-reply-to:cc:to:from:subject:message-id:date :x-gm-message-state:from:to:cc:subject:date:message-id:reply-to; bh=D6xfBQRhVAO08VKZ9MPUOJe+ZAjco49pgUboT9R20AM=; b=sGVuNVvHMMupRBDFw6Oi86FRN3pU848GCQJM1G6CVHuOabXxQ9c+q7PeryJdUL8YKT jnAe+4qfI/SxDRisB2T2sV48JttTKm62VHjglMCdVJnm4mJO5MT+yI16Zzr8HlVuROBe B1SFjcvtH+6jlTTqOdFiqtpo7ZVooXyI/yH8WzUPtgJRIYysHKsBWX99LE/ttUzB+nQ5 GZAP+cjlktniC2QlcN1wRf9SNcRsmaDo1SEl73V85OYBnf3nvOsgJ4xHeMWJ4X24BT0h jMTst3z2T5OPy5P0vwDJbGls3nEJKUtygJ9lxF1Bz7DnYC07hqP7157iR/QpxS+Qv+iK ZCcA== X-Gm-Message-State: AOJu0YzRHEJ0FMzMAnMFF4iA0HoKGZ69l72GRRRSQ33BnO249IthgqNv Ix7MkE92oWINQNpKpjAKwU0rpSQBfBxIN63Bc47K6MMrDWbZ4xcLoiG+DZlkRIBGaq0i1aMohv+ VC41kSGYcWxSHQb+1HLTg9p2H9R54QxsQj6kRW0bX X-Gm-Gg: ASbGncvfVAQ/EGHncY/uyCIxpRqHj6EZ2CamvLXHdyaKcdYyYnqcE+RClaKg7lrlAA3 +Jt9jS9icHwJTfpNEPWEk69VQhYgf8xZO/B7PWHYxqbGa8hgJ+AztCOg17h7ZsOhYBhyI8uze18 fGb4MX3X4jnSQXGPNagPXz/Si+3/wqg3Gh0PBLMgYn2IsCmUY4Ou0QdVuw3FxkQrXMnryS2QP8i RfksWgsRA/A76QAXS1x9I0a9S6FUIs34INFjuPSwqxpuPzqglxFM2NrN2E2Qx6lJ0/kHOoIHhvX 3MltFlrDDgp4Vaq+Hhr80hzOg30jqQ== X-Google-Smtp-Source: AGHT+IGYmRiwO0sS5wJsqgZiZVBjlidF1b7v8C8FZDl7Sp86khjwUvR6CTYaG/PiFq2KQuFBLv5xcQJabBum X-Received: by 2002:a05:6e02:b22:b0:3d0:10a6:99a3 with SMTP id e9e14a558f8ab-3d04f48cfa3mr77868565ab.12.1738862266985; Thu, 06 Feb 2025 09:17:46 -0800 (PST) Received: from postal.iol.unh.edu (postal.iol.unh.edu. [132.177.123.84]) by smtp-relay.gmail.com with ESMTPS id e9e14a558f8ab-3d05e8d8e79sm1053265ab.6.2025.02.06.09.17.46 (version=TLS1_2 cipher=ECDHE-ECDSA-AES128-GCM-SHA256 bits=128/128); Thu, 06 Feb 2025 09:17:46 -0800 (PST) X-Relaying-Domain: iol.unh.edu Date: Thu, 06 Feb 2025 09:17:46 -0800 (PST) Message-ID: <67a4eeba.050a0220.332792.665dSMTPIN_ADDED_MISSING@mx.google.com> Received: from [172.21.0.6] (unknown [172.18.0.240]) by postal.iol.unh.edu (Postfix) with ESMTP id 984776052471; Thu, 6 Feb 2025 12:17:46 -0500 (EST) Subject: |SUCCESS| pw151013-151029 [PATCH] [v22,27/27] config: add -Wvla proj From: dpdklab@iol.unh.edu To: Test Report Cc: dpdk-test-reports@iol.unh.edu In-Reply-To: <1738805610-17507-28-git-send-email-andremue@linux.microsoft.com> References: <1738805610-17507-28-git-send-email-andremue@linux.microsoft.com> Content-Type: text/plain X-BeenThere: test-report@dpdk.org X-Mailman-Version: 2.1.29 Precedence: list List-Id: automatic DPDK test reports List-Unsubscribe: , List-Archive: List-Post: List-Help: List-Subscribe: , Errors-To: test-report-bounces@dpdk.org Test-Label: iol-unit-arm64-testing Test-Status: SUCCESS http://dpdk.org/patch/151029 _Testing PASS_ Submitter: Andre Muezerie Date: Thursday, February 06 2025 01:33:30 DPDK git baseline: Repo:dpdk Branch: master CommitID:32c18e7364e30a8e43cc7cc6709a7ce606fa285e 151013-151029 --> testing pass Upstream job id: Generic-Unit-Test-DPDK#312149 Test environment and result as below: +-----------------------------+----------------+--------------+---------------------------+------------------------------+ | Environment | dpdk_unit_test | lpm_autotest | cryptodev_sw_zuc_autotest | cryptodev_sw_snow3g_autotest | +=============================+================+==============+===========================+==============================+ | CentOS Stream 9 (ARM) | PASS | SKIPPED | SKIPPED | SKIPPED | +-----------------------------+----------------+--------------+---------------------------+------------------------------+ | Debian 11 (Buster) (ARM) | PASS | SKIPPED | SKIPPED | SKIPPED | +-----------------------------+----------------+--------------+---------------------------+------------------------------+ | Debian 12 (arm) | PASS | SKIPPED | PASS | PASS | +-----------------------------+----------------+--------------+---------------------------+------------------------------+ | Fedora 40 (ARM Clang) | PASS | SKIPPED | SKIPPED | SKIPPED | +-----------------------------+----------------+--------------+---------------------------+------------------------------+ | Fedora 41 (ARM) | PASS | SKIPPED | SKIPPED | SKIPPED | +-----------------------------+----------------+--------------+---------------------------+------------------------------+ | Fedora 40 (ARM) | PASS | SKIPPED | SKIPPED | SKIPPED | +-----------------------------+----------------+--------------+---------------------------+------------------------------+ | Fedora 41 (ARM Clang) | PASS | SKIPPED | SKIPPED | SKIPPED | +-----------------------------+----------------+--------------+---------------------------+------------------------------+ | 32-bit Ubuntu 22.04.4 (ARM) | PASS | SKIPPED | SKIPPED | SKIPPED | +-----------------------------+----------------+--------------+---------------------------+------------------------------+ | RHEL9 (ARM) | PASS | SKIPPED | SKIPPED | SKIPPED | +-----------------------------+----------------+--------------+---------------------------+------------------------------+ | Ubuntu 20.04 (ARM) | PASS | SKIPPED | SKIPPED | SKIPPED | +-----------------------------+----------------+--------------+---------------------------+------------------------------+ | Ubuntu 22.04 (ARM) | PASS | SKIPPED | SKIPPED | SKIPPED | +-----------------------------+----------------+--------------+---------------------------+------------------------------+ | Ubuntu 24.04 (ARM) | PASS | SKIPPED | SKIPPED | SKIPPED | +-----------------------------+----------------+--------------+---------------------------+------------------------------+ | Ubuntu 20.04 ARM SVE | SKIPPED | PASS | SKIPPED | SKIPPED | +-----------------------------+----------------+--------------+---------------------------+------------------------------+ CentOS Stream 9 (ARM) Kernel: Depends on container host Compiler: gcc 11.5.0 20240719 (Red Hat 11.5.0-2) Debian 11 (Buster) (ARM) Kernel: Depends on container host Compiler: gcc (Debian 10.2.1-6) 10.2.1 20210110 Debian 12 (arm) Kernel: Depends on container host Compiler: gcc (Debian 12.2.0-14) 12.2.0 Fedora 40 (ARM Clang) Kernel: Depends on container host Compiler: clang 18.1.8 (Fedora 18.1.8-1.fc40) Fedora 41 (ARM) Kernel: Depends on container host Compiler: gcc 14.2.1 20240912 (Red Hat 14.2.1-3) Fedora 40 (ARM) Kernel: Depends on container host Compiler: gcc 14.2.1 20240912 (Red Hat 14.2.1-3) Fedora 41 (ARM Clang) Kernel: Depends on container host Compiler: clang 19.1.5 (Fedora 19.1.5-1.fc41) 32-bit Ubuntu 22.04.4 (ARM) Kernel: 5.15.83+ aarch64 Compiler: gcc (Ubuntu 11.4.0-1ubuntu1~22.04) 11.4.0 RHEL9 (ARM) Kernel: Depends on container host Compiler: gcc 11.5.0 20240719 (Red Hat 11.5.0-2) Ubuntu 20.04 (ARM) Kernel: Depends on container host Compiler: gcc (Ubuntu 9.4.0-1ubuntu1~20.04.2) 9.4.0 Ubuntu 22.04 (ARM) Kernel: Depends on container host Compiler: gcc (Ubuntu 11.4.0-1ubuntu1~22.04) 11.4.0 Ubuntu 24.04 (ARM) Kernel: Depends on container host Compiler: gcc (Ubuntu 13.3.0-6ubuntu2~24.04) 13.3.0 Ubuntu 20.04 ARM SVE Kernel: Depends on container host Compiler: gcc (Ubuntu 10.5.0-1ubuntu1~20.04) 10.5.0 To view detailed results, visit: https://lab.dpdk.org/results/dashboard/patchsets/32507/ UNH-IOL DPDK Community Lab To manage your email subscriptions, visit: https://lab.dpdk.org/results/dashboard/preferences/subscriptions/