From mboxrd@z Thu Jan 1 00:00:00 1970 Return-Path: Received: from mails.dpdk.org (mails.dpdk.org [217.70.189.124]) by inbox.dpdk.org (Postfix) with ESMTP id AB2FD4619D for ; Thu, 6 Feb 2025 19:18:02 +0100 (CET) Received: from mails.dpdk.org (localhost [127.0.0.1]) by mails.dpdk.org (Postfix) with ESMTP id 85A7B402BC; Thu, 6 Feb 2025 19:18:02 +0100 (CET) Received: from mail-qv1-f98.google.com (mail-qv1-f98.google.com [209.85.219.98]) by mails.dpdk.org (Postfix) with ESMTP id A63084026C for ; Thu, 6 Feb 2025 19:18:00 +0100 (CET) Received: by mail-qv1-f98.google.com with SMTP id 6a1803df08f44-6dd43aa1558so9931426d6.0 for ; Thu, 06 Feb 2025 10:18:00 -0800 (PST) DKIM-Signature: v=1; a=rsa-sha256; c=relaxed/relaxed; d=iol.unh.edu; s=unh-iol; t=1738865880; x=1739470680; darn=dpdk.org; h=references:in-reply-to:cc:to:from:subject:message-id:date:from:to :cc:subject:date:message-id:reply-to; bh=tTNPT0fORGYfgeKyFwZvMenRK7ipnEULfTVmZUTW6LE=; b=DmJWakoqThbrGPFKgwaJCO/wjVfmRmZzB6YnsGlPh1hreq3xcOlvfEPLn15VN7Gvwu MlcaE7UVv5o7931bxIZ28VknmTMl1I1jrXDOXQ5wTxJZh8K5QzkL4qFcqWS9f+xUIzk3 a9Nm8g0fTlJ4+sUJaMY8CRlcwJRF4dnRGzlQc= X-Google-DKIM-Signature: v=1; a=rsa-sha256; c=relaxed/relaxed; d=1e100.net; s=20230601; t=1738865880; x=1739470680; h=references:in-reply-to:cc:to:from:subject:message-id:date :x-gm-message-state:from:to:cc:subject:date:message-id:reply-to; bh=tTNPT0fORGYfgeKyFwZvMenRK7ipnEULfTVmZUTW6LE=; b=ouyh6Ktd61E+Bx4cN/9N0r4IWls1/c4Fpqs8ympzGNQrVoxFlj9MJSIKLbaFk/oq6k /72nWQXC/571rJTaVEIyezoGS4uaANOzkCrGyeB3sixsgveMX0b6RUAmS7ueLdSGbbVt 7oodCeDoyc6SGpmLVJWuthynm9t9owsosVyFPdw2w6BYOobbrKrRHwCUfPJW57Ws/3H1 V5tAdDzyPmxcamE1qp8NLAJ8czuBqx/EFLyJSZkwe/5oupyroWbxMZSr+U6+/p7/dJk4 VXn/9AS+T+TfXwbkVUQ/67ZlbTXWb/M4m5BGrpM9maxfvIcYY3aSXSc6z6Mb2YPxW4Eu XfXw== X-Gm-Message-State: AOJu0Yx7e16Vsf3ZVvig6xlDIHJpFtMQa4lp4jzsKhF2JO5HUQ5HSi+Z 57y8aHjMOE5bPuiodbEaFKnCtay/RO6gpf/9NGlLdWQ7aEDEA0EteAvAwPRZUVizr6XabTXO0CF 494vWcdo8QIgU9SCFFzNMQxwzVIRUFCkrJxWREeSG X-Gm-Gg: ASbGnctQjmguYcNWaU+oCMVVK+eMbMBQmJYs36sNuQB++T2Khf+MOw0DYfd4VECQQNY U540xPgtyD5zwDKCYFWMC7FBNutgtqG2B6msECHqc/WRZaLt3Aauk7Ty4Hs8ulflap8iWTlneRI bH9Fea3WwKe0MDbeCfGBCdcTW/t1zoIMAHUQ1QKhq7cTREdCTk8dprdALqrYkTteoTSdLqjzzzE 6r3yutjyP/sQyVIqz9LAGePPvuLH1AjFQsMvrjLPud3KW4S/VN+/nlsMA08MX8zs/GIGv87/XzR VcXiRysGkVmLjtpopt22cLTE58ZcRQ== X-Google-Smtp-Source: AGHT+IF1Of++iM1urtMRvSwGthg7HqB++eA8K2zoAApjGNIuoYJqhWXKAHtRU5MIlO8Smj/2b3//arVebwfG X-Received: by 2002:a05:6214:d64:b0:6e4:4484:f34d with SMTP id 6a1803df08f44-6e4455c5555mr283866d6.7.1738865880002; Thu, 06 Feb 2025 10:18:00 -0800 (PST) Received: from postal.iol.unh.edu (postal.iol.unh.edu. [132.177.123.84]) by smtp-relay.gmail.com with ESMTPS id 6a1803df08f44-6e43bb09cffsm978886d6.58.2025.02.06.10.17.59 (version=TLS1_2 cipher=ECDHE-ECDSA-AES128-GCM-SHA256 bits=128/128); Thu, 06 Feb 2025 10:17:59 -0800 (PST) X-Relaying-Domain: iol.unh.edu Date: Thu, 06 Feb 2025 10:17:59 -0800 (PST) Message-ID: <67a4fcd7.050a0220.216e55.571aSMTPIN_ADDED_MISSING@mx.google.com> Received: from [172.21.0.5] (unknown [172.18.0.240]) by postal.iol.unh.edu (Postfix) with ESMTP id B67F36052471; Thu, 6 Feb 2025 13:17:59 -0500 (EST) Subject: |SUCCESS| pw151046 [PATCH] test/event: fix number of queues in event From: dpdklab@iol.unh.edu To: Test Report Cc: dpdk-test-reports@iol.unh.edu In-Reply-To: <20250206143244.524451-1-sthotton@marvell.com> References: <20250206143244.524451-1-sthotton@marvell.com> Content-Type: text/plain X-BeenThere: test-report@dpdk.org X-Mailman-Version: 2.1.29 Precedence: list List-Id: automatic DPDK test reports List-Unsubscribe: , List-Archive: List-Post: List-Help: List-Subscribe: , Errors-To: test-report-bounces@dpdk.org Test-Label: iol-abi-testing Test-Status: SUCCESS http://dpdk.org/patch/151046 _Testing PASS_ Submitter: Shijith Thotton Date: Thursday, February 06 2025 14:32:44 DPDK git baseline: Repo:dpdk Branch: master CommitID:32c18e7364e30a8e43cc7cc6709a7ce606fa285e 151046 --> testing pass Upstream job id: Generic-DPDK-Compile-ABI#115109 Test environment and result as below: +-------------------+----------+ | Environment | abi_test | +===================+==========+ | CentOS Stream 9 | PASS | +-------------------+----------+ | Debian 12 | PASS | +-------------------+----------+ | Debian Bullseye | PASS | +-------------------+----------+ | Fedora 40 (Clang) | PASS | +-------------------+----------+ | Fedora 40 | PASS | +-------------------+----------+ | Fedora 41 | PASS | +-------------------+----------+ | openSUSE Leap 15 | PASS | +-------------------+----------+ | RHEL8 | PASS | +-------------------+----------+ | Ubuntu 22.04 | PASS | +-------------------+----------+ | RHEL9 | PASS | +-------------------+----------+ | Ubuntu 24.04 | PASS | +-------------------+----------+ | Fedora 41 (Clang) | PASS | +-------------------+----------+ CentOS Stream 9 Kernel: Depends on container host Compiler: gcc 11.5.0 20240719 (Red Hat 11.5.0-2) Debian 12 Kernel: Depends on container host Compiler: gcc (Debian 12.2.0-14) 12.2.0 Debian Bullseye Kernel: Depends on container host Compiler: gcc (Debian 10.2.1-6) 10.2.1 20210110 Fedora 40 (Clang) Kernel: Depends on container host Compiler: clang 18.1.8 (Fedora 18.1.8-1.fc40) Fedora 40 Kernel: Depends on container host Compiler: gcc 14.2.1 20240912 (Red Hat 14.2.1-3) Fedora 41 Kernel: Depends on container host Compiler: gcc 14.2.1 20240912 (Red Hat 14.2.1-3) openSUSE Leap 15 Kernel: Depends on container host Compiler: gcc (SUSE Linux) 7.5.0 RHEL8 Kernel: Depends on container host Compiler: gcc 8.5.0 20210514 (Red Hat 8.5.0-22) Ubuntu 22.04 Kernel: Depends on container host Compiler: gcc (Ubuntu 11.4.0-1ubuntu1~22.04) 11.4.0 RHEL9 Kernel: Depends on container host Compiler: gcc 11.5.0 20240719 (Red Hat 11.5.0-2) Ubuntu 24.04 Kernel: Depends on container host Compiler: gcc (Ubuntu 13.3.0-6ubuntu2~24.04) 13.3.0 Fedora 41 (Clang) Kernel: Depends on container host Compiler: clang 19.1.5 (Fedora 19.1.5-1.fc41) To view detailed results, visit: https://lab.dpdk.org/results/dashboard/patchsets/32512/ UNH-IOL DPDK Community Lab To manage your email subscriptions, visit: https://lab.dpdk.org/results/dashboard/preferences/subscriptions/