From mboxrd@z Thu Jan 1 00:00:00 1970 Return-Path: Received: from mails.dpdk.org (mails.dpdk.org [217.70.189.124]) by inbox.dpdk.org (Postfix) with ESMTP id A22F24619D for ; Thu, 6 Feb 2025 19:18:16 +0100 (CET) Received: from mails.dpdk.org (localhost [127.0.0.1]) by mails.dpdk.org (Postfix) with ESMTP id 9EB5B402BC; Thu, 6 Feb 2025 19:18:16 +0100 (CET) Received: from mail-yw1-f228.google.com (mail-yw1-f228.google.com [209.85.128.228]) by mails.dpdk.org (Postfix) with ESMTP id 8B2C34026C for ; Thu, 6 Feb 2025 19:18:14 +0100 (CET) Received: by mail-yw1-f228.google.com with SMTP id 00721157ae682-6f6c90b51c3so9982037b3.2 for ; Thu, 06 Feb 2025 10:18:14 -0800 (PST) DKIM-Signature: v=1; a=rsa-sha256; c=relaxed/relaxed; d=iol.unh.edu; s=unh-iol; t=1738865894; x=1739470694; darn=dpdk.org; h=references:in-reply-to:cc:to:from:subject:message-id:date:from:to :cc:subject:date:message-id:reply-to; bh=70dDCFhjtZswrfNZZl88xLfZ+QvcHXZDLz5wrAaNVpc=; b=iV+RF+//B6Gt3aDxKkKdlHWObjsVy8UMy0VXAsadTg3Ozs/G2aB6K1nF+EpFSNLKt4 uuiUSAUCYSzHN+YQkUOe5NImQ0XS17uhSzy7uhPWjCTZVV/0MnbHvCV+NSLoG0PWVrFO q8yNGm1/cCII894xcc1t1flR8YDSHqX/eo9y4= X-Google-DKIM-Signature: v=1; a=rsa-sha256; c=relaxed/relaxed; d=1e100.net; s=20230601; t=1738865894; x=1739470694; h=references:in-reply-to:cc:to:from:subject:message-id:date :x-gm-message-state:from:to:cc:subject:date:message-id:reply-to; bh=70dDCFhjtZswrfNZZl88xLfZ+QvcHXZDLz5wrAaNVpc=; b=FBcVWN4bQluJH+lSLNWCJbGzs+1q7GFV6dYvbSaCUfufXj1Z0OpNupErrD8ksLvZ3v Lcp8E1gQ08mz+SxYmQRKPayrYG1BcZDOX6VcuNyreq0bKqvumD1LQOJIjh5m/+9AB0PT 5P0/NLguifwaygj8McQOaamWHA/qZy4epA/63ZOZ4YpO6OuBs41Qq5l9j4KLrBEa1+q4 bMCvN8iL0v4IaMC2HiS6gJMyOcw4+PMTvKZu3D9H+ejBNw/BGW2DsvCvGTSrYdfk2hKs THzsbpSwtqhCjLlYrnQKlGMyt3H2Dg1n1G6OXnzk6gwJ9BLX21lfytnSm/qwkq0zzXIW fPjw== X-Gm-Message-State: AOJu0YyHsT6uufxUUx3HpCz5tv+Rz6S6vkLKt6cgGTzXeO4H/QTRso+c 2IvSiVcb/m+X3AIOyWfYfwChDzIepB9+UI1e1wlut4gmOatsaObcCU6PoN6SzA1KcjM7JIDNJyw sYeRJn5Oupp5KSNX0PIx5D1NoisxhWey7YgTjPLqA X-Gm-Gg: ASbGncvXfBzASWY5f1m1yu61bNPcmfAXEUO/1jMb0HxqLvzuVuLm241GGl5n6RcGUHD BobWTCVuTsNro8xuTkDYR3QbfvJhG0JK/47yKzW8dRy+2oWzAim7Lzj5T1xOnLNVKqwbimULCgE /C0QI7nkczVqW0Kk4zUV4VZX+upBHzh6F0sEPjAsx2N+FxgRoAsAGIHBOMNh0VOU0XeCCoLUpwb mYg24dtaltWTqS5dvVdxmcocmQMIVYPiKIDacnaaP7/9juqLen9Vie/mYH1obd3ki5ejmvqBSTt 3Xt5M12jPNRQew7EfNtxIBdEJRA7Xg== X-Google-Smtp-Source: AGHT+IFsXsgiE/EEEyLAJdbdJfhIKw40p+bnOBLEAFdUhRxtw203M/h+CeRYW52CVx1YCynIdyEtvjTogUTa X-Received: by 2002:a05:690c:c14:b0:6ef:9e74:c09b with SMTP id 00721157ae682-6f9b2a08195mr2631887b3.33.1738865893936; Thu, 06 Feb 2025 10:18:13 -0800 (PST) Received: from postal.iol.unh.edu (postal.iol.unh.edu. [132.177.123.84]) by smtp-relay.gmail.com with ESMTPS id 00721157ae682-6f99fe93331sm165667b3.39.2025.02.06.10.18.13 (version=TLS1_2 cipher=ECDHE-ECDSA-AES128-GCM-SHA256 bits=128/128); Thu, 06 Feb 2025 10:18:13 -0800 (PST) X-Relaying-Domain: iol.unh.edu Date: Thu, 06 Feb 2025 10:18:13 -0800 (PST) Message-ID: <67a4fce5.050a0220.2ad576.0dbeSMTPIN_ADDED_MISSING@mx.google.com> Received: from [172.21.0.5] (unknown [172.18.0.240]) by postal.iol.unh.edu (Postfix) with ESMTP id 958A16052471; Thu, 6 Feb 2025 13:18:13 -0500 (EST) Subject: |SUCCESS| pw151046 [PATCH] test/event: fix number of queues in event From: dpdklab@iol.unh.edu To: Test Report Cc: dpdk-test-reports@iol.unh.edu In-Reply-To: <20250206143244.524451-1-sthotton@marvell.com> References: <20250206143244.524451-1-sthotton@marvell.com> Content-Type: text/plain X-BeenThere: test-report@dpdk.org X-Mailman-Version: 2.1.29 Precedence: list List-Id: automatic DPDK test reports List-Unsubscribe: , List-Archive: List-Post: List-Help: List-Subscribe: , Errors-To: test-report-bounces@dpdk.org Test-Label: iol-abi-testing Test-Status: SUCCESS http://dpdk.org/patch/151046 _Testing PASS_ Submitter: Shijith Thotton Date: Thursday, February 06 2025 14:32:44 DPDK git baseline: Repo:dpdk Branch: master CommitID:32c18e7364e30a8e43cc7cc6709a7ce606fa285e 151046 --> testing pass Upstream job id: Generic-DPDK-Compile-ABI#115114 Test environment and result as below: +-------------------+----------+ | Environment | abi_test | +===================+==========+ | CentOS Stream 9 | PASS | +-------------------+----------+ | Debian 12 | PASS | +-------------------+----------+ | Debian Bullseye | PASS | +-------------------+----------+ | Fedora 40 (Clang) | PASS | +-------------------+----------+ | Fedora 40 | PASS | +-------------------+----------+ | Fedora 41 | PASS | +-------------------+----------+ | openSUSE Leap 15 | PASS | +-------------------+----------+ | RHEL8 | PASS | +-------------------+----------+ | Ubuntu 22.04 | PASS | +-------------------+----------+ | RHEL9 | PASS | +-------------------+----------+ | Ubuntu 24.04 | PASS | +-------------------+----------+ | Fedora 41 (Clang) | PASS | +-------------------+----------+ CentOS Stream 9 Kernel: Depends on container host Compiler: gcc 11.5.0 20240719 (Red Hat 11.5.0-2) Debian 12 Kernel: Depends on container host Compiler: gcc (Debian 12.2.0-14) 12.2.0 Debian Bullseye Kernel: Depends on container host Compiler: gcc (Debian 10.2.1-6) 10.2.1 20210110 Fedora 40 (Clang) Kernel: Depends on container host Compiler: clang 18.1.8 (Fedora 18.1.8-1.fc40) Fedora 40 Kernel: Depends on container host Compiler: gcc 14.2.1 20240912 (Red Hat 14.2.1-3) Fedora 41 Kernel: Depends on container host Compiler: gcc 14.2.1 20240912 (Red Hat 14.2.1-3) openSUSE Leap 15 Kernel: Depends on container host Compiler: gcc (SUSE Linux) 7.5.0 RHEL8 Kernel: Depends on container host Compiler: gcc 8.5.0 20210514 (Red Hat 8.5.0-22) Ubuntu 22.04 Kernel: Depends on container host Compiler: gcc (Ubuntu 11.4.0-1ubuntu1~22.04) 11.4.0 RHEL9 Kernel: Depends on container host Compiler: gcc 11.5.0 20240719 (Red Hat 11.5.0-2) Ubuntu 24.04 Kernel: Depends on container host Compiler: gcc (Ubuntu 13.3.0-6ubuntu2~24.04) 13.3.0 Fedora 41 (Clang) Kernel: Depends on container host Compiler: clang 19.1.5 (Fedora 19.1.5-1.fc41) To view detailed results, visit: https://lab.dpdk.org/results/dashboard/patchsets/32512/ UNH-IOL DPDK Community Lab To manage your email subscriptions, visit: https://lab.dpdk.org/results/dashboard/preferences/subscriptions/