From mboxrd@z Thu Jan 1 00:00:00 1970 Return-Path: Received: from mails.dpdk.org (mails.dpdk.org [217.70.189.124]) by inbox.dpdk.org (Postfix) with ESMTP id 5AC614619D for ; Thu, 6 Feb 2025 19:33:38 +0100 (CET) Received: from mails.dpdk.org (localhost [127.0.0.1]) by mails.dpdk.org (Postfix) with ESMTP id 2F3AD402BC; Thu, 6 Feb 2025 19:33:38 +0100 (CET) Received: from mail-yw1-f228.google.com (mail-yw1-f228.google.com [209.85.128.228]) by mails.dpdk.org (Postfix) with ESMTP id BAFDD4026C for ; Thu, 6 Feb 2025 19:33:36 +0100 (CET) Received: by mail-yw1-f228.google.com with SMTP id 00721157ae682-6f6ae4846c7so10769787b3.1 for ; Thu, 06 Feb 2025 10:33:36 -0800 (PST) DKIM-Signature: v=1; a=rsa-sha256; c=relaxed/relaxed; d=iol.unh.edu; s=unh-iol; t=1738866816; x=1739471616; darn=dpdk.org; h=references:in-reply-to:cc:to:from:subject:message-id:date:from:to :cc:subject:date:message-id:reply-to; bh=LV2QT2uKRa7nZx2Ac6hHEK752n2VS6ReRM8K3E4wtCo=; b=cjCFXp9Hw2quFp/Q8hxkCVESIDtOnINrj9xD53yO6DYBVCXRbWbTIBXTfiD4USwpqp CTN3OLg5Zopla0amws4/Ci/M1rUwxlVd0hEJfA1I+sRGg5Jk+Cfj52MMyH/XNvVsaQxF UT6PrmZzgM0AOHgO90lqlqFM4C3bsJB4JiaZQ= X-Google-DKIM-Signature: v=1; a=rsa-sha256; c=relaxed/relaxed; d=1e100.net; s=20230601; t=1738866816; x=1739471616; h=references:in-reply-to:cc:to:from:subject:message-id:date :x-gm-message-state:from:to:cc:subject:date:message-id:reply-to; bh=LV2QT2uKRa7nZx2Ac6hHEK752n2VS6ReRM8K3E4wtCo=; b=SE2Y2o+v/lZV1BXRw+OFa2hDq5d0QXknVXLIb+ElDGV3nkhDLceIqIIPr2MXnCedUc UCqakqoIi/49GHWVo00bVpVY3LcQEqT7XqEB4tA9Tfa88rusXRkSfNLfwhFxjFjSYHA7 DzFIOjqw65zHxHNFD9FjVtJzMJrkYxWV0R0+SDIJhAoOObXolEcDS0RbLRS1CICz072a mhof0H2NQsjBAK7WKehjkYIdL43+RJrngTdw41RggcEVvsP2SyTtrTh8tw0VuJ0YbUMf ouBItzZvwyJPtX+D0mqDaHnAjxcuXEaNemfrBfNiraSni0W0nRDjpUSQ43E7JK6md98R ArxQ== X-Gm-Message-State: AOJu0YypkEYlv6JTuZs6ROl5XDko0sxxBZvxP4qvWfm9O7SHGJ9TI1Vj vDrqIkHg9UrxOyUs3DZH3CszE7jJ3DZL7FWTp3mEPlljkUXqq3dEXx5X1C/l8+ODkF7lNUFBpMg nu/PEGmAceHt63YqE5jkdFEPjrVOu0wJZKwNTa8J+WhTuA95HMWzIvJFu X-Gm-Gg: ASbGnctjpo4wLkT0SNAeId6EpAMBUedmXX0ScV1D3nYBTgKIYgstzgBlCPjvryp2L0i Bbo3zyVApB8xfvy7pae+aNObZwPfCj5B7vHa7rFDD0Chp/LvfyBs0bsNoVYAiT+TswAyTxUOrA8 1VRtxzYN7Hl5RSE8TsacfpKiZKE5iNLA2Hl9oMSwdORMEJXaCijTFRIykDr4Duos5GcQo5vu5gk WYpliKN3QVHTGrt9mcBjfOkVqblrmUFW8OB/dmKZ20c4CWWbUVq7E1wGBYCD3T5x9dH8J6qKR4G LG3Qo7cfnkSHPzxUz7dZ57AU0/4q2bDWc+/Ca6sdBQ== X-Google-Smtp-Source: AGHT+IFXe95tamYbkshtI1fTa0n+sn7bfY7UMa5Xg5wuzLX3v2QNQ/q+4x0Nijkz2mQLkXl1pHQ5dSi3Pjtv X-Received: by 2002:a05:690c:3346:b0:6f9:7988:d308 with SMTP id 00721157ae682-6f9b284b9e4mr3774037b3.10.1738866816043; Thu, 06 Feb 2025 10:33:36 -0800 (PST) Received: from postal.iol.unh.edu (postal.iol.unh.edu. [2606:4100:3880:1234::84]) by smtp-relay.gmail.com with ESMTPS id 00721157ae682-6f99ffe0a5esm213037b3.67.2025.02.06.10.33.35 (version=TLS1_2 cipher=ECDHE-ECDSA-AES128-GCM-SHA256 bits=128/128); Thu, 06 Feb 2025 10:33:36 -0800 (PST) X-Relaying-Domain: iol.unh.edu Date: Thu, 06 Feb 2025 10:33:36 -0800 (PST) Message-ID: <67a50080.050a0220.25e2e9.0f9dSMTPIN_ADDED_MISSING@mx.google.com> Received: from [172.21.0.6] (unknown [172.18.0.240]) by postal.iol.unh.edu (Postfix) with ESMTP id A986A6052471; Thu, 6 Feb 2025 13:33:35 -0500 (EST) Subject: |SUCCESS| pw151046 [PATCH] test/event: fix number of queues in event From: dpdklab@iol.unh.edu To: Test Report Cc: dpdk-test-reports@iol.unh.edu In-Reply-To: <20250206143244.524451-1-sthotton@marvell.com> References: <20250206143244.524451-1-sthotton@marvell.com> Content-Type: text/plain X-BeenThere: test-report@dpdk.org X-Mailman-Version: 2.1.29 Precedence: list List-Id: automatic DPDK test reports List-Unsubscribe: , List-Archive: List-Post: List-Help: List-Subscribe: , Errors-To: test-report-bounces@dpdk.org Test-Label: iol-unit-amd64-testing Test-Status: SUCCESS http://dpdk.org/patch/151046 _Testing PASS_ Submitter: Shijith Thotton Date: Thursday, February 06 2025 14:32:44 DPDK git baseline: Repo:dpdk Branch: master CommitID:32c18e7364e30a8e43cc7cc6709a7ce606fa285e 151046 --> testing pass Upstream job id: Generic-Unit-Test-DPDK#312339 Test environment and result as below: +-------------------+----------------+ | Environment | dpdk_unit_test | +===================+================+ | Debian Bullseye | PASS | +-------------------+----------------+ | Debian 12 | PASS | +-------------------+----------------+ | CentOS Stream 9 | PASS | +-------------------+----------------+ | Fedora 40 (Clang) | PASS | +-------------------+----------------+ | Fedora 40 | PASS | +-------------------+----------------+ | Fedora 41 | PASS | +-------------------+----------------+ | RHEL9 | PASS | +-------------------+----------------+ | Ubuntu 20.04 | PASS | +-------------------+----------------+ | Fedora 41 (Clang) | PASS | +-------------------+----------------+ | RHEL8 | PASS | +-------------------+----------------+ | Ubuntu 24.04 | PASS | +-------------------+----------------+ | Ubuntu 22.04 | PASS | +-------------------+----------------+ Debian Bullseye Kernel: Depends on container host Compiler: gcc (Debian 10.2.1-6) 10.2.1 20210110 Debian 12 Kernel: Depends on container host Compiler: gcc (Debian 12.2.0-14) 12.2.0 CentOS Stream 9 Kernel: Depends on container host Compiler: gcc 11.5.0 20240719 (Red Hat 11.5.0-2) Fedora 40 (Clang) Kernel: Depends on container host Compiler: clang 18.1.8 (Fedora 18.1.8-1.fc40) Fedora 40 Kernel: Depends on container host Compiler: gcc 14.2.1 20240912 (Red Hat 14.2.1-3) Fedora 41 Kernel: Depends on container host Compiler: gcc 14.2.1 20240912 (Red Hat 14.2.1-3) RHEL9 Kernel: Depends on container host Compiler: gcc 11.5.0 20240719 (Red Hat 11.5.0-2) Ubuntu 20.04 Kernel: Depends on container host Compiler: gcc (Ubuntu 9.4.0-1ubuntu1~20.04.2) 9.4.0 Fedora 41 (Clang) Kernel: Depends on container host Compiler: clang 19.1.5 (Fedora 19.1.5-1.fc41) RHEL8 Kernel: Depends on container host Compiler: gcc 8.5.0 20210514 (Red Hat 8.5.0-22) Ubuntu 24.04 Kernel: Depends on container host Compiler: gcc (Ubuntu 13.3.0-6ubuntu2~24.04) 13.3.0 Ubuntu 22.04 Kernel: Depends on container host Compiler: gcc (Ubuntu 11.4.0-1ubuntu1~22.04) 11.4.0 To view detailed results, visit: https://lab.dpdk.org/results/dashboard/patchsets/32512/ UNH-IOL DPDK Community Lab To manage your email subscriptions, visit: https://lab.dpdk.org/results/dashboard/preferences/subscriptions/