From mboxrd@z Thu Jan 1 00:00:00 1970 Return-Path: Received: from mails.dpdk.org (mails.dpdk.org [217.70.189.124]) by inbox.dpdk.org (Postfix) with ESMTP id 31614461AD for ; Thu, 6 Feb 2025 20:06:50 +0100 (CET) Received: from mails.dpdk.org (localhost [127.0.0.1]) by mails.dpdk.org (Postfix) with ESMTP id 2CB61402BC; Thu, 6 Feb 2025 20:06:50 +0100 (CET) Received: from mail-qv1-f99.google.com (mail-qv1-f99.google.com [209.85.219.99]) by mails.dpdk.org (Postfix) with ESMTP id 705734026C for ; Thu, 6 Feb 2025 20:06:49 +0100 (CET) Received: by mail-qv1-f99.google.com with SMTP id 6a1803df08f44-6e43a5f59b7so11330056d6.0 for ; Thu, 06 Feb 2025 11:06:49 -0800 (PST) DKIM-Signature: v=1; a=rsa-sha256; c=relaxed/relaxed; d=iol.unh.edu; s=unh-iol; t=1738868809; x=1739473609; darn=dpdk.org; h=references:in-reply-to:cc:to:from:subject:message-id:date:from:to :cc:subject:date:message-id:reply-to; bh=/3fvyBmecFUy1iPW4y1R7SEb4/3fqi6xihUUNH1pmiw=; b=Yq/nWggL2HD0JdBaWKz3lgbWjQKOvN2ZYP1QyU5REQkE838I6kvkauoYnRRaIO4yp8 CVkXSxUOhYDPWmSppGs5nSHwz2S7RS+u+W8ZIAB93dLf54SGRmQy1rfDCn2hH9zTnquI irXyjYQQ6Ujr9oDHO4jzD5H0FHh7uHwAQINz8= X-Google-DKIM-Signature: v=1; a=rsa-sha256; c=relaxed/relaxed; d=1e100.net; s=20230601; t=1738868809; x=1739473609; h=references:in-reply-to:cc:to:from:subject:message-id:date :x-gm-message-state:from:to:cc:subject:date:message-id:reply-to; bh=/3fvyBmecFUy1iPW4y1R7SEb4/3fqi6xihUUNH1pmiw=; b=Hb+4Y9MF0aLhNfDbzNmqw6MGJ7yyzNZgBfIfUS+g8HNHA32KAEpMKssrDn8fp4gf4K 4nrLaNzsvNf6qXkEzH59zuxWtULq0hguU7i7oMDmmZiYluHW/RHaW+9gRCbyetjVa3Mg nMkDG8IMLBfz5BxvWxIE15uqo3ZMETi2L7uk/O+628XBrNG2Sv09dhL9FNg0yoWtQ7E3 k6GlZ+rp61/n/610iwuSRvQRk66GqV9LZVTgdcHEagjA3BZ+8XkKIzHODvsungeWgSUF lJuAMMjRn/U8uNlrZBncLRiqaJ9cvPTuwkqfkbMxkRAYrqo6E1kk0OMs2f4QecKcHUtv 0RyA== X-Gm-Message-State: AOJu0YxumdHVFqvu3EDoKuL9+EGYvmD6/10ZkeklicVi1LTyJMxbUsos oGXd8QynFeg+FVyZQunyvg6dorBi9UaknnpYc4iavpWeWKOiznTMWhQDbkvixYDbsxphAYv32MV 8RW5zUWPjJ4+CtdiMGYVZjHIP1oqcJox6nPrN+eoF X-Gm-Gg: ASbGnct3gzyP+q8Qzmms3YJew9KUuYjakM92+i1CPNHz7nxyhwjfJ+GhbuB51VBbDli iX/xnPEJG7jf2AiEUQW9ATVf804V+0/XwT/jSk4B3ft+u2Cg4w+03lRz75qHDrT8GlG0xombtQu FaD3ztY5vh+vtjEbNS91n2Ia4dsB5LJmZSp9JHjBhCRLPydMPrbuzUGz8dY146p9YynapoibSNg oD5iyOlQfLtTXLhOj9d7xpz47G9/+4ANZGREQ6pLpJMmgtmyFogQEyh0Wy0qXBA8VB78lB4Jgiz WgHHGC7MfIspXwQUFjx+eZ5zsa1V1w== X-Google-Smtp-Source: AGHT+IHXGXob8rlHkGMurkGpBYELIi5O9ViKR5D/itfjPfWz+HXYnUfxQiOvBN2slaqHWHt01dX+mCaL7W91 X-Received: by 2002:ad4:5fca:0:b0:6e4:3455:eba3 with SMTP id 6a1803df08f44-6e445913e73mr1001936d6.6.1738868808869; Thu, 06 Feb 2025 11:06:48 -0800 (PST) Received: from postal.iol.unh.edu (postal.iol.unh.edu. [132.177.123.84]) by smtp-relay.gmail.com with ESMTPS id 6a1803df08f44-6e43ba33e4bsm1105056d6.10.2025.02.06.11.06.48 (version=TLS1_2 cipher=ECDHE-ECDSA-AES128-GCM-SHA256 bits=128/128); Thu, 06 Feb 2025 11:06:48 -0800 (PST) X-Relaying-Domain: iol.unh.edu Date: Thu, 06 Feb 2025 11:06:48 -0800 (PST) Message-ID: <67a50848.d40a0220.2bc1ce.6478SMTPIN_ADDED_MISSING@mx.google.com> Received: from [172.21.0.6] (unknown [172.18.0.240]) by postal.iol.unh.edu (Postfix) with ESMTP id 975A56052471; Thu, 6 Feb 2025 14:06:48 -0500 (EST) Subject: |SUCCESS| pw151046 [PATCH] test/event: fix number of queues in event From: dpdklab@iol.unh.edu To: Test Report Cc: dpdk-test-reports@iol.unh.edu In-Reply-To: <20250206143244.524451-1-sthotton@marvell.com> References: <20250206143244.524451-1-sthotton@marvell.com> Content-Type: text/plain X-BeenThere: test-report@dpdk.org X-Mailman-Version: 2.1.29 Precedence: list List-Id: automatic DPDK test reports List-Unsubscribe: , List-Archive: List-Post: List-Help: List-Subscribe: , Errors-To: test-report-bounces@dpdk.org Test-Label: iol-unit-amd64-testing Test-Status: SUCCESS http://dpdk.org/patch/151046 _Testing PASS_ Submitter: Shijith Thotton Date: Thursday, February 06 2025 14:32:44 DPDK git baseline: Repo:dpdk Branch: master CommitID:32c18e7364e30a8e43cc7cc6709a7ce606fa285e 151046 --> testing pass Upstream job id: Generic-VM-Unit-Test-DPDK#27130 Test environment and result as below: +---------------------+----------------+ | Environment | dpdk_unit_test | +=====================+================+ | Debian Bullseye | PASS | +---------------------+----------------+ | Debian 12 | PASS | +---------------------+----------------+ | CentOS Stream 9 | PASS | +---------------------+----------------+ | Fedora 40 (Clang) | PASS | +---------------------+----------------+ | Fedora 40 | PASS | +---------------------+----------------+ | Fedora 41 | PASS | +---------------------+----------------+ | RHEL9 | PASS | +---------------------+----------------+ | Ubuntu 20.04 | PASS | +---------------------+----------------+ | Fedora 41 (Clang) | PASS | +---------------------+----------------+ | RHEL8 | PASS | +---------------------+----------------+ | Ubuntu 24.04 | PASS | +---------------------+----------------+ | Ubuntu 22.04 | PASS | +---------------------+----------------+ | Windows Server 2022 | PASS | +---------------------+----------------+ Debian Bullseye Kernel: Depends on container host Compiler: gcc (Debian 10.2.1-6) 10.2.1 20210110 Debian 12 Kernel: Depends on container host Compiler: gcc (Debian 12.2.0-14) 12.2.0 CentOS Stream 9 Kernel: Depends on container host Compiler: gcc 11.5.0 20240719 (Red Hat 11.5.0-2) Fedora 40 (Clang) Kernel: Depends on container host Compiler: clang 18.1.8 (Fedora 18.1.8-1.fc40) Fedora 40 Kernel: Depends on container host Compiler: gcc 14.2.1 20240912 (Red Hat 14.2.1-3) Fedora 41 Kernel: Depends on container host Compiler: gcc 14.2.1 20240912 (Red Hat 14.2.1-3) RHEL9 Kernel: Depends on container host Compiler: gcc 11.5.0 20240719 (Red Hat 11.5.0-2) Ubuntu 20.04 Kernel: Depends on container host Compiler: gcc (Ubuntu 9.4.0-1ubuntu1~20.04.2) 9.4.0 Fedora 41 (Clang) Kernel: Depends on container host Compiler: clang 19.1.5 (Fedora 19.1.5-1.fc41) RHEL8 Kernel: Depends on container host Compiler: gcc 8.5.0 20210514 (Red Hat 8.5.0-22) Ubuntu 24.04 Kernel: Depends on container host Compiler: gcc (Ubuntu 13.3.0-6ubuntu2~24.04) 13.3.0 Ubuntu 22.04 Kernel: Depends on container host Compiler: gcc (Ubuntu 11.4.0-1ubuntu1~22.04) 11.4.0 Windows Server 2022 Kernel: 10.0.20348.2031 Compiler: clang 15.0.7, gcc 14.1.0 (MinGW), and MSVC VS 19.39.33521 To view detailed results, visit: https://lab.dpdk.org/results/dashboard/patchsets/32512/ UNH-IOL DPDK Community Lab To manage your email subscriptions, visit: https://lab.dpdk.org/results/dashboard/preferences/subscriptions/