From mboxrd@z Thu Jan 1 00:00:00 1970 Return-Path: Received: from mails.dpdk.org (mails.dpdk.org [217.70.189.124]) by inbox.dpdk.org (Postfix) with ESMTP id 3423B461AD for ; Thu, 6 Feb 2025 20:31:44 +0100 (CET) Received: from mails.dpdk.org (localhost [127.0.0.1]) by mails.dpdk.org (Postfix) with ESMTP id 2F4DC402BC; Thu, 6 Feb 2025 20:31:44 +0100 (CET) Received: from mail-pl1-f228.google.com (mail-pl1-f228.google.com [209.85.214.228]) by mails.dpdk.org (Postfix) with ESMTP id 302454026C for ; Thu, 6 Feb 2025 20:31:42 +0100 (CET) Received: by mail-pl1-f228.google.com with SMTP id d9443c01a7336-21f3328f72aso15066625ad.3 for ; Thu, 06 Feb 2025 11:31:42 -0800 (PST) DKIM-Signature: v=1; a=rsa-sha256; c=relaxed/relaxed; d=iol.unh.edu; s=unh-iol; t=1738870301; x=1739475101; darn=dpdk.org; h=references:in-reply-to:cc:to:from:subject:message-id:date:from:to :cc:subject:date:message-id:reply-to; bh=buIuyumVPWt9CrLnETn990p+z+zfkTQ7OCfyjfQtOQQ=; b=WtxcQ4mIrHT5ueHQiu8ecgm3cgB845We8bFdJzGF6hLfFdMci2cC1g0hCwuZCZjtlJ /+wlFiaa9igjYDwqnksFAAs2qyQtJNWmAHpC2dq01ChMxM1pzWbHEGlPaOECz00A8jBk Td0MHXfwuoGC7+wbwl6yYpBhNvy1LWT8VXGq0= X-Google-DKIM-Signature: v=1; a=rsa-sha256; c=relaxed/relaxed; d=1e100.net; s=20230601; t=1738870301; x=1739475101; h=references:in-reply-to:cc:to:from:subject:message-id:date :x-gm-message-state:from:to:cc:subject:date:message-id:reply-to; bh=buIuyumVPWt9CrLnETn990p+z+zfkTQ7OCfyjfQtOQQ=; b=s25ShbkSkp1NL9p1o+7g6ktJ8uPFO3Ryei2h0CGztY0Lmy4RS/xiObekZMc4Hsnz4o DpQ6XzZZBCnwC+6+k80cwbUZJ4ayXdU5mVMU2yPdXri32bvzhGJJOWenbGV7TVWgspEQ hEUQnUQ7ss9NvP3amYNybmahqWp+8b6SFxMdlhTYZwK2qR1zgWIOrzPTFZwNMbASjQa6 I6EZ8Nexi8GUmNVrPphgS1ao+CqOC6PlklumrhXuHzHOKcwUt9MuHpi9Eb/YSD0IkqKx sv+FZDBNuUstKkaKOJIHz7+bY/C4RkN388X+oJfVx+YC1wSrtEhUeNEST1BmB9GGk/gs El4A== X-Gm-Message-State: AOJu0YxKQj/PHsv9y2Km8AAfaOqvceN48Uf6tV+SsUip8f67LmTRZR30 Y6CJBgL6IG6xRcgRDWnmXiCdZl3jsJOM3NfHBgG6KzeuiOBlgyk54DhgDiHvLenK0lFIdiWVCT9 hqiYcA/euQ8l2FpX0QXSfp98woeGUw9MUwhx92IBzWpHFDurz0Rdldyec X-Gm-Gg: ASbGnctYnmzrRSbuONiovHpPyacJeirBveIqXMlXCqG2NwUsWpKNQDM20EHGi9gEssf udzo/jXtNqM9Eg7jTYZ83GHe9lZCsqYMhJuw+XNkl4/btmkqB13/e2x4EQ9BQIBM3W3e8JE5OWN IJLHb7kkZ3b+2KPOraPRI1hZyrckVpMDdZtslzM2Y79klkfUSPDRygCdteEEgu51SuZXTbn6ckQ Srvsg+I4vB+a/9DSF7ZVPYUIAOGD6kR+VTYFwpn8waxhRmvAQfO6r+zlwrjmXRo5wEfq+dIbp3v phMQ2GWCu4n5WaBhBfq/pV7IlvRexTNcAA9kUY6xLQ== X-Google-Smtp-Source: AGHT+IHJbKWuSqtwc3AGTep3/gPY4hn7J4Wdqy4/1SwKnDddO8AtLUgHFDN8XeAhdqUkcttmAesYU2o8Opwv X-Received: by 2002:a17:902:ccc3:b0:21f:4c52:38b5 with SMTP id d9443c01a7336-21f4e76cd2dmr5914115ad.52.1738870301430; Thu, 06 Feb 2025 11:31:41 -0800 (PST) Received: from postal.iol.unh.edu (postal.iol.unh.edu. [2606:4100:3880:1234::84]) by smtp-relay.gmail.com with ESMTPS id d9443c01a7336-21f36877f01sm770065ad.106.2025.02.06.11.31.41 (version=TLS1_2 cipher=ECDHE-ECDSA-AES128-GCM-SHA256 bits=128/128); Thu, 06 Feb 2025 11:31:41 -0800 (PST) X-Relaying-Domain: iol.unh.edu Date: Thu, 06 Feb 2025 11:31:41 -0800 (PST) Message-ID: <67a50e1d.170a0220.16c094.4571SMTPIN_ADDED_MISSING@mx.google.com> Received: from [172.21.0.5] (unknown [172.18.0.240]) by postal.iol.unh.edu (Postfix) with ESMTP id 9CD606052471; Thu, 6 Feb 2025 14:31:40 -0500 (EST) Subject: |SUCCESS| pw151042-151045 [PATCH] [v6,4/4] lib: change find device a From: dpdklab@iol.unh.edu To: Test Report Cc: dpdk-test-reports@iol.unh.edu In-Reply-To: <20250206105428.237346-4-shperetz@nvidia.com> References: <20250206105428.237346-4-shperetz@nvidia.com> Content-Type: text/plain X-BeenThere: test-report@dpdk.org X-Mailman-Version: 2.1.29 Precedence: list List-Id: automatic DPDK test reports List-Unsubscribe: , List-Archive: List-Post: List-Help: List-Subscribe: , Errors-To: test-report-bounces@dpdk.org Test-Label: iol-compile-amd64-testing Test-Status: SUCCESS http://dpdk.org/patch/151045 _Testing PASS_ Submitter: Shani Peretz Date: Thursday, February 06 2025 10:54:27 DPDK git baseline: Repo:dpdk Branch: master CommitID:32c18e7364e30a8e43cc7cc6709a7ce606fa285e 151042-151045 --> testing pass Upstream job id: Windows-Compile-DPDK-Native#26484 Test environment and result as below: +---------------------+-------------------+--------------------+-------------------------+ | Environment | dpdk_msvc_compile | dpdk_meson_compile | dpdk_llvm_clang_compile | +=====================+===================+====================+=========================+ | Windows Server 2022 | PASS | SKIPPED | PASS | +---------------------+-------------------+--------------------+-------------------------+ | FreeBSD 13.4 | SKIPPED | PASS | SKIPPED | +---------------------+-------------------+--------------------+-------------------------+ | FreeBSD 14.2 | SKIPPED | PASS | SKIPPED | +---------------------+-------------------+--------------------+-------------------------+ Windows Server 2022 Kernel: 10.0.20348.2031 Compiler: clang 15.0.7, gcc 14.1.0 (MinGW), and MSVC VS 19.39.33521 FreeBSD 13.4 Kernel: 13.4-RELEASE-p1 Compiler: clang 18.1.6 FreeBSD 14.2 Kernel: 14.2-RELEASE Compiler: clang 18.1.6 To view detailed results, visit: https://lab.dpdk.org/results/dashboard/patchsets/32511/ UNH-IOL DPDK Community Lab To manage your email subscriptions, visit: https://lab.dpdk.org/results/dashboard/preferences/subscriptions/