automatic DPDK test reports
 help / color / mirror / Atom feed
From: dpdklab@iol.unh.edu
To: Test Report <test-report@dpdk.org>
Cc: dpdk-test-reports@iol.unh.edu
Subject: |SUCCESS| pw151042-151045 [PATCH] [v6,4/4] lib: change find device a
Date: Thu, 06 Feb 2025 11:39:48 -0800 (PST)	[thread overview]
Message-ID: <67a51004.050a0220.47ae7.54acSMTPIN_ADDED_MISSING@mx.google.com> (raw)
In-Reply-To: <20250206105428.237346-4-shperetz@nvidia.com>

Test-Label: iol-compile-amd64-testing
Test-Status: SUCCESS
http://dpdk.org/patch/151045

_Testing PASS_

Submitter: Shani Peretz <shperetz@nvidia.com>
Date: Thursday, February 06 2025 10:54:27 
DPDK git baseline: Repo:dpdk
  Branch: master
  CommitID:32c18e7364e30a8e43cc7cc6709a7ce606fa285e

151042-151045 --> testing pass

Upstream job id: Windows-Compile-DPDK-Native#26485

Test environment and result as below:

+---------------------+-------------------+--------------------+-------------------------+----------------------+
|     Environment     | dpdk_msvc_compile | dpdk_meson_compile | dpdk_llvm_clang_compile | dpdk_mingw64_compile |
+=====================+===================+====================+=========================+======================+
| Windows Server 2022 | PASS              | SKIPPED            | PASS                    | PASS                 |
+---------------------+-------------------+--------------------+-------------------------+----------------------+
| FreeBSD 13.4        | SKIPPED           | PASS               | SKIPPED                 | SKIPPED              |
+---------------------+-------------------+--------------------+-------------------------+----------------------+
| FreeBSD 14.2        | SKIPPED           | PASS               | SKIPPED                 | SKIPPED              |
+---------------------+-------------------+--------------------+-------------------------+----------------------+


Windows Server 2022
	Kernel: 10.0.20348.2031
	Compiler: clang 15.0.7, gcc 14.1.0 (MinGW), and MSVC VS 19.39.33521

FreeBSD 13.4
	Kernel: 13.4-RELEASE-p1
	Compiler: clang 18.1.6

FreeBSD 14.2
	Kernel: 14.2-RELEASE
	Compiler: clang 18.1.6

To view detailed results, visit:
https://lab.dpdk.org/results/dashboard/patchsets/32511/

UNH-IOL DPDK Community Lab

To manage your email subscriptions, visit: 
https://lab.dpdk.org/results/dashboard/preferences/subscriptions/

  parent reply	other threads:[~2025-02-06 19:39 UTC|newest]

Thread overview: 14+ messages / expand[flat|nested]  mbox.gz  Atom feed  top
     [not found] <20250206105428.237346-4-shperetz@nvidia.com>
2025-02-06 10:33 ` |SUCCESS| pw151042-151045 [PATCH v6 4/4] lib: change find device and cmp dev name functions qemudev
2025-02-06 10:38 ` qemudev
2025-02-06 10:54 ` |SUCCESS| pw151045 " checkpatch
2025-02-06 11:45 ` 0-day Robot
2025-02-06 17:19 ` |SUCCESS| pw151042-151045 [PATCH] [v6,4/4] lib: change find device a dpdklab
2025-02-06 17:21 ` dpdklab
2025-02-06 17:28 ` dpdklab
2025-02-06 17:35 ` dpdklab
2025-02-06 17:59 ` dpdklab
2025-02-06 19:22 ` |PENDING| " dpdklab
2025-02-06 19:31 ` |SUCCESS| " dpdklab
2025-02-06 19:33 ` |PENDING| " dpdklab
2025-02-06 19:39 ` dpdklab [this message]
2025-02-06 22:42 ` dpdklab

Reply instructions:

You may reply publicly to this message via plain-text email
using any one of the following methods:

* Save the following mbox file, import it into your mail client,
  and reply-to-all from there: mbox

  Avoid top-posting and favor interleaved quoting:
  https://en.wikipedia.org/wiki/Posting_style#Interleaved_style

* Reply using the --to, --cc, and --in-reply-to
  switches of git-send-email(1):

  git send-email \
    --in-reply-to=67a51004.050a0220.47ae7.54acSMTPIN_ADDED_MISSING@mx.google.com \
    --to=dpdklab@iol.unh.edu \
    --cc=dpdk-test-reports@iol.unh.edu \
    --cc=test-report@dpdk.org \
    /path/to/YOUR_REPLY

  https://kernel.org/pub/software/scm/git/docs/git-send-email.html

* If your mail client supports setting the In-Reply-To header
  via mailto: links, try the mailto: link
Be sure your reply has a Subject: header at the top and a blank line before the message body.
This is a public inbox, see mirroring instructions
for how to clone and mirror all data and code used for this inbox;
as well as URLs for NNTP newsgroup(s).