From mboxrd@z Thu Jan 1 00:00:00 1970 Return-Path: Received: from mails.dpdk.org (mails.dpdk.org [217.70.189.124]) by inbox.dpdk.org (Postfix) with ESMTP id 3A0CD461AD for ; Thu, 6 Feb 2025 20:39:50 +0100 (CET) Received: from mails.dpdk.org (localhost [127.0.0.1]) by mails.dpdk.org (Postfix) with ESMTP id 3375D402BC; Thu, 6 Feb 2025 20:39:50 +0100 (CET) Received: from mail-io1-f99.google.com (mail-io1-f99.google.com [209.85.166.99]) by mails.dpdk.org (Postfix) with ESMTP id 1BCC14026C for ; Thu, 6 Feb 2025 20:39:49 +0100 (CET) Received: by mail-io1-f99.google.com with SMTP id ca18e2360f4ac-844e61f3902so96549939f.0 for ; Thu, 06 Feb 2025 11:39:49 -0800 (PST) DKIM-Signature: v=1; a=rsa-sha256; c=relaxed/relaxed; d=iol.unh.edu; s=unh-iol; t=1738870788; x=1739475588; darn=dpdk.org; h=references:in-reply-to:cc:to:from:subject:message-id:date:from:to :cc:subject:date:message-id:reply-to; bh=W1L6QdWI8XIHt6f7gk81jRduFTNXUvWMGtrwey1Seas=; b=Ef5PoYo9YxPpcaXiriQJ3+GdV64We2oSnWv91mrvOmuxg9gbKXcELXxe69t/I5c1ZY bVXpZ8abqJSBSa7h/xNip62wRnjUbOGSlpogipCkNvQjpIPnsf62AWOR6uI2nYtcGrO/ CkaRYdr39988HZCn/BYNy2ntee4rI111ZE268= X-Google-DKIM-Signature: v=1; a=rsa-sha256; c=relaxed/relaxed; d=1e100.net; s=20230601; t=1738870788; x=1739475588; h=references:in-reply-to:cc:to:from:subject:message-id:date :x-gm-message-state:from:to:cc:subject:date:message-id:reply-to; bh=W1L6QdWI8XIHt6f7gk81jRduFTNXUvWMGtrwey1Seas=; b=NvM981o6NnOZIIWYL5RdXWlSr873ZGFkkLduJ9goUieQE9iZ+Tta/flODPA2vB27CJ LYEA6oJ0PGsIQBXa49DQmSWY9mAuWTrXTBVbcbgezelqiy42HQYytTX5ij+g/61oSKft 3fBKxTMyI7wxxHe/9aX3LGi8YNlyZMOsEwmS1kzDlPn2je/AgH1kl5jMDeXkvW940TDC 4rK/4X1zM4C8NIlqXRftK7HRyNKrnh4eT/O1o7Q4uOs2mRUytN1kbG5y/1lnPCvGaNU3 EYmUNj48WMn4UmhWMIlOk313K2lhlA0mnvyrgIrybz8HpTOYeUoZVFM94tfdvWO6Fdde yoBg== X-Gm-Message-State: AOJu0Yxptn5lOqDFf4fRsG/zZUYOiNA4fqutm9DItuMtrIMhGSxWglpP 0Z9junIc2yWTCMmRRD4ucHAWOO9b+zZ9z4+sZ2PKexK1rWjkZY2Kv+LIIsE+NutBLrpqcCZBQuC YKJWtU0GXYlAthZlPiLpv0yMVztszt/seDItqF4ivPLMonoJItrnpjJ37 X-Gm-Gg: ASbGncvGlk1NOP1IyJJYE9FPao1sniNvYkRhc4RkMiCwAL/MzbGq9aIFqTfn/5oOfSt 0ql9PLw5mUI9AzL4EP7N10Peyf1YDi5JAXbdrmcLbWQfOZkqUQmqKEanWFT5Eyc6Gkw94JHjHFI 2B1VYrw3B/3V2IoqJGkHoWHhMAwQX5td01OQnSeq9jp4mrNIHVdZuvHR3yzADLA0YYrOXF8SQb5 Iuxk+6ulkdUOkLVXp74yewpViz1CVr1JCF2JfdEwZhhxX+MMafs7p4/cZzHNjhcjiS0IsdpJ8bJ JCZIOzDAGcJNsd0D5PxKQ/n2e666tFVrJw6NPs9YWg== X-Google-Smtp-Source: AGHT+IG1Mk4JCxp95dnpmc225hh1zbLCCEdZBbYfrnLZVjAYRI8HXQg1FJU6avY3KQmjQ5Pyoyv/epy90qQ9 X-Received: by 2002:a05:6602:7289:b0:84a:5133:9cdd with SMTP id ca18e2360f4ac-854fd8f81e4mr86921439f.11.1738870788482; Thu, 06 Feb 2025 11:39:48 -0800 (PST) Received: from postal.iol.unh.edu (postal.iol.unh.edu. [2606:4100:3880:1234::84]) by smtp-relay.gmail.com with ESMTPS id ca18e2360f4ac-854f669ad98sm10122339f.16.2025.02.06.11.39.48 (version=TLS1_2 cipher=ECDHE-ECDSA-AES128-GCM-SHA256 bits=128/128); Thu, 06 Feb 2025 11:39:48 -0800 (PST) X-Relaying-Domain: iol.unh.edu Date: Thu, 06 Feb 2025 11:39:48 -0800 (PST) Message-ID: <67a51004.050a0220.47ae7.54acSMTPIN_ADDED_MISSING@mx.google.com> Received: from [172.21.0.6] (unknown [172.18.0.240]) by postal.iol.unh.edu (Postfix) with ESMTP id 06FB26052471; Thu, 6 Feb 2025 14:39:48 -0500 (EST) Subject: |SUCCESS| pw151042-151045 [PATCH] [v6,4/4] lib: change find device a From: dpdklab@iol.unh.edu To: Test Report Cc: dpdk-test-reports@iol.unh.edu In-Reply-To: <20250206105428.237346-4-shperetz@nvidia.com> References: <20250206105428.237346-4-shperetz@nvidia.com> Content-Type: text/plain X-BeenThere: test-report@dpdk.org X-Mailman-Version: 2.1.29 Precedence: list List-Id: automatic DPDK test reports List-Unsubscribe: , List-Archive: List-Post: List-Help: List-Subscribe: , Errors-To: test-report-bounces@dpdk.org Test-Label: iol-compile-amd64-testing Test-Status: SUCCESS http://dpdk.org/patch/151045 _Testing PASS_ Submitter: Shani Peretz Date: Thursday, February 06 2025 10:54:27 DPDK git baseline: Repo:dpdk Branch: master CommitID:32c18e7364e30a8e43cc7cc6709a7ce606fa285e 151042-151045 --> testing pass Upstream job id: Windows-Compile-DPDK-Native#26485 Test environment and result as below: +---------------------+-------------------+--------------------+-------------------------+----------------------+ | Environment | dpdk_msvc_compile | dpdk_meson_compile | dpdk_llvm_clang_compile | dpdk_mingw64_compile | +=====================+===================+====================+=========================+======================+ | Windows Server 2022 | PASS | SKIPPED | PASS | PASS | +---------------------+-------------------+--------------------+-------------------------+----------------------+ | FreeBSD 13.4 | SKIPPED | PASS | SKIPPED | SKIPPED | +---------------------+-------------------+--------------------+-------------------------+----------------------+ | FreeBSD 14.2 | SKIPPED | PASS | SKIPPED | SKIPPED | +---------------------+-------------------+--------------------+-------------------------+----------------------+ Windows Server 2022 Kernel: 10.0.20348.2031 Compiler: clang 15.0.7, gcc 14.1.0 (MinGW), and MSVC VS 19.39.33521 FreeBSD 13.4 Kernel: 13.4-RELEASE-p1 Compiler: clang 18.1.6 FreeBSD 14.2 Kernel: 14.2-RELEASE Compiler: clang 18.1.6 To view detailed results, visit: https://lab.dpdk.org/results/dashboard/patchsets/32511/ UNH-IOL DPDK Community Lab To manage your email subscriptions, visit: https://lab.dpdk.org/results/dashboard/preferences/subscriptions/