From mboxrd@z Thu Jan 1 00:00:00 1970 Return-Path: Received: from mails.dpdk.org (mails.dpdk.org [217.70.189.124]) by inbox.dpdk.org (Postfix) with ESMTP id A5E21461AD for ; Thu, 6 Feb 2025 20:41:54 +0100 (CET) Received: from mails.dpdk.org (localhost [127.0.0.1]) by mails.dpdk.org (Postfix) with ESMTP id 76E56402BC; Thu, 6 Feb 2025 20:41:54 +0100 (CET) Received: from mail-oo1-f97.google.com (mail-oo1-f97.google.com [209.85.161.97]) by mails.dpdk.org (Postfix) with ESMTP id 4808E4026C for ; Thu, 6 Feb 2025 20:41:53 +0100 (CET) Received: by mail-oo1-f97.google.com with SMTP id 006d021491bc7-5f304ac59b9so678917eaf.0 for ; Thu, 06 Feb 2025 11:41:53 -0800 (PST) DKIM-Signature: v=1; a=rsa-sha256; c=relaxed/relaxed; d=iol.unh.edu; s=unh-iol; t=1738870912; x=1739475712; darn=dpdk.org; h=references:in-reply-to:cc:to:from:subject:message-id:date:from:to :cc:subject:date:message-id:reply-to; bh=5nYdaABFmknkP+hUd6Hksx6w1CPCRn2U0MwPekww00U=; b=UUhHwSbOgog1nZpLLW2LtsJ2+G8cPFJ7KmHu/5XMUUFSWuErm+5/pRA3gCuUbjsFBW P/jA3X67OjVDxliA36AVLbUiawe1sq7q9EruteRvsBsRTUcnPH1c7CTU+7E3n/5QP78U +NsdfoKvaQLjdC4tzFyhTG+pL6ZPmdDEDdlGU= X-Google-DKIM-Signature: v=1; a=rsa-sha256; c=relaxed/relaxed; d=1e100.net; s=20230601; t=1738870912; x=1739475712; h=references:in-reply-to:cc:to:from:subject:message-id:date :x-gm-message-state:from:to:cc:subject:date:message-id:reply-to; bh=5nYdaABFmknkP+hUd6Hksx6w1CPCRn2U0MwPekww00U=; b=kx2czLrL+jZauAHs06LYWz1C489Z7kBRg7sQDiTdj6YAZZm7Gnkm8OUeLRT7xlSFPZ t/X5m/uM8Odsna6aLxE0gmFeNwUJqPrsWhw9OHtQCyYUZ1v3yagoVZRuZe3A+phNu5v7 HY4BJdmj8PFMhn8ha1z7bb+hegF6ZLuRCgdfkWv/aH9V5jy90j673Yg67cez7pocpuBR KwXEnkkRLAKzYtSGvBWTtJwYaSt/ikGlTGYgZK1Mv557t2BDeIhtK+JuBCxc4Wfderf4 8TbJ5C9T54YrKAePan1UsD4PKD5NsVe7QjtNLJqfytLNTy4c7MJt4oNaiDNUzlWecdJd ROcQ== X-Gm-Message-State: AOJu0YxZQvwffw/qiPAta5g+EH+95f12ESPsMGkLxQT3eB/tzEvPKDmw fhXVrKci/gUTDb3P2kBcS1iHmqlz6V+rDtns8HyeShsv400qKOo7JxjAVSsbiuSTi4ZARe6qVZl NF31x8A0E8+NacmLr3SIDWn8fH6ejR7grRsI1CmNx X-Gm-Gg: ASbGncus/i/JyvFxK1vKohfoeUBMRDggfip3A/b6RXWS2FSoiqAgyV7S1ftyyPqjVQX qxX8fwJbL1ISrFDbrfLdIcDFpPTQUnht6wWsytM1V5wsPEDQiXHAxR/wT1omy1pnTZXgdN2ITkL vVHWE5uj7GNKQmHwvJ4pc2ugLLCt7GIifL/MV4Rgg75xupPZnfTqON4bwEZcpfJaEwaKaByGQA0 vkv8s0wEC6OI3kvgkeeTPiTS7w+nWm8y0cFl0xWVYjzb8eUIO8bed+AK1h0YkZa27lmzRJeT8Zp GXxhpnkrJg4Z0bg30CXIK9v9osh8Lw== X-Google-Smtp-Source: AGHT+IHY2drUkos+4FkJdWgQiUAPPAighm545IwUWNkwmiqjFezemdyCeloFI/hG1jJ561CH1NcRFMd2CAAs X-Received: by 2002:a05:6820:2218:b0:5fa:2edd:8e7d with SMTP id 006d021491bc7-5fc5e6e60f7mr451000eaf.5.1738870912360; Thu, 06 Feb 2025 11:41:52 -0800 (PST) Received: from postal.iol.unh.edu (postal.iol.unh.edu. [132.177.123.84]) by smtp-relay.gmail.com with ESMTPS id 006d021491bc7-5fc5458c7dbsm42023eaf.18.2025.02.06.11.41.52 (version=TLS1_2 cipher=ECDHE-ECDSA-AES128-GCM-SHA256 bits=128/128); Thu, 06 Feb 2025 11:41:52 -0800 (PST) X-Relaying-Domain: iol.unh.edu Date: Thu, 06 Feb 2025 11:41:52 -0800 (PST) Message-ID: <67a51080.050a0220.390839.20aaSMTPIN_ADDED_MISSING@mx.google.com> Received: from [172.21.0.6] (unknown [172.18.0.240]) by postal.iol.unh.edu (Postfix) with ESMTP id E9EBB6052471; Thu, 6 Feb 2025 14:41:51 -0500 (EST) Subject: |SUCCESS| pw151047-151070 [PATCH] [v1,24/24] net/e1000/base: skip MA From: dpdklab@iol.unh.edu To: Test Report Cc: dpdk-test-reports@iol.unh.edu In-Reply-To: <63259ddf726a037a6e9efb484b3ec53a8aa340d5.1738858026.git.anatoly.burakov@intel.com> References: <63259ddf726a037a6e9efb484b3ec53a8aa340d5.1738858026.git.anatoly.burakov@intel.com> Content-Type: text/plain X-BeenThere: test-report@dpdk.org X-Mailman-Version: 2.1.29 Precedence: list List-Id: automatic DPDK test reports List-Unsubscribe: , List-Archive: List-Post: List-Help: List-Subscribe: , Errors-To: test-report-bounces@dpdk.org Test-Label: iol-compile-amd64-testing Test-Status: SUCCESS http://dpdk.org/patch/151070 _Testing PASS_ Submitter: Anatoly Burakov Date: Thursday, February 06 2025 16:08:47 DPDK git baseline: Repo:dpdk Branch: master CommitID:abf3b7b7b361f8aa8d75ae00d449b588a0cdcda3 151047-151070 --> testing pass Upstream job id: Generic-VM-DPDK-Compile-Meson#33098 Test environment and result as below: +---------------------+--------------------+-------------------+ | Environment | dpdk_meson_compile | dpdk_msvc_compile | +=====================+====================+===================+ | FreeBSD 13.4 | PASS | SKIPPED | +---------------------+--------------------+-------------------+ | FreeBSD 14.2 | PASS | SKIPPED | +---------------------+--------------------+-------------------+ | Windows Server 2022 | SKIPPED | PASS | +---------------------+--------------------+-------------------+ FreeBSD 13.4 Kernel: 13.4-RELEASE-p1 Compiler: clang 18.1.6 FreeBSD 14.2 Kernel: 14.2-RELEASE Compiler: clang 18.1.6 Windows Server 2022 Kernel: 10.0.20348.2031 Compiler: clang 15.0.7, gcc 14.1.0 (MinGW), and MSVC VS 19.39.33521 To view detailed results, visit: https://lab.dpdk.org/results/dashboard/patchsets/32513/ UNH-IOL DPDK Community Lab To manage your email subscriptions, visit: https://lab.dpdk.org/results/dashboard/preferences/subscriptions/