From mboxrd@z Thu Jan 1 00:00:00 1970 Return-Path: Received: from mails.dpdk.org (mails.dpdk.org [217.70.189.124]) by inbox.dpdk.org (Postfix) with ESMTP id 702F7461AD for ; Thu, 6 Feb 2025 20:49:05 +0100 (CET) Received: from mails.dpdk.org (localhost [127.0.0.1]) by mails.dpdk.org (Postfix) with ESMTP id 6CFC8402BC; Thu, 6 Feb 2025 20:49:05 +0100 (CET) Received: from mail-qv1-f99.google.com (mail-qv1-f99.google.com [209.85.219.99]) by mails.dpdk.org (Postfix) with ESMTP id CCCDD4026C for ; Thu, 6 Feb 2025 20:49:03 +0100 (CET) Received: by mail-qv1-f99.google.com with SMTP id 6a1803df08f44-6e1b11859a7so8884906d6.1 for ; Thu, 06 Feb 2025 11:49:03 -0800 (PST) DKIM-Signature: v=1; a=rsa-sha256; c=relaxed/relaxed; d=iol.unh.edu; s=unh-iol; t=1738871343; x=1739476143; darn=dpdk.org; h=cc:to:from:subject:message-id:date:from:to:cc:subject:date :message-id:reply-to; bh=YZ+M031ZIpnKTPbovGpnHG89T5lVB4fPMcfHcbBuGGY=; b=hMwWRDpK7CYRif8MqPCn9Nc4xqFasVuWR4Zhg0O1kCzdUVQqncx4gWnzL7Fac4ca/x NB2GZaeIF6WsRnab9e6dTnLvtX+jUKQqHF8JZOeuLtQXndN9NR4xzQR9Ko8/6PzAzWMt weFQ2FVUlMl46Lcn7WpSWGCKz/2uMFPfCQ32E= X-Google-DKIM-Signature: v=1; a=rsa-sha256; c=relaxed/relaxed; d=1e100.net; s=20230601; t=1738871343; x=1739476143; h=cc:to:from:subject:message-id:date:x-gm-message-state:from:to:cc :subject:date:message-id:reply-to; bh=YZ+M031ZIpnKTPbovGpnHG89T5lVB4fPMcfHcbBuGGY=; b=c8Svo/S0Wu2C39inS+0Z3c3/NeUa6n/U6rXr18Mjo9jNUUaV+WmRMH2LnIFoiEtCZH zmKg1Z6ZmZZSFFNKlUrNo1ZUfZE3DuIwZPDyQsA5NIq3x28hLlkch3eALWIEqU7iV8Pm Mao2uR/IHKIEuIWWvSgjddBONhLGIj9lSN3a7/gwGx+qlQDKIwj6pYV2EMJqRYGyIopw LfaGGmOtx1OXzsJdYCeEbHSr9AwpkQNPxTd7Rv0kNKuWvuVZokDhiWCPVY4fQT+g17zt 0wwSABmYFS4pMccLd/mzxo8dng/LQUNwdbqhMp3waJ+ghbmjydgL51Ngn/UyltPSCD4x kSEg== X-Gm-Message-State: AOJu0YxDDCVZiNn4F07bxjJXWC2wnsjwpbIwE0XjRdKP53HddiBpWndp OUqLeA5rx6j0f9VFGKSOUUB/EFAQgFwhuHs5oOlKsI1uZwuwxNaIFJ/4mBWXAirE1dHTVOsbWlx awcj5dmKaowKNrTfmZ0ohH/NQh83TTiPu X-Gm-Gg: ASbGnctc4ckbXyxM2haC6ajCrrohjooE6coLRyrnCj7AaLjuFH/9IFJvkFej/LgLZcR Knqj9rXX3l3eO6SmpQt1YpR6gjc3kZK50S3+rDiPcwCfwUF6zfv4zKViJ0wv/OklAGqxRZpq5HC Aq6bEoR0NjDjVQcXjna/EGEFwfxETHW1uMrXICZsExQPoEoAiQibM/ZY6B18RQH0AlZt4D5HLle OGEl/omFAfj5ubJ/7MGsxJiUh2Ojj3g2jbYXCweoxEXhGuZpqfynjW0LMV9U7Uyo3az7xPgCDvg LCsDBuMvAqPZCGgpiJXncGru2W5PzQ== X-Google-Smtp-Source: AGHT+IF+TWV/vl/GqNnlSId9kYTsksDaL5k/DI00EYZwUYbGFj49cxEjYhA6Qhk/zPsOOdZLmjLTUZnZsKBI X-Received: by 2002:a05:6214:2688:b0:6d8:850a:4d77 with SMTP id 6a1803df08f44-6e4455c19a6mr4926756d6.7.1738871343231; Thu, 06 Feb 2025 11:49:03 -0800 (PST) Received: from postal.iol.unh.edu (postal.iol.unh.edu. [132.177.123.84]) by smtp-relay.gmail.com with ESMTPS id 6a1803df08f44-6e43ba54e65sm1170906d6.35.2025.02.06.11.49.03 (version=TLS1_2 cipher=ECDHE-ECDSA-AES128-GCM-SHA256 bits=128/128); Thu, 06 Feb 2025 11:49:03 -0800 (PST) X-Relaying-Domain: iol.unh.edu Date: Thu, 06 Feb 2025 11:49:03 -0800 (PST) Message-ID: <67a5122f.050a0220.1f825b.67c4SMTPIN_ADDED_MISSING@mx.google.com> Received: from [172.21.0.6] (unknown [172.18.0.240]) by postal.iol.unh.edu (Postfix) with ESMTP id EE8506052471; Thu, 6 Feb 2025 14:49:02 -0500 (EST) Subject: |SUCCESS| [GIT MASTER] f2eea2f37a82bb73fb01d56350708f7d70e21379 From: dpdklab@iol.unh.edu To: Test Report Cc: dpdk-test-reports@iol.unh.edu, Xueming Li , Christian Ehrhardt , Kevin Traynor , Luca Boccassi Content-Type: text/plain X-BeenThere: test-report@dpdk.org X-Mailman-Version: 2.1.29 Precedence: list List-Id: automatic DPDK test reports List-Unsubscribe: , List-Archive: List-Post: List-Help: List-Subscribe: , Errors-To: test-report-bounces@dpdk.org _Testing PASS_ Branch: tags/v24.11 f2eea2f37a82bb73fb01d56350708f7d70e21379 --> testing pass Upstream job id: Generic-DPDK-Compile-Meson#358463 Test environment and result as below: +------------------------------------+--------------------+ | Environment | dpdk_meson_compile | +====================================+====================+ | RHEL9 (ARM) | PASS | +------------------------------------+--------------------+ | Ubuntu 20.04 ARM GCC Cross Compile | PASS | +------------------------------------+--------------------+ | Ubuntu 20.04 ARM SVE | PASS | +------------------------------------+--------------------+ | Debian 12 with MUSDK | PASS | +------------------------------------+--------------------+ | Fedora 40 (ARM) | PASS | +------------------------------------+--------------------+ | Fedora 40 (ARM Clang) | PASS | +------------------------------------+--------------------+ | Fedora 41 (ARM) | PASS | +------------------------------------+--------------------+ | Fedora 41 (ARM Clang) | PASS | +------------------------------------+--------------------+ | Ubuntu 20.04 (ARM) | PASS | +------------------------------------+--------------------+ | Ubuntu 22.04 (ARM) | PASS | +------------------------------------+--------------------+ | Ubuntu 24.04 (ARM) | PASS | +------------------------------------+--------------------+ | CentOS Stream 9 (ARM) | PASS | +------------------------------------+--------------------+ | Debian 11 (Buster) (ARM) | PASS | +------------------------------------+--------------------+ | Debian 12 (arm) | PASS | +------------------------------------+--------------------+ RHEL9 (ARM) Kernel: Depends on container host Compiler: gcc 11.5.0 20240719 (Red Hat 11.5.0-2) Ubuntu 20.04 ARM GCC Cross Compile Kernel: Depends on container host Compiler: aarch64-linux-gnu-gcc (Ubuntu 9.4.0-1ubuntu1~20.04.2) 9.4.0 Ubuntu 20.04 ARM SVE Kernel: Depends on container host Compiler: gcc (Ubuntu 10.5.0-1ubuntu1~20.04) 10.5.0 Debian 12 with MUSDK Kernel: Depends on container host Compiler: gcc (Debian 12.2.0-14) 12.2.0 Fedora 40 (ARM) Kernel: Depends on container host Compiler: gcc 14.2.1 20240912 (Red Hat 14.2.1-3) Fedora 40 (ARM Clang) Kernel: Depends on container host Compiler: clang 18.1.8 (Fedora 18.1.8-1.fc40) Fedora 41 (ARM) Kernel: Depends on container host Compiler: gcc 14.2.1 20240912 (Red Hat 14.2.1-3) Fedora 41 (ARM Clang) Kernel: Depends on container host Compiler: clang 19.1.5 (Fedora 19.1.5-1.fc41) Ubuntu 20.04 (ARM) Kernel: Depends on container host Compiler: gcc (Ubuntu 9.4.0-1ubuntu1~20.04.2) 9.4.0 Ubuntu 22.04 (ARM) Kernel: Depends on container host Compiler: gcc (Ubuntu 11.4.0-1ubuntu1~22.04) 11.4.0 Ubuntu 24.04 (ARM) Kernel: Depends on container host Compiler: gcc (Ubuntu 13.3.0-6ubuntu2~24.04) 13.3.0 CentOS Stream 9 (ARM) Kernel: Depends on container host Compiler: gcc 11.5.0 20240719 (Red Hat 11.5.0-2) Debian 11 (Buster) (ARM) Kernel: Depends on container host Compiler: gcc (Debian 10.2.1-6) 10.2.1 20210110 Debian 12 (arm) Kernel: Depends on container host Compiler: gcc (Debian 12.2.0-14) 12.2.0 To view detailed results, visit: https://lab.dpdk.org/results/dashboard/tarballs/32466/ UNH-IOL DPDK Community Lab To manage your email subscriptions, visit: https://lab.dpdk.org/results/dashboard/preferences/subscriptions/