From mboxrd@z Thu Jan 1 00:00:00 1970 Return-Path: Received: from mails.dpdk.org (mails.dpdk.org [217.70.189.124]) by inbox.dpdk.org (Postfix) with ESMTP id 96202461AD for ; Thu, 6 Feb 2025 20:53:49 +0100 (CET) Received: from mails.dpdk.org (localhost [127.0.0.1]) by mails.dpdk.org (Postfix) with ESMTP id 615C1402BC; Thu, 6 Feb 2025 20:53:49 +0100 (CET) Received: from mail-pl1-f226.google.com (mail-pl1-f226.google.com [209.85.214.226]) by mails.dpdk.org (Postfix) with ESMTP id A54854026C for ; Thu, 6 Feb 2025 20:53:47 +0100 (CET) Received: by mail-pl1-f226.google.com with SMTP id d9443c01a7336-21f44e7eae4so12419165ad.2 for ; Thu, 06 Feb 2025 11:53:47 -0800 (PST) DKIM-Signature: v=1; a=rsa-sha256; c=relaxed/relaxed; d=iol.unh.edu; s=unh-iol; t=1738871626; x=1739476426; darn=dpdk.org; h=references:in-reply-to:cc:to:from:subject:message-id:date:from:to :cc:subject:date:message-id:reply-to; bh=9mN8tQcanVCO1bT9lDdCiPCR6npw6TR5/zUuxk5ZZyk=; b=S0GqQAh1S4TLdY/lI7Z5Ppi+ILUeEG53qCgVFD5oBiNSFocDaMrMLRk25EmSNAhyZE usaKbOy+5KU++0sNLMV34tZDkznxTOsi3v5VXfzrsPog7IWEQ7tzaDYiiUQ2azWBiIKd QQhbEKi9zcBBl9G7ClpRD0A3/xoDUizDr8h4U= X-Google-DKIM-Signature: v=1; a=rsa-sha256; c=relaxed/relaxed; d=1e100.net; s=20230601; t=1738871626; x=1739476426; h=references:in-reply-to:cc:to:from:subject:message-id:date :x-gm-message-state:from:to:cc:subject:date:message-id:reply-to; bh=9mN8tQcanVCO1bT9lDdCiPCR6npw6TR5/zUuxk5ZZyk=; b=dUz6Ald0QvV2G1oWB355RkxpVJgxifWrHE4SkNoQFN5jdhlYz5FVOT53tpl7rbIupN iRMEKsPBIXKzwXFgl+FUNElR7ZOEvvPK7sDEx7+6E7ARguIKkulvnccNfZ/7Onwf+G15 Pw13lttKpHMuRu/vkofJUJVntrIxmOzvVurZ9M7wU+YW0WDVxBpLDfUgx9BO+HcQ0LBk QYwTzWR2TAX9OzM7s3iIo70xPyY/0rYyJ/u9zQnodCxPoO8+MMYgQLTFm6aAJPKaKlST thjjk/jTjASiSb14jHOFMo1xm/HjN/3+EnxX1Lnz3xUQ9QnFjpJi3Sl72k2c9QcFTzSt 3e+Q== X-Gm-Message-State: AOJu0YwRGholulF/ocE3pCq6FJWbp9hJZ/GQhdJUCY5vbPksMEyAgpYI WeN2pHKD7RiVlcgnL9dG/4aS4ZPXzqMhplv62BoKHudKAOqwCOEht9mat7IgQ8OsRl70MvyndVB Iv04O1nC+KKnKdu0FC/JFXnnBGzM9tXDvzxaNPADcA1DnniqrHXh6NhB3 X-Gm-Gg: ASbGncvXFjffHSs75My8x2KvmIaJH5xItMSlqtQzpJ37xaojqrYJJfnaxiY7wzQI9jr jzlhc6OXC8b3BP24obNWXVvetxngqIV+KbwGKLwv+SVjl+XKSAT+4wlIiEwBcAWyJzpjbZ2gPYr tqgopJORmCirs/hm5+US46aWzeNHZ/dxNaLpkQCg1X64/BNn2Fc86Yn3pJGAgdkWw66jEOcPK6A Kh7ju0xqrJMUjdS4hCFJ4qKdQtRObEnJRH4+KoV+nIwnxbYBqShOHbUZzU511SfZUt9GXRIk/X6 X0ij2NjCICKT9Z7XzMtZWz9M67PZbMp9pizZMXyUVQ== X-Google-Smtp-Source: AGHT+IHPNtcHTzWeW3jnzEn70fgUCtKFDK+y2p+vNCQKGaCYBYUWXECAEp8pC9ottQQxEYz7MkTVbYcR/Zi3 X-Received: by 2002:a17:902:e9d1:b0:21f:4e7:9b16 with SMTP id d9443c01a7336-21f4e6a583bmr6593595ad.1.1738871626508; Thu, 06 Feb 2025 11:53:46 -0800 (PST) Received: from postal.iol.unh.edu (postal.iol.unh.edu. [2606:4100:3880:1234::84]) by smtp-relay.gmail.com with ESMTPS id d9443c01a7336-21f3653ad84sm860205ad.31.2025.02.06.11.53.46 (version=TLS1_2 cipher=ECDHE-ECDSA-AES128-GCM-SHA256 bits=128/128); Thu, 06 Feb 2025 11:53:46 -0800 (PST) X-Relaying-Domain: iol.unh.edu Date: Thu, 06 Feb 2025 11:53:46 -0800 (PST) Message-ID: <67a5134a.170a0220.39f0c7.4d29SMTPIN_ADDED_MISSING@mx.google.com> Received: from [172.21.0.6] (unknown [172.18.0.240]) by postal.iol.unh.edu (Postfix) with ESMTP id B51126052471; Thu, 6 Feb 2025 14:53:45 -0500 (EST) Subject: |SUCCESS| pw151040 [PATCH] vhost: fix FD entries cleanup From: dpdklab@iol.unh.edu To: Test Report Cc: dpdk-test-reports@iol.unh.edu In-Reply-To: <20250206084154.2230766-1-maxime.coquelin@redhat.com> References: <20250206084154.2230766-1-maxime.coquelin@redhat.com> Content-Type: text/plain X-BeenThere: test-report@dpdk.org X-Mailman-Version: 2.1.29 Precedence: list List-Id: automatic DPDK test reports List-Unsubscribe: , List-Archive: List-Post: List-Help: List-Subscribe: , Errors-To: test-report-bounces@dpdk.org Test-Label: iol-compile-amd64-testing Test-Status: SUCCESS http://dpdk.org/patch/151040 _Testing PASS_ Submitter: Maxime Coquelin Date: Thursday, February 06 2025 08:41:54 DPDK git baseline: Repo:dpdk Branch: master CommitID:d92688baedcfc963b7539899347012a09c45a15b 151040 --> testing pass Upstream job id: Generic-DPDK-Compile-Meson#358554 Test environment and result as below: +---------------------+-------------------+--------------------+----------------------+------------------+-------------------+ | Environment | dpdk_msvc_compile | dpdk_meson_compile | dpdk_mingw64_compile | dpdk_compile_ovs | dpdk_compile_spdk | +=====================+===================+====================+======================+==================+===================+ | Windows Server 2022 | PASS | SKIPPED | PASS | SKIPPED | SKIPPED | +---------------------+-------------------+--------------------+----------------------+------------------+-------------------+ | FreeBSD 13.4 | SKIPPED | PASS | SKIPPED | SKIPPED | SKIPPED | +---------------------+-------------------+--------------------+----------------------+------------------+-------------------+ | FreeBSD 14.2 | SKIPPED | PASS | SKIPPED | SKIPPED | SKIPPED | +---------------------+-------------------+--------------------+----------------------+------------------+-------------------+ | CentOS Stream 9 | SKIPPED | PASS | SKIPPED | PASS | PASS | +---------------------+-------------------+--------------------+----------------------+------------------+-------------------+ | Debian Bullseye | SKIPPED | PASS | SKIPPED | PASS | PASS | +---------------------+-------------------+--------------------+----------------------+------------------+-------------------+ | Debian 12 | SKIPPED | PASS | SKIPPED | PASS | PASS | +---------------------+-------------------+--------------------+----------------------+------------------+-------------------+ | Fedora 40 (Clang) | SKIPPED | PASS | SKIPPED | PASS | PASS | +---------------------+-------------------+--------------------+----------------------+------------------+-------------------+ | Fedora 40 | SKIPPED | PASS | SKIPPED | PASS | PASS | +---------------------+-------------------+--------------------+----------------------+------------------+-------------------+ | Fedora 41 (Clang) | SKIPPED | PASS | SKIPPED | PASS | PASS | +---------------------+-------------------+--------------------+----------------------+------------------+-------------------+ | Fedora 41 | SKIPPED | PASS | SKIPPED | PASS | PASS | +---------------------+-------------------+--------------------+----------------------+------------------+-------------------+ | openSUSE Leap 15 | SKIPPED | PASS | SKIPPED | SKIPPED | SKIPPED | +---------------------+-------------------+--------------------+----------------------+------------------+-------------------+ | RHEL8 | SKIPPED | PASS | SKIPPED | PASS | SKIPPED | +---------------------+-------------------+--------------------+----------------------+------------------+-------------------+ | RHEL9 | SKIPPED | PASS | SKIPPED | PASS | SKIPPED | +---------------------+-------------------+--------------------+----------------------+------------------+-------------------+ | Ubuntu 20.04 | SKIPPED | PASS | SKIPPED | SKIPPED | SKIPPED | +---------------------+-------------------+--------------------+----------------------+------------------+-------------------+ | Ubuntu 22.04 | SKIPPED | PASS | SKIPPED | PASS | PASS | +---------------------+-------------------+--------------------+----------------------+------------------+-------------------+ | Ubuntu 24.04 | SKIPPED | PASS | SKIPPED | PASS | PASS | +---------------------+-------------------+--------------------+----------------------+------------------+-------------------+ | Alpine | SKIPPED | PASS | SKIPPED | PASS | SKIPPED | +---------------------+-------------------+--------------------+----------------------+------------------+-------------------+ Windows Server 2022 Kernel: 10.0.20348.2031 Compiler: clang 15.0.7, gcc 14.1.0 (MinGW), and MSVC VS 19.39.33521 FreeBSD 13.4 Kernel: 13.4-RELEASE-p1 Compiler: clang 18.1.6 FreeBSD 14.2 Kernel: 14.2-RELEASE Compiler: clang 18.1.6 CentOS Stream 9 Kernel: Depends on container host Compiler: gcc 11.5.0 20240719 (Red Hat 11.5.0-2) Debian Bullseye Kernel: Depends on container host Compiler: gcc (Debian 10.2.1-6) 10.2.1 20210110 Debian 12 Kernel: Depends on container host Compiler: gcc (Debian 12.2.0-14) 12.2.0 Fedora 40 (Clang) Kernel: Depends on container host Compiler: clang 18.1.8 (Fedora 18.1.8-1.fc40) Fedora 40 Kernel: Depends on container host Compiler: gcc 14.2.1 20240912 (Red Hat 14.2.1-3) Fedora 41 (Clang) Kernel: Depends on container host Compiler: clang 19.1.5 (Fedora 19.1.5-1.fc41) Fedora 41 Kernel: Depends on container host Compiler: gcc 14.2.1 20240912 (Red Hat 14.2.1-3) openSUSE Leap 15 Kernel: Depends on container host Compiler: gcc (SUSE Linux) 7.5.0 RHEL8 Kernel: Depends on container host Compiler: gcc 8.5.0 20210514 (Red Hat 8.5.0-22) RHEL9 Kernel: Depends on container host Compiler: gcc 11.5.0 20240719 (Red Hat 11.5.0-2) Ubuntu 20.04 Kernel: Depends on container host Compiler: gcc (Ubuntu 9.4.0-1ubuntu1~20.04.2) 9.4.0 Ubuntu 22.04 Kernel: Depends on container host Compiler: gcc (Ubuntu 11.4.0-1ubuntu1~22.04) 11.4.0 Ubuntu 24.04 Kernel: Depends on container host Compiler: gcc (Ubuntu 13.3.0-6ubuntu2~24.04) 13.3.0 Alpine Kernel: Depends on container host Compiler: gcc (Alpine 14.2.0) 14.2.0 To view detailed results, visit: https://lab.dpdk.org/results/dashboard/patchsets/32509/ UNH-IOL DPDK Community Lab To manage your email subscriptions, visit: https://lab.dpdk.org/results/dashboard/preferences/subscriptions/