From mboxrd@z Thu Jan 1 00:00:00 1970 Return-Path: Received: from mails.dpdk.org (mails.dpdk.org [217.70.189.124]) by inbox.dpdk.org (Postfix) with ESMTP id 9E692461AD for ; Thu, 6 Feb 2025 20:55:02 +0100 (CET) Received: from mails.dpdk.org (localhost [127.0.0.1]) by mails.dpdk.org (Postfix) with ESMTP id 95BDB402BC; Thu, 6 Feb 2025 20:55:02 +0100 (CET) Received: from mail-il1-f226.google.com (mail-il1-f226.google.com [209.85.166.226]) by mails.dpdk.org (Postfix) with ESMTP id C402C4026C for ; Thu, 6 Feb 2025 20:55:00 +0100 (CET) Received: by mail-il1-f226.google.com with SMTP id e9e14a558f8ab-3d04d767d3aso10761685ab.2 for ; Thu, 06 Feb 2025 11:55:00 -0800 (PST) DKIM-Signature: v=1; a=rsa-sha256; c=relaxed/relaxed; d=iol.unh.edu; s=unh-iol; t=1738871700; x=1739476500; darn=dpdk.org; h=references:in-reply-to:cc:to:from:subject:message-id:date:from:to :cc:subject:date:message-id:reply-to; bh=Hy65D1AHHYXpvw6Iqlc1vd+P28rEoB0XsJeKz8qXELE=; b=dmRB1DdAOmN+Hxjg/HyqRohQOHys3bVjy/Y0/UPVjOp+wSo+jkBMXIsmBhIcxClIbV 0KDCh20m5En319XFSfIA8rL106mPLFD8qsXahnl8Ponn+u+0yjtH2qc/RYUuM1v6Eytj vKm5xLKCYFDsJgGFQ4u/Ihwbxhw7qGXwOJ8AQ= X-Google-DKIM-Signature: v=1; a=rsa-sha256; c=relaxed/relaxed; d=1e100.net; s=20230601; t=1738871700; x=1739476500; h=references:in-reply-to:cc:to:from:subject:message-id:date :x-gm-message-state:from:to:cc:subject:date:message-id:reply-to; bh=Hy65D1AHHYXpvw6Iqlc1vd+P28rEoB0XsJeKz8qXELE=; b=BtPKw4mamkqSSkhh8G5FA8h35yl4Bz20x/62pVYc7EwhSW76kg9iwS9bzi9yJGMMHc kccsyg9e+9bYImxtP36LcXmzW6oT6cKzzQ7GLYhjNzWx2oghQgYPuWmFhq8PAnhACC30 zmEQS6WeMeeJqjmj5KJN4Fn8YOBXWGeznYzj31NG4g8ZwC0m9mu8Q0PDdp7mKU9CZxvV hf5Zn2irXm//wRMF6LxrBX8LRVyxAC1oXJfdbu12yDfMjwrzDTqe67H81r1d2JL6BGXC EpLSGrCVE9h5YMnLoy427PkVfdpZ0XPBICluiufQIlXfI8dcWWMutdpFx8aXXKs6qzOt Ucew== X-Gm-Message-State: AOJu0YwuV24eQo0zByT7qIBWhPNftwhfQlPoVjbIo1YDkJfRRQUkn8A3 GtVfEIMMuB1ZpBC+Qm5pRqFNb2HffuUVfeiu3osfMllt8s+O8Na6d5KQtFfUcf9JrbJ7W+U40kD 9KQTkNuJR6EzhTxrbKGwwKgAC+I3RwQsL2J4KJMx6ydr65Bmo8dMa0qJS X-Gm-Gg: ASbGncs7AsOwR49qPYqLfp/kgKm8iXsnx+w9MRJigaey1jJHM5u8eFwjEaLYe/jHYdv WBDlPdBMNfY9dUdt0n9SipIa1yde1SOPg1xeZI4Wzh8ho1LxfJ8ZjKjgziQDBvI8a6u3DHdrWzr IBI4OFvCOxW6ynczNuC9IlHDrPRk5BTa9SgEjD9UPrj8eMLLwU0cB3xB4qNst+Lz6cLjB1vSYZC Q8bgy3VO8Zu6cNeeUhw3LDTD4cGAJcL0qv4quVmpePXVbWVqEtXioexhoASensy76vVxKBuvNl0 SspxDzwcnDdVlaSGw5S/ZiBQY/qkj1vfF9zJK7CplA== X-Google-Smtp-Source: AGHT+IF4heZGNPySIuo0JWjVhj2TuuL/rNtO9G1EUTlpoxU7OPSq+SSAtOc+OpTH0BUNUnC8HmQzcOHrwW0i X-Received: by 2002:a05:6e02:2166:b0:3d0:10a6:99aa with SMTP id e9e14a558f8ab-3d13de79066mr2866265ab.4.1738871699007; Thu, 06 Feb 2025 11:54:59 -0800 (PST) Received: from postal.iol.unh.edu (postal.iol.unh.edu. [2606:4100:3880:1234::84]) by smtp-relay.gmail.com with ESMTPS id 8926c6da1cb9f-4eccfaf728dsm116956173.73.2025.02.06.11.54.58 (version=TLS1_2 cipher=ECDHE-ECDSA-AES128-GCM-SHA256 bits=128/128); Thu, 06 Feb 2025 11:54:58 -0800 (PST) X-Relaying-Domain: iol.unh.edu Date: Thu, 06 Feb 2025 11:54:58 -0800 (PST) Message-ID: <67a51392.050a0220.107578.70daSMTPIN_ADDED_MISSING@mx.google.com> Received: from [172.21.0.5] (unknown [172.18.0.240]) by postal.iol.unh.edu (Postfix) with ESMTP id A4C036052471; Thu, 6 Feb 2025 14:54:58 -0500 (EST) Subject: |SUCCESS| pw151047-151070 [PATCH] [v1,24/24] net/e1000/base: skip MA From: dpdklab@iol.unh.edu To: Test Report Cc: dpdk-test-reports@iol.unh.edu In-Reply-To: <63259ddf726a037a6e9efb484b3ec53a8aa340d5.1738858026.git.anatoly.burakov@intel.com> References: <63259ddf726a037a6e9efb484b3ec53a8aa340d5.1738858026.git.anatoly.burakov@intel.com> Content-Type: text/plain X-BeenThere: test-report@dpdk.org X-Mailman-Version: 2.1.29 Precedence: list List-Id: automatic DPDK test reports List-Unsubscribe: , List-Archive: List-Post: List-Help: List-Subscribe: , Errors-To: test-report-bounces@dpdk.org Test-Label: iol-compile-amd64-testing Test-Status: SUCCESS http://dpdk.org/patch/151070 _Testing PASS_ Submitter: Anatoly Burakov Date: Thursday, February 06 2025 16:08:47 DPDK git baseline: Repo:dpdk Branch: master CommitID:abf3b7b7b361f8aa8d75ae00d449b588a0cdcda3 151047-151070 --> testing pass Upstream job id: Windows-Compile-DPDK-Native#26486 Test environment and result as below: +---------------------+--------------------+-------------------+-------------------------+ | Environment | dpdk_meson_compile | dpdk_msvc_compile | dpdk_llvm_clang_compile | +=====================+====================+===================+=========================+ | FreeBSD 13.4 | PASS | SKIPPED | SKIPPED | +---------------------+--------------------+-------------------+-------------------------+ | FreeBSD 14.2 | PASS | SKIPPED | SKIPPED | +---------------------+--------------------+-------------------+-------------------------+ | Windows Server 2022 | SKIPPED | PASS | PASS | +---------------------+--------------------+-------------------+-------------------------+ FreeBSD 13.4 Kernel: 13.4-RELEASE-p1 Compiler: clang 18.1.6 FreeBSD 14.2 Kernel: 14.2-RELEASE Compiler: clang 18.1.6 Windows Server 2022 Kernel: 10.0.20348.2031 Compiler: clang 15.0.7, gcc 14.1.0 (MinGW), and MSVC VS 19.39.33521 To view detailed results, visit: https://lab.dpdk.org/results/dashboard/patchsets/32513/ UNH-IOL DPDK Community Lab To manage your email subscriptions, visit: https://lab.dpdk.org/results/dashboard/preferences/subscriptions/