* |SUCCESS| [GIT MASTER] 32c18e7364e30a8e43cc7cc6709a7ce606fa285e
@ 2025-02-06 20:02 dpdklab
0 siblings, 0 replies; 8+ messages in thread
From: dpdklab @ 2025-02-06 20:02 UTC (permalink / raw)
To: Test Report; +Cc: dpdk-test-reports, Jerin Jacob
_Functional Testing PASS_
Branch: dpdk-next-eventdev
32c18e7364e30a8e43cc7cc6709a7ce606fa285e --> functional testing pass
Upstream job id: Template-DTS-Pipeline#211174
Test environment and result as below:
Ubuntu 20.04.6
Kernel: 5.4.105
Compiler: gcc 9.4
NIC: Marvell CN106XX 50000 Mbps
Target: arm64-native-linuxapp-gcc
Aggregate Results by Test Suite
+-----------------+--------+
| Test Suite | Result |
+=================+========+
| cmdline | PASS |
+-----------------+--------+
| dynamic_queue | PASS |
+-----------------+--------+
| ipv4_reassembly | PASS |
+-----------------+--------+
| rxtx_callbacks | PASS |
+-----------------+--------+
| tso | PASS |
+-----------------+--------+
To view detailed results, visit:
https://lab.dpdk.org/results/dashboard/tarballs/32475/
UNH-IOL DPDK Community Lab
To manage your email subscriptions, visit:
https://lab.dpdk.org/results/dashboard/preferences/subscriptions/
^ permalink raw reply [flat|nested] 8+ messages in thread
* |SUCCESS| [GIT MASTER] 32c18e7364e30a8e43cc7cc6709a7ce606fa285e
@ 2025-02-06 22:04 dpdklab
0 siblings, 0 replies; 8+ messages in thread
From: dpdklab @ 2025-02-06 22:04 UTC (permalink / raw)
To: Test Report; +Cc: dpdk-test-reports, Jerin Jacob
_Testing PASS_
Branch: dpdk-next-eventdev
32c18e7364e30a8e43cc7cc6709a7ce606fa285e --> testing pass
Upstream job id: Generic-Unit-Test-DPDK#312375
Test environment and result as below:
+---------------------+----------------+
| Environment | dpdk_unit_test |
+=====================+================+
| Debian Bullseye | PASS |
+---------------------+----------------+
| Debian 12 | PASS |
+---------------------+----------------+
| Ubuntu 22.04 | PASS |
+---------------------+----------------+
| Fedora 41 | PASS |
+---------------------+----------------+
| Fedora 40 | PASS |
+---------------------+----------------+
| CentOS Stream 9 | PASS |
+---------------------+----------------+
| RHEL9 | PASS |
+---------------------+----------------+
| Ubuntu 20.04 | PASS |
+---------------------+----------------+
| Fedora 40 (Clang) | PASS |
+---------------------+----------------+
| Ubuntu 24.04 | PASS |
+---------------------+----------------+
| RHEL8 | PASS |
+---------------------+----------------+
| Fedora 41 (Clang) | PASS |
+---------------------+----------------+
| Windows Server 2022 | PASS |
+---------------------+----------------+
Debian Bullseye
Kernel: Depends on container host
Compiler: gcc (Debian 10.2.1-6) 10.2.1 20210110
Debian 12
Kernel: Depends on container host
Compiler: gcc (Debian 12.2.0-14) 12.2.0
Ubuntu 22.04
Kernel: Depends on container host
Compiler: gcc (Ubuntu 11.4.0-1ubuntu1~22.04) 11.4.0
Fedora 41
Kernel: Depends on container host
Compiler: gcc 14.2.1 20240912 (Red Hat 14.2.1-3)
Fedora 40
Kernel: Depends on container host
Compiler: gcc 14.2.1 20240912 (Red Hat 14.2.1-3)
CentOS Stream 9
Kernel: Depends on container host
Compiler: gcc 11.5.0 20240719 (Red Hat 11.5.0-2)
RHEL9
Kernel: Depends on container host
Compiler: gcc 11.5.0 20240719 (Red Hat 11.5.0-2)
Ubuntu 20.04
Kernel: Depends on container host
Compiler: gcc (Ubuntu 9.4.0-1ubuntu1~20.04.2) 9.4.0
Fedora 40 (Clang)
Kernel: Depends on container host
Compiler: clang 18.1.8 (Fedora 18.1.8-1.fc40)
Ubuntu 24.04
Kernel: Depends on container host
Compiler: gcc (Ubuntu 13.3.0-6ubuntu2~24.04) 13.3.0
RHEL8
Kernel: Depends on container host
Compiler: gcc 8.5.0 20210514 (Red Hat 8.5.0-22)
Fedora 41 (Clang)
Kernel: Depends on container host
Compiler: clang 19.1.5 (Fedora 19.1.5-1.fc41)
Windows Server 2022
Kernel: 10.0.20348.2031
Compiler: clang 15.0.7, gcc 14.1.0 (MinGW), and MSVC VS 19.39.33521
To view detailed results, visit:
https://lab.dpdk.org/results/dashboard/tarballs/32475/
UNH-IOL DPDK Community Lab
To manage your email subscriptions, visit:
https://lab.dpdk.org/results/dashboard/preferences/subscriptions/
^ permalink raw reply [flat|nested] 8+ messages in thread
* |SUCCESS| [GIT MASTER] 32c18e7364e30a8e43cc7cc6709a7ce606fa285e
@ 2025-02-06 20:15 dpdklab
0 siblings, 0 replies; 8+ messages in thread
From: dpdklab @ 2025-02-06 20:15 UTC (permalink / raw)
To: Test Report; +Cc: dpdk-test-reports, Jerin Jacob
_Testing PASS_
Branch: dpdk-next-eventdev
32c18e7364e30a8e43cc7cc6709a7ce606fa285e --> testing pass
Upstream job id: Windows-Compile-DPDK-Native#26488
Test environment and result as below:
+---------------------+--------------------+-------------------+-------------------------+
| Environment | dpdk_meson_compile | dpdk_msvc_compile | dpdk_llvm_clang_compile |
+=====================+====================+===================+=========================+
| FreeBSD 13.4 | PASS | SKIPPED | SKIPPED |
+---------------------+--------------------+-------------------+-------------------------+
| FreeBSD 14.2 | PASS | SKIPPED | SKIPPED |
+---------------------+--------------------+-------------------+-------------------------+
| Windows Server 2022 | SKIPPED | PASS | PASS |
+---------------------+--------------------+-------------------+-------------------------+
FreeBSD 13.4
Kernel: 13.4-RELEASE-p1
Compiler: clang 18.1.6
FreeBSD 14.2
Kernel: 14.2-RELEASE
Compiler: clang 18.1.6
Windows Server 2022
Kernel: 10.0.20348.2031
Compiler: clang 15.0.7, gcc 14.1.0 (MinGW), and MSVC VS 19.39.33521
To view detailed results, visit:
https://lab.dpdk.org/results/dashboard/tarballs/32475/
UNH-IOL DPDK Community Lab
To manage your email subscriptions, visit:
https://lab.dpdk.org/results/dashboard/preferences/subscriptions/
^ permalink raw reply [flat|nested] 8+ messages in thread
* |SUCCESS| [GIT MASTER] 32c18e7364e30a8e43cc7cc6709a7ce606fa285e
@ 2025-02-06 20:08 dpdklab
0 siblings, 0 replies; 8+ messages in thread
From: dpdklab @ 2025-02-06 20:08 UTC (permalink / raw)
To: Test Report; +Cc: dpdk-test-reports, Jerin Jacob
_Functional Testing PASS_
Branch: dpdk-next-eventdev
32c18e7364e30a8e43cc7cc6709a7ce606fa285e --> functional testing pass
Upstream job id: Template-DTS-Pipeline#211171
Test environment and result as below:
Ubuntu 22.04
Kernel: 5.15.0-131-generic
Compiler: gcc (Ubuntu 11.4.0-1ubuntu1~22.04) 11.4.0
NIC: Intel Corporation Ethernet Converged Network Adapter 82599ES 10000 Mbps
Aggregate Results by Test Suite
+-----------------------------+--------+
| Test Suite | Result |
+=============================+========+
| unit_tests_mbuf | PASS |
+-----------------------------+--------+
| vhost_virtio_user_interrupt | PASS |
+-----------------------------+--------+
| virtio_smoke | PASS |
+-----------------------------+--------+
To view detailed results, visit:
https://lab.dpdk.org/results/dashboard/tarballs/32475/
UNH-IOL DPDK Community Lab
To manage your email subscriptions, visit:
https://lab.dpdk.org/results/dashboard/preferences/subscriptions/
^ permalink raw reply [flat|nested] 8+ messages in thread
* |SUCCESS| [GIT MASTER] 32c18e7364e30a8e43cc7cc6709a7ce606fa285e
@ 2025-02-06 19:50 dpdklab
0 siblings, 0 replies; 8+ messages in thread
From: dpdklab @ 2025-02-06 19:50 UTC (permalink / raw)
To: Test Report; +Cc: dpdk-test-reports, Jerin Jacob
_Testing PASS_
Branch: dpdk-next-eventdev
32c18e7364e30a8e43cc7cc6709a7ce606fa285e --> testing pass
Upstream job id: Windows-Compile-DPDK-VS#4840
Test environment and result as below:
+---------------------+--------------------+-------------------+
| Environment | dpdk_meson_compile | dpdk_msvc_compile |
+=====================+====================+===================+
| FreeBSD 13.4 | PASS | SKIPPED |
+---------------------+--------------------+-------------------+
| FreeBSD 14.2 | PASS | SKIPPED |
+---------------------+--------------------+-------------------+
| Windows Server 2022 | SKIPPED | PASS |
+---------------------+--------------------+-------------------+
FreeBSD 13.4
Kernel: 13.4-RELEASE-p1
Compiler: clang 18.1.6
FreeBSD 14.2
Kernel: 14.2-RELEASE
Compiler: clang 18.1.6
Windows Server 2022
Kernel: 10.0.20348.2031
Compiler: clang 15.0.7, gcc 14.1.0 (MinGW), and MSVC VS 19.39.33521
To view detailed results, visit:
https://lab.dpdk.org/results/dashboard/tarballs/32475/
UNH-IOL DPDK Community Lab
To manage your email subscriptions, visit:
https://lab.dpdk.org/results/dashboard/preferences/subscriptions/
^ permalink raw reply [flat|nested] 8+ messages in thread
* |SUCCESS| [GIT MASTER] 32c18e7364e30a8e43cc7cc6709a7ce606fa285e
@ 2025-02-06 19:45 dpdklab
0 siblings, 0 replies; 8+ messages in thread
From: dpdklab @ 2025-02-06 19:45 UTC (permalink / raw)
To: Ali Alnubani, Test Report; +Cc: dpdk-test-reports, Jerin Jacob
_Performance Testing PASS_
Branch: dpdk-next-eventdev
32c18e7364e30a8e43cc7cc6709a7ce606fa285e --> performance testing pass
Upstream job id: Template-DTS-Pipeline#211164
Test environment and result as below:
Ubuntu 24.04
Kernel: 6.8.0-45-generic
Compiler: gcc 13.2.0
NIC: NVIDIA Mellanox ConnectX-7 100000 Mbps
Fail/Total: 0/6
Detail performance results:
+------------+---------+----------+-------------+------------------------------+
| frame_size | txd/rxd | num_cpus | num_threads | throughput difference from |
| | | | | expected |
+============+=========+==========+=============+==============================+
| 64 | 1024 | 1 | 1 | -1.0% |
+------------+---------+----------+-------------+------------------------------+
| 128 | 1024 | 1 | 1 | 0.5% |
+------------+---------+----------+-------------+------------------------------+
| 256 | 1024 | 1 | 1 | 0.4% |
+------------+---------+----------+-------------+------------------------------+
| 512 | 1024 | 1 | 1 | 0.0% |
+------------+---------+----------+-------------+------------------------------+
| 1024 | 1024 | 1 | 1 | -0.2% |
+------------+---------+----------+-------------+------------------------------+
| 1518 | 1024 | 1 | 1 | 0.1% |
+------------+---------+----------+-------------+------------------------------+
Ubuntu 24.04
Kernel: 6.8.0-45-generic
Compiler: gcc 13.2.0
NIC: Mellanox ConnectX-6 Lx 25000 Mbps
Fail/Total: 0/6
Detail performance results:
+------------+---------+----------+-------------+------------------------------+
| frame_size | txd/rxd | num_cpus | num_threads | throughput difference from |
| | | | | expected |
+============+=========+==========+=============+==============================+
| 64 | 1024 | 1 | 1 | 0.1% |
+------------+---------+----------+-------------+------------------------------+
| 128 | 1024 | 1 | 1 | -0.3% |
+------------+---------+----------+-------------+------------------------------+
| 256 | 1024 | 1 | 1 | -0.2% |
+------------+---------+----------+-------------+------------------------------+
| 512 | 1024 | 1 | 1 | 0.1% |
+------------+---------+----------+-------------+------------------------------+
| 1024 | 1024 | 1 | 1 | 0.0% |
+------------+---------+----------+-------------+------------------------------+
| 1518 | 1024 | 1 | 1 | 0.1% |
+------------+---------+----------+-------------+------------------------------+
To view detailed results, visit:
https://lab.dpdk.org/results/dashboard/tarballs/32475/
UNH-IOL DPDK Community Lab
To manage your email subscriptions, visit:
https://lab.dpdk.org/results/dashboard/preferences/subscriptions/
^ permalink raw reply [flat|nested] 8+ messages in thread
* |SUCCESS| [GIT MASTER] 32c18e7364e30a8e43cc7cc6709a7ce606fa285e
@ 2025-02-06 19:38 dpdklab
0 siblings, 0 replies; 8+ messages in thread
From: dpdklab @ 2025-02-06 19:38 UTC (permalink / raw)
To: Test Report; +Cc: dpdk-test-reports, Jerin Jacob
_Testing PASS_
Branch: dpdk-next-eventdev
32c18e7364e30a8e43cc7cc6709a7ce606fa285e --> testing pass
Upstream job id: Generic-VM-DPDK-Compile-Meson#33099
Test environment and result as below:
+--------------+--------------------+
| Environment | dpdk_meson_compile |
+==============+====================+
| FreeBSD 13.4 | PASS |
+--------------+--------------------+
FreeBSD 13.4
Kernel: 13.4-RELEASE-p1
Compiler: clang 18.1.6
To view detailed results, visit:
https://lab.dpdk.org/results/dashboard/tarballs/32475/
UNH-IOL DPDK Community Lab
To manage your email subscriptions, visit:
https://lab.dpdk.org/results/dashboard/preferences/subscriptions/
^ permalink raw reply [flat|nested] 8+ messages in thread
* |SUCCESS| [GIT MASTER] 32c18e7364e30a8e43cc7cc6709a7ce606fa285e
@ 2025-02-06 19:21 dpdklab
0 siblings, 0 replies; 8+ messages in thread
From: dpdklab @ 2025-02-06 19:21 UTC (permalink / raw)
To: Test Report; +Cc: dpdk-test-reports, Jerin Jacob
_Testing PASS_
Branch: dpdk-next-eventdev
32c18e7364e30a8e43cc7cc6709a7ce606fa285e --> testing pass
Upstream job id: Template-DTS-Pipeline#211176
Test environment and result as below:
+--------------------+----------------------+
| Environment | compressdev_zlib_pmd |
+====================+======================+
| Ubuntu 22.04 (ARM) | PASS |
+--------------------+----------------------+
Ubuntu 22.04 (ARM)
Kernel: 5.15.0-97-generic
Compiler: gcc gcc (Ubuntu 11.4.0-1ubuntu1~22.04) 11.4.0
To view detailed results, visit:
https://lab.dpdk.org/results/dashboard/tarballs/32475/
UNH-IOL DPDK Community Lab
To manage your email subscriptions, visit:
https://lab.dpdk.org/results/dashboard/preferences/subscriptions/
^ permalink raw reply [flat|nested] 8+ messages in thread
end of thread, other threads:[~2025-02-06 22:04 UTC | newest]
Thread overview: 8+ messages (download: mbox.gz / follow: Atom feed)
-- links below jump to the message on this page --
2025-02-06 20:02 |SUCCESS| [GIT MASTER] 32c18e7364e30a8e43cc7cc6709a7ce606fa285e dpdklab
-- strict thread matches above, loose matches on Subject: below --
2025-02-06 22:04 dpdklab
2025-02-06 20:15 dpdklab
2025-02-06 20:08 dpdklab
2025-02-06 19:50 dpdklab
2025-02-06 19:45 dpdklab
2025-02-06 19:38 dpdklab
2025-02-06 19:21 dpdklab
This is a public inbox, see mirroring instructions
for how to clone and mirror all data and code used for this inbox;
as well as URLs for NNTP newsgroup(s).