From mboxrd@z Thu Jan 1 00:00:00 1970 Return-Path: Received: from mails.dpdk.org (mails.dpdk.org [217.70.189.124]) by inbox.dpdk.org (Postfix) with ESMTP id E4B4A461AF for ; Thu, 6 Feb 2025 21:08:39 +0100 (CET) Received: from mails.dpdk.org (localhost [127.0.0.1]) by mails.dpdk.org (Postfix) with ESMTP id E0AA4402BC; Thu, 6 Feb 2025 21:08:39 +0100 (CET) Received: from mail-oa1-f99.google.com (mail-oa1-f99.google.com [209.85.160.99]) by mails.dpdk.org (Postfix) with ESMTP id B86A64026C for ; Thu, 6 Feb 2025 21:08:38 +0100 (CET) Received: by mail-oa1-f99.google.com with SMTP id 586e51a60fabf-2a01bcd0143so851247fac.2 for ; Thu, 06 Feb 2025 12:08:38 -0800 (PST) DKIM-Signature: v=1; a=rsa-sha256; c=relaxed/relaxed; d=iol.unh.edu; s=unh-iol; t=1738872518; x=1739477318; darn=dpdk.org; h=references:in-reply-to:cc:to:from:subject:message-id:date:from:to :cc:subject:date:message-id:reply-to; bh=tYc2HKl4JMoE3cqKYNUoIhR33dtgbi3LJHiIpsJPVTA=; b=KoZsGtO4I6zIbfTPmZotCJNI79sfypVXJ0uCXngqfHYx9TIU1HLsXIOKBRbPkZWTPU Vx5IMY4vq+/kAIX43f8yrKJcSggKXuLVbmhv+3rhTUyyzRUkeSMpCxe4ngirQMYK9mIS jwItKLXBzXRBfRMIUR80yX35FkAbxAzq545Mk= X-Google-DKIM-Signature: v=1; a=rsa-sha256; c=relaxed/relaxed; d=1e100.net; s=20230601; t=1738872518; x=1739477318; h=references:in-reply-to:cc:to:from:subject:message-id:date :x-gm-message-state:from:to:cc:subject:date:message-id:reply-to; bh=tYc2HKl4JMoE3cqKYNUoIhR33dtgbi3LJHiIpsJPVTA=; b=BXL8cRXvsGYze5WjX0F/IhKT6laP449iMw91lQiJmHVI/eDU5J3qaCRcISPqOQHeDh OGTjObSB180NmOd/VJq4klCRd6YVZi1CfWoh8jOEnF8nnjQBYhmDKnDEgFPpmopujn5M 4BuMaV5sueDQVyjxNtXTMjJ29nL+fg4ITsB6vLRKP2cn5oy0bGQmNPurBi60PtsSS2/f cYYPIObUjbxKI7ICc3jdon0rI6lNSRI8mJboLxfMFQbfTwKj03kFL4kq06pMtHt4TNQc XwUXs8tnbfC25fORmAEG0C+7SoG7xJ5gqe9OThbBsqMssGV1aP2UdZ3SRJVEZ1xNF39F MHUw== X-Gm-Message-State: AOJu0YwbGj0URUDbH72dW7lsdpbbtuP/dit6PfZFePQZOwbDanZnT/TE A7wwfgc6YZ4TZFB5A9r2OjgjeAhD3OS8Eo06RllhLAz1Ok4AyN8hzlMmu52yaUVLe4xVFhbdVXV bPLv9EDjjQeretPTfP1N4yNGM2TjbOS9ZlGqxIleo3wlpbKVerCHNaH31 X-Gm-Gg: ASbGncuc4ZXDg61fIM7A5RrW+aMpMuvoMEscHGl4HTWqL/AvzF0+sxZPcJwVLghGoLl p3Izann0uj4xbISwZj44paANYANLLP0aep5aPp2QjUeCSco3alN9tVHaoCAnA52q3wuSIeRYS78 mr5EGlbHuq7QOsN0+bw1KbIKf+Ol+djQmfT379CgDa6oGsSSGh+fOhfXT0cTOhRBb5yy82Qsoai O3Qixlnb1YDKDlUO7Tio3ys5qjFacAuR8CV+nBgqR9Jme5DqLdZaubvlwzAzRkeiIcsfFN8gAlm lDm1JhnHD8458xuK88ok051EjktyROUtqI+C69X2jQ== X-Google-Smtp-Source: AGHT+IGNNZstNp8cHSqURLsL4WXXLlTviPg1knjlG02K0AGXwZytHW1i6lDb/aIaxaqjnD8XpdcIc9WuTSuP X-Received: by 2002:a05:6870:c0cf:b0:29e:6547:bfe1 with SMTP id 586e51a60fabf-2b83eb4fea7mr376701fac.4.1738872517885; Thu, 06 Feb 2025 12:08:37 -0800 (PST) Received: from postal.iol.unh.edu (postal.iol.unh.edu. [2606:4100:3880:1234::84]) by smtp-relay.gmail.com with ESMTPS id 586e51a60fabf-2b82626f7b6sm103380fac.35.2025.02.06.12.08.37 (version=TLS1_2 cipher=ECDHE-ECDSA-AES128-GCM-SHA256 bits=128/128); Thu, 06 Feb 2025 12:08:37 -0800 (PST) X-Relaying-Domain: iol.unh.edu Date: Thu, 06 Feb 2025 12:08:37 -0800 (PST) Message-ID: <67a516c5.050a0220.59ef9.5cfdSMTPIN_ADDED_MISSING@mx.google.com> Received: from [172.21.0.5] (unknown [172.18.0.240]) by postal.iol.unh.edu (Postfix) with ESMTP id 804516052471; Thu, 6 Feb 2025 15:08:37 -0500 (EST) Subject: |SUCCESS| pw151047-151070 [PATCH] [v1,24/24] net/e1000/base: skip MA From: dpdklab@iol.unh.edu To: Test Report Cc: dpdk-test-reports@iol.unh.edu In-Reply-To: <63259ddf726a037a6e9efb484b3ec53a8aa340d5.1738858026.git.anatoly.burakov@intel.com> References: <63259ddf726a037a6e9efb484b3ec53a8aa340d5.1738858026.git.anatoly.burakov@intel.com> Content-Type: text/plain X-BeenThere: test-report@dpdk.org X-Mailman-Version: 2.1.29 Precedence: list List-Id: automatic DPDK test reports List-Unsubscribe: , List-Archive: List-Post: List-Help: List-Subscribe: , Errors-To: test-report-bounces@dpdk.org Test-Label: iol-compile-amd64-testing Test-Status: SUCCESS http://dpdk.org/patch/151070 _Testing PASS_ Submitter: Anatoly Burakov Date: Thursday, February 06 2025 16:08:47 DPDK git baseline: Repo:dpdk Branch: master CommitID:abf3b7b7b361f8aa8d75ae00d449b588a0cdcda3 151047-151070 --> testing pass Upstream job id: Windows-Compile-DPDK-Native#26487 Test environment and result as below: +---------------------+--------------------+-------------------+-------------------------+----------------------+ | Environment | dpdk_meson_compile | dpdk_msvc_compile | dpdk_llvm_clang_compile | dpdk_mingw64_compile | +=====================+====================+===================+=========================+======================+ | FreeBSD 13.4 | PASS | SKIPPED | SKIPPED | SKIPPED | +---------------------+--------------------+-------------------+-------------------------+----------------------+ | FreeBSD 14.2 | PASS | SKIPPED | SKIPPED | SKIPPED | +---------------------+--------------------+-------------------+-------------------------+----------------------+ | Windows Server 2022 | SKIPPED | PASS | PASS | PASS | +---------------------+--------------------+-------------------+-------------------------+----------------------+ FreeBSD 13.4 Kernel: 13.4-RELEASE-p1 Compiler: clang 18.1.6 FreeBSD 14.2 Kernel: 14.2-RELEASE Compiler: clang 18.1.6 Windows Server 2022 Kernel: 10.0.20348.2031 Compiler: clang 15.0.7, gcc 14.1.0 (MinGW), and MSVC VS 19.39.33521 To view detailed results, visit: https://lab.dpdk.org/results/dashboard/patchsets/32513/ UNH-IOL DPDK Community Lab To manage your email subscriptions, visit: https://lab.dpdk.org/results/dashboard/preferences/subscriptions/