From mboxrd@z Thu Jan 1 00:00:00 1970 Return-Path: Received: from mails.dpdk.org (mails.dpdk.org [217.70.189.124]) by inbox.dpdk.org (Postfix) with ESMTP id E0B11461AF for ; Thu, 6 Feb 2025 21:15:19 +0100 (CET) Received: from mails.dpdk.org (localhost [127.0.0.1]) by mails.dpdk.org (Postfix) with ESMTP id DC29840EE2; Thu, 6 Feb 2025 21:15:19 +0100 (CET) Received: from mail-oo1-f97.google.com (mail-oo1-f97.google.com [209.85.161.97]) by mails.dpdk.org (Postfix) with ESMTP id 985864026C for ; Thu, 6 Feb 2025 21:15:18 +0100 (CET) Received: by mail-oo1-f97.google.com with SMTP id 006d021491bc7-5fc01d3faefso423089eaf.1 for ; Thu, 06 Feb 2025 12:15:18 -0800 (PST) DKIM-Signature: v=1; a=rsa-sha256; c=relaxed/relaxed; d=iol.unh.edu; s=unh-iol; t=1738872918; x=1739477718; darn=dpdk.org; h=cc:to:from:subject:message-id:date:from:to:cc:subject:date :message-id:reply-to; bh=GOAC2ikWOClmSxJYADwq1Cub0ReW2A4ERdh/A6jHOtQ=; b=BZx2WZa/3zII6BlW71q5gP3CYdcW2wNf+gjuHGDXhbctwy9QTnAi4+Tq1W4aI4AfOU /Df52wmHY1yyE7hjxQ80LdLwJpU7m9LGcemM7FEswi9acdJ9WY+UOW6+HNpfF91LT6gB H4sJ2oK6N+1wXn7/77oLl/wVNXUCdWtoMgwe0= X-Google-DKIM-Signature: v=1; a=rsa-sha256; c=relaxed/relaxed; d=1e100.net; s=20230601; t=1738872918; x=1739477718; h=cc:to:from:subject:message-id:date:x-gm-message-state:from:to:cc :subject:date:message-id:reply-to; bh=GOAC2ikWOClmSxJYADwq1Cub0ReW2A4ERdh/A6jHOtQ=; b=fMDaHa45gbVDkcML8q2fdqIsgvrEK092enbyVx2Vdg7TGow0eks6ZcbZ6cxKAF7Hm9 dGx9RU4lU9xHywJnKQ3Ve9cxcvP/rn15DThgc3Bu3MlxZKRqxjCuaq4Wtd5Kp2h4AdjT qLcVqvQDp65L4a+TkFzCxuEGcCNiXZ7408X8W64wo5oL+vLxXczWqFdf5ipgIrdtdNqG 1P7ho9q449y9Wtgair8eY3LL9ki8ZikDOXc+1hU5msMJaVSxg2cumKfzaWYHAcVuSM+S LfgxG2MRZCbCWZog6u0MqlHOcyJE4OatRcAuZo7Jj4RaZA1QBVbLzFXo8fVR7ByEXrnE 8N7Q== X-Gm-Message-State: AOJu0YwqNYujLiv4kfNoYMh2axz6YkICRJEPDVbg2trgjV/396e24YWO WDEFyo241ahMkeozw5P/6PFjLW3K+QN7/p9O+sKwIJVX0Epfu8NZS7OIQi2+BWF3XBffRku8+Gd B7o3bk5Lx0r6zZiw6Zr9b1ysb/3YEqweMaEMCfVMa X-Gm-Gg: ASbGncsCeASKo4wne2PZJJkuOZl7BM+F25Q4R0WSdT8Kjkj16WuU22y7w+DC8c+0xIE 5PQl3KaqjrB2JKe0NACcz6Ys0UD+3H/PTknlML/coWq0j2XYpKI1yysfYzRp0zN3ncSMM7o9VnK 7+UdM5TCykP6k+jmCDNai6HmfBQ/R3DRXAiLMFZ6VGKa1AAUobnUG6M9cLM30JaAzdKYVDWs/Or 2B8Z/TsAxvbRjhp4M8n+VuY+9ZAy3LBFBC6acean3G1YaeO1vX7WZd1jis3WMUpQPLG3o7FDR1x BnTWSvwHoOb8laZDpNGfM7E6Veo9GQ== X-Google-Smtp-Source: AGHT+IEfMo3yDj6DnONOP+8jL89SFpAzyz//k5n+ZWnZ19oRPYHiZ8U3lyGeTXeZlbcvWOeZzUXe8PD7wdRf X-Received: by 2002:a05:6871:6010:b0:2b3:8400:23e8 with SMTP id 586e51a60fabf-2b83eb515c1mr353839fac.6.1738872917800; Thu, 06 Feb 2025 12:15:17 -0800 (PST) Received: from postal.iol.unh.edu (postal.iol.unh.edu. [132.177.123.84]) by smtp-relay.gmail.com with ESMTPS id 586e51a60fabf-2b82626242asm109105fac.34.2025.02.06.12.15.17 (version=TLS1_2 cipher=ECDHE-ECDSA-AES128-GCM-SHA256 bits=128/128); Thu, 06 Feb 2025 12:15:17 -0800 (PST) X-Relaying-Domain: iol.unh.edu Date: Thu, 06 Feb 2025 12:15:17 -0800 (PST) Message-ID: <67a51855.050a0220.e9c49.5d2aSMTPIN_ADDED_MISSING@mx.google.com> Received: from [172.21.0.5] (unknown [172.18.0.240]) by postal.iol.unh.edu (Postfix) with ESMTP id 4C0746052471; Thu, 6 Feb 2025 15:15:17 -0500 (EST) Subject: |SUCCESS| [GIT MASTER] 32c18e7364e30a8e43cc7cc6709a7ce606fa285e From: dpdklab@iol.unh.edu To: Test Report Cc: dpdk-test-reports@iol.unh.edu, Jerin Jacob Content-Type: text/plain X-BeenThere: test-report@dpdk.org X-Mailman-Version: 2.1.29 Precedence: list List-Id: automatic DPDK test reports List-Unsubscribe: , List-Archive: List-Post: List-Help: List-Subscribe: , Errors-To: test-report-bounces@dpdk.org _Testing PASS_ Branch: dpdk-next-eventdev 32c18e7364e30a8e43cc7cc6709a7ce606fa285e --> testing pass Upstream job id: Windows-Compile-DPDK-Native#26488 Test environment and result as below: +---------------------+--------------------+-------------------+-------------------------+ | Environment | dpdk_meson_compile | dpdk_msvc_compile | dpdk_llvm_clang_compile | +=====================+====================+===================+=========================+ | FreeBSD 13.4 | PASS | SKIPPED | SKIPPED | +---------------------+--------------------+-------------------+-------------------------+ | FreeBSD 14.2 | PASS | SKIPPED | SKIPPED | +---------------------+--------------------+-------------------+-------------------------+ | Windows Server 2022 | SKIPPED | PASS | PASS | +---------------------+--------------------+-------------------+-------------------------+ FreeBSD 13.4 Kernel: 13.4-RELEASE-p1 Compiler: clang 18.1.6 FreeBSD 14.2 Kernel: 14.2-RELEASE Compiler: clang 18.1.6 Windows Server 2022 Kernel: 10.0.20348.2031 Compiler: clang 15.0.7, gcc 14.1.0 (MinGW), and MSVC VS 19.39.33521 To view detailed results, visit: https://lab.dpdk.org/results/dashboard/tarballs/32475/ UNH-IOL DPDK Community Lab To manage your email subscriptions, visit: https://lab.dpdk.org/results/dashboard/preferences/subscriptions/