From mboxrd@z Thu Jan 1 00:00:00 1970 Return-Path: Received: from mails.dpdk.org (mails.dpdk.org [217.70.189.124]) by inbox.dpdk.org (Postfix) with ESMTP id 34151461AF for ; Thu, 6 Feb 2025 22:14:27 +0100 (CET) Received: from mails.dpdk.org (localhost [127.0.0.1]) by mails.dpdk.org (Postfix) with ESMTP id 30BF040EE2; Thu, 6 Feb 2025 22:14:27 +0100 (CET) Received: from mail-oo1-f97.google.com (mail-oo1-f97.google.com [209.85.161.97]) by mails.dpdk.org (Postfix) with ESMTP id 64A31402BC for ; Thu, 6 Feb 2025 22:14:26 +0100 (CET) Received: by mail-oo1-f97.google.com with SMTP id 006d021491bc7-5fc13355a5bso678321eaf.3 for ; Thu, 06 Feb 2025 13:14:26 -0800 (PST) DKIM-Signature: v=1; a=rsa-sha256; c=relaxed/relaxed; d=iol.unh.edu; s=unh-iol; t=1738876465; x=1739481265; darn=dpdk.org; h=cc:to:from:subject:message-id:date:from:to:cc:subject:date :message-id:reply-to; bh=P7aJiDVkDpx/wpUqPCv65l5Sgx02eoycQ1gTludyJeY=; b=UcwueoEGTy7dLMWtkkNSE/WN2MN8446Z5L+Mn2FfQaecvcP1s1VWznc8OKuYdUNvgC Nv7UyOx3YK5CACyPYnw7ZV1egLeW4srCP36sXYrW7n/ttlRWemlxzkc1lNfkf0uFBx+j rTh8OKK4BAhBGl0DjqIhdxSbYeIPeWLXMK81k= X-Google-DKIM-Signature: v=1; a=rsa-sha256; c=relaxed/relaxed; d=1e100.net; s=20230601; t=1738876465; x=1739481265; h=cc:to:from:subject:message-id:date:x-gm-message-state:from:to:cc :subject:date:message-id:reply-to; bh=P7aJiDVkDpx/wpUqPCv65l5Sgx02eoycQ1gTludyJeY=; b=CMz4qL+5oueznZ9MKjNWNVhW7EWkCTtk6CsSXO2ptzwDrJrsr0eOalw1Ddy/L0kZCx FnlvXKS/ajmD6mhzsGqtGZbW+1FUBme/D/DhvhrfxpfzfrAexoTCCr4dkj1AVFYG3UCH vUgmOXFRENMUrw+NHXOckkpQzzhPMBgOrBKAH7HxmVBzX3eEJP+VXM8M6o3ySRIvBR2B 9Xa8AnD2lch+AnaSJ0RUmdidQ33W47u0CX1U1qU/Ak24fwiZlGFFVfvdbz1gpc/JD1O4 ksC/WnPiOL7VAJr3s6hknYVBG8Ey2iLFum2LRGmUAoqhs3xUDShm2wjIZ5tSE861FN5D XiRg== X-Gm-Message-State: AOJu0Yx1WCV7PAGmxBynUutYwLex7yIIi8luUZ+4fX+JPEQPv/otYhrt wrSloCCCtKH2gs319uHzWcaQ/Or1ffzRmsVqf3N4nbXLW9EVMNljbe8TGBWsl1YRME4wcwfVXj2 jZh83XebB6J+pSO5Tba2KJN8JMvVT/Sz6 X-Gm-Gg: ASbGncvUPc/a0afjxeayCTL7VYCcemWX4Z0NNPMQfsKGspsvm3gJI7whqtYAetyzkan Fi7QfVcRJEV9gWuzDyOC/8zgDZdDPcCObuPzn5hVQcua1MmY727kvzL5FQcrFlTFthpLt4ta1QC vCQpz5/GnY7mKNnUg8+y33au8WKrBKcm2BCoebvq+LL4XIuWvtHPsytGuCK+JalOnpZ7GtYfpJy IMpgscB77oTnV4CZ6drfpGPlmQOuX7B2kJBhYQz2r+uOJE1Fr4+2BxUOHyPTG1t8oW6m+AaFpy1 pkUB4XTNrVWLD9NQZdjmVqXjXTVX2w== X-Google-Smtp-Source: AGHT+IFdHvxtE2GaH3MAhlZ6lfdU7EvFyfQ+cUH3nmaCLqY41NnqJUIECJR5RZSX80JyVVFoaheCdhEN5T9N X-Received: by 2002:a05:6870:7e0c:b0:29e:3345:74ff with SMTP id 586e51a60fabf-2b83ed32957mr440761fac.23.1738876465545; Thu, 06 Feb 2025 13:14:25 -0800 (PST) Received: from postal.iol.unh.edu (postal.iol.unh.edu. [132.177.123.84]) by smtp-relay.gmail.com with ESMTPS id 586e51a60fabf-2b8262728c3sm111376fac.37.2025.02.06.13.14.25 (version=TLS1_2 cipher=ECDHE-ECDSA-AES128-GCM-SHA256 bits=128/128); Thu, 06 Feb 2025 13:14:25 -0800 (PST) X-Relaying-Domain: iol.unh.edu Date: Thu, 06 Feb 2025 13:14:25 -0800 (PST) Message-ID: <67a52631.050a0220.38702e.6b29SMTPIN_ADDED_MISSING@mx.google.com> Received: from [172.21.0.6] (unknown [172.18.0.240]) by postal.iol.unh.edu (Postfix) with ESMTP id 233386052471; Thu, 6 Feb 2025 16:14:25 -0500 (EST) Subject: |SUCCESS| [GIT MASTER] 7ce7d3341d7e21c2a81f2fea8e451681d7306d77 From: dpdklab@iol.unh.edu To: Test Report Cc: dpdk-test-reports@iol.unh.edu, Xueming Li , Christian Ehrhardt , Kevin Traynor , Luca Boccassi Content-Type: text/plain X-BeenThere: test-report@dpdk.org X-Mailman-Version: 2.1.29 Precedence: list List-Id: automatic DPDK test reports List-Unsubscribe: , List-Archive: List-Post: List-Help: List-Subscribe: , Errors-To: test-report-bounces@dpdk.org _Testing PASS_ Branch: tags/v22.11 7ce7d3341d7e21c2a81f2fea8e451681d7306d77 --> testing pass Upstream job id: Generic-Unit-Test-DPDK#312241 Test environment and result as below: +-----------------------------+--------------+---------------------------+------------------------------+----------------+ | Environment | lpm_autotest | cryptodev_sw_zuc_autotest | cryptodev_sw_snow3g_autotest | dpdk_unit_test | +=============================+==============+===========================+==============================+================+ | Ubuntu 20.04 ARM SVE | PASS | SKIPPED | SKIPPED | SKIPPED | +-----------------------------+--------------+---------------------------+------------------------------+----------------+ | Debian 12 (arm) | SKIPPED | PASS | PASS | SKIPPED | +-----------------------------+--------------+---------------------------+------------------------------+----------------+ | 32-bit Ubuntu 22.04.4 (ARM) | SKIPPED | SKIPPED | SKIPPED | PASS | +-----------------------------+--------------+---------------------------+------------------------------+----------------+ Ubuntu 20.04 ARM SVE Kernel: Depends on container host Compiler: gcc (Ubuntu 10.5.0-1ubuntu1~20.04) 10.5.0 Debian 12 (arm) Kernel: Depends on container host Compiler: gcc (Debian 12.2.0-14) 12.2.0 32-bit Ubuntu 22.04.4 (ARM) Kernel: 5.15.83+ aarch64 Compiler: gcc (Ubuntu 11.4.0-1ubuntu1~22.04) 11.4.0 To view detailed results, visit: https://lab.dpdk.org/results/dashboard/tarballs/32468/ UNH-IOL DPDK Community Lab To manage your email subscriptions, visit: https://lab.dpdk.org/results/dashboard/preferences/subscriptions/