From mboxrd@z Thu Jan 1 00:00:00 1970 Return-Path: Received: from mails.dpdk.org (mails.dpdk.org [217.70.189.124]) by inbox.dpdk.org (Postfix) with ESMTP id 9343C461AF for ; Thu, 6 Feb 2025 22:17:49 +0100 (CET) Received: from mails.dpdk.org (localhost [127.0.0.1]) by mails.dpdk.org (Postfix) with ESMTP id 8D14440EE2; Thu, 6 Feb 2025 22:17:49 +0100 (CET) Received: from mail-pl1-f228.google.com (mail-pl1-f228.google.com [209.85.214.228]) by mails.dpdk.org (Postfix) with ESMTP id 91117402BC for ; Thu, 6 Feb 2025 22:17:48 +0100 (CET) Received: by mail-pl1-f228.google.com with SMTP id d9443c01a7336-21f464b9a27so15026905ad.1 for ; Thu, 06 Feb 2025 13:17:48 -0800 (PST) DKIM-Signature: v=1; a=rsa-sha256; c=relaxed/relaxed; d=iol.unh.edu; s=unh-iol; t=1738876668; x=1739481468; darn=dpdk.org; h=references:in-reply-to:cc:to:from:subject:message-id:date:from:to :cc:subject:date:message-id:reply-to; bh=7uB029TBaYWszX73IqwQSitUE4dleSPJMR1O47fzxaM=; b=CWyrruJTFQxnCxI/41i8r6T4NDo2fADZJ0NLLUmonl+2eVo54V8ysbvwRmI4Mh6weP 11FNMh6bhMfQqd5h0/btkdpejvxOhhC9mlwRKFsjZ+EMDN3ColpnyM6tSQKWfLjmgYhq FTMUcVJbmXa6xXqqhnKwJx1GtrG6cQPYQuFow= X-Google-DKIM-Signature: v=1; a=rsa-sha256; c=relaxed/relaxed; d=1e100.net; s=20230601; t=1738876668; x=1739481468; h=references:in-reply-to:cc:to:from:subject:message-id:date :x-gm-message-state:from:to:cc:subject:date:message-id:reply-to; bh=7uB029TBaYWszX73IqwQSitUE4dleSPJMR1O47fzxaM=; b=SjddOfogk/qb5F1tDJ0M2jE8gIYg0cHTPb0N+qbNW/L08S6Tg52DO3tMLBBlJjZHVG qsYhQJf/i7Fwzw8OZvhLt5xOF2jLrtXlAwZQaIkjZTJ1u/Qhl8OZZXcS+GdtkNdl5KM2 WRw/9ypym4KiFaobDT8A8nIuaaXbWjYrXoKbK6kkbc+QwP3u0HpG3zG7lkwWnjHtn8CL e+ZB+VdVoPyfuucpCF5bbm/w4UiwjmNN/PiWL6rOp7tQ9fHsVzaOAXqLANRMYbVQW+th exouz25klVrUUQPOafbtb6geWORTSO6Rz/Cb0fiaJ41MrKheD5ihxmINe11h0s4Ec8A/ rszg== X-Gm-Message-State: AOJu0Ywpku4gJzSD39BGusp9RYyHpf3MXJCiRNutmcrXhUYOd1xh13Md 0YdwxXmdx8Fs1OI37Mp7iB/PWIcpCbS0RQOZZe2vhaJg5V00IwG3c3DfMM5TYtfO7UQx8wyfHZh ZK717tPhSsnPyyOPmEQ2/KMK5bofez6YAgUWukJbr X-Gm-Gg: ASbGnctmQwSjqXBaE9Dr9C06GsG33LMenrnb4P8cxW8ezTi45iEFpoqWAX0H/53tWyC a6/pGDIylCawKSWRzbYhWmkuNCKm1n83WWWKWBgSFSpJKMD1Z06sGA0YXuMAcO5sg8POu/3UakW aXikoXR3a8cXzBz45X3gwTGmZC8GIHPrE2aqaIxhVQ4lh9nRgN8oIyfFRlTl1UqGHqmX5oj5y12 u5PdIYFPAkOymzguor+1ljJXYV3hHxHG4ESsYmhiWOp/VFo2d1VvEGcosNHcNE5gMQzT1IpU8Nh ScB2AG0pd9FBqztSXMvsEnKTrkbJGA== X-Google-Smtp-Source: AGHT+IFFQK9Y20GRWXGUASmSltB6HiK0S8p30ybi55YrVSOFS9jtI/DTBavbcFU13hr1rlmjp9g0GCv8+FWJ X-Received: by 2002:a17:903:2985:b0:215:af12:b61a with SMTP id d9443c01a7336-21f4e765cedmr11945185ad.50.1738876667834; Thu, 06 Feb 2025 13:17:47 -0800 (PST) Received: from postal.iol.unh.edu (postal.iol.unh.edu. [132.177.123.84]) by smtp-relay.gmail.com with ESMTPS id d9443c01a7336-21f3650c8c9sm851845ad.4.2025.02.06.13.17.47 (version=TLS1_2 cipher=ECDHE-ECDSA-AES128-GCM-SHA256 bits=128/128); Thu, 06 Feb 2025 13:17:47 -0800 (PST) X-Relaying-Domain: iol.unh.edu Date: Thu, 06 Feb 2025 13:17:47 -0800 (PST) Message-ID: <67a526fb.170a0220.3cdada.4645SMTPIN_ADDED_MISSING@mx.google.com> Received: from [172.21.0.5] (unknown [172.18.0.240]) by postal.iol.unh.edu (Postfix) with ESMTP id 465926052471; Thu, 6 Feb 2025 16:17:47 -0500 (EST) Subject: |WARNING| pw149320-149324 [PATCH] [v2,5/5] vhost: use strlcpy instea From: dpdklab@iol.unh.edu To: Test Report Cc: dpdk-test-reports@iol.unh.edu In-Reply-To: <20241219225253.782792-6-stephen@networkplumber.org> References: <20241219225253.782792-6-stephen@networkplumber.org> Content-Type: text/plain X-BeenThere: test-report@dpdk.org X-Mailman-Version: 2.1.29 Precedence: list List-Id: automatic DPDK test reports List-Unsubscribe: , List-Archive: List-Post: List-Help: List-Subscribe: , Errors-To: test-report-bounces@dpdk.org Test-Label: iol-compile-amd64-testing Test-Status: WARNING http://dpdk.org/patch/149324 _Testing issues RETEST #1_ Submitter: Stephen Hemminger Date: Thursday, December 19 2024 22:49:55 DPDK git baseline: Repo:dpdk Branch: master CommitID:94ad302b4ebba4a5b6706a1c43ea0505e5098169 149320-149324 --> testing issues Upstream job id: Windows-Compile-DPDK-Native#26490 Test environment and result as below: +---------------------+--------------------+------------------+-------------------+-------------------+-------------------------+----------------------+ | Environment | dpdk_meson_compile | dpdk_compile_ovs | dpdk_compile_spdk | dpdk_msvc_compile | dpdk_llvm_clang_compile | dpdk_mingw64_compile | +=====================+====================+==================+===================+===================+=========================+======================+ | Fedora 39 (Clang) | PASS | PASS | PASS | SKIPPED | SKIPPED | SKIPPED | +---------------------+--------------------+------------------+-------------------+-------------------+-------------------------+----------------------+ | Fedora 39 | PASS | PASS | PASS | SKIPPED | SKIPPED | SKIPPED | +---------------------+--------------------+------------------+-------------------+-------------------+-------------------------+----------------------+ | Fedora 40 (Clang) | PASS | PASS | PASS | SKIPPED | SKIPPED | SKIPPED | +---------------------+--------------------+------------------+-------------------+-------------------+-------------------------+----------------------+ | openSUSE Leap 15 | PASS | WARN | SKIPPED | SKIPPED | SKIPPED | SKIPPED | +---------------------+--------------------+------------------+-------------------+-------------------+-------------------------+----------------------+ | RHEL8 | PASS | PASS | SKIPPED | SKIPPED | SKIPPED | SKIPPED | +---------------------+--------------------+------------------+-------------------+-------------------+-------------------------+----------------------+ | Fedora 40 | PASS | PASS | PASS | SKIPPED | SKIPPED | SKIPPED | +---------------------+--------------------+------------------+-------------------+-------------------+-------------------------+----------------------+ | RHEL9 | PASS | PASS | SKIPPED | SKIPPED | SKIPPED | SKIPPED | +---------------------+--------------------+------------------+-------------------+-------------------+-------------------------+----------------------+ | Ubuntu 24.04 | PASS | PASS | PASS | SKIPPED | SKIPPED | SKIPPED | +---------------------+--------------------+------------------+-------------------+-------------------+-------------------------+----------------------+ | Ubuntu 22.04 | PASS | PASS | PASS | SKIPPED | SKIPPED | SKIPPED | +---------------------+--------------------+------------------+-------------------+-------------------+-------------------------+----------------------+ | Alpine | PASS | PASS | SKIPPED | SKIPPED | SKIPPED | SKIPPED | +---------------------+--------------------+------------------+-------------------+-------------------+-------------------------+----------------------+ | FreeBSD 13.4 | PASS | SKIPPED | SKIPPED | SKIPPED | SKIPPED | SKIPPED | +---------------------+--------------------+------------------+-------------------+-------------------+-------------------------+----------------------+ | CentOS Stream 9 | PASS | PASS | PASS | SKIPPED | SKIPPED | SKIPPED | +---------------------+--------------------+------------------+-------------------+-------------------+-------------------------+----------------------+ | FreeBSD 14.2 | PASS | SKIPPED | SKIPPED | SKIPPED | SKIPPED | SKIPPED | +---------------------+--------------------+------------------+-------------------+-------------------+-------------------------+----------------------+ | Debian 12 | PASS | PASS | PASS | SKIPPED | SKIPPED | SKIPPED | +---------------------+--------------------+------------------+-------------------+-------------------+-------------------------+----------------------+ | Ubuntu 20.04 | PASS | SKIPPED | SKIPPED | SKIPPED | SKIPPED | SKIPPED | +---------------------+--------------------+------------------+-------------------+-------------------+-------------------------+----------------------+ | Windows Server 2022 | SKIPPED | SKIPPED | SKIPPED | PASS | PASS | PASS | +---------------------+--------------------+------------------+-------------------+-------------------+-------------------------+----------------------+ ==== 20 line log output for openSUSE Leap 15 (dpdk_compile_ovs): ==== --- Failed to get log output --- ==== End log output ==== Fedora 39 (Clang) Kernel: Depends on container host Compiler: clang 17.0.6 (Fedora 17.0.6-2.fc39) Fedora 39 Kernel: Depends on container host Compiler: gcc 13.3.1 20240522 (Red Hat 13.3.1-1) Fedora 40 (Clang) Kernel: Depends on container host Compiler: clang 18.1.8 (Fedora 18.1.8-1.fc40) openSUSE Leap 15 Kernel: Depends on container host Compiler: gcc (SUSE Linux) 7.5.0 RHEL8 Kernel: Depends on container host Compiler: gcc 8.5.0 20210514 (Red Hat 8.5.0-22) Fedora 40 Kernel: Depends on container host Compiler: gcc 14.2.1 20240912 (Red Hat 14.2.1-3) RHEL9 Kernel: Depends on container host Compiler: gcc 11.5.0 20240719 (Red Hat 11.5.0-2) Ubuntu 24.04 Kernel: Depends on container host Compiler: gcc (Ubuntu 13.3.0-6ubuntu2~24.04) 13.3.0 Ubuntu 22.04 Kernel: Depends on container host Compiler: gcc (Ubuntu 11.4.0-1ubuntu1~22.04) 11.4.0 Alpine Kernel: Depends on container host Compiler: gcc (Alpine 14.2.0) 14.2.0 FreeBSD 13.4 Kernel: 13.4-RELEASE-p1 Compiler: clang 18.1.6 CentOS Stream 9 Kernel: Depends on container host Compiler: gcc 11.5.0 20240719 (Red Hat 11.5.0-2) FreeBSD 14.2 Kernel: 14.2-RELEASE Compiler: clang 18.1.6 Debian 12 Kernel: Depends on container host Compiler: gcc (Debian 12.2.0-14) 12.2.0 Ubuntu 20.04 Kernel: Depends on container host Compiler: gcc (Ubuntu 9.4.0-1ubuntu1~20.04.2) 9.4.0 Windows Server 2022 Kernel: 10.0.20348.2031 Compiler: clang 15.0.7, gcc 14.1.0 (MinGW), and MSVC VS 19.39.33521 To view detailed results, visit: https://lab.dpdk.org/results/dashboard/patchsets/32175/ UNH-IOL DPDK Community Lab To manage your email subscriptions, visit: https://lab.dpdk.org/results/dashboard/preferences/subscriptions/