From mboxrd@z Thu Jan  1 00:00:00 1970
Return-Path: <test-report-bounces@dpdk.org>
Received: from mails.dpdk.org (mails.dpdk.org [217.70.189.124])
	by inbox.dpdk.org (Postfix) with ESMTP id B62BA461AF
	for <public@inbox.dpdk.org>; Thu,  6 Feb 2025 22:18:39 +0100 (CET)
Received: from mails.dpdk.org (localhost [127.0.0.1])
	by mails.dpdk.org (Postfix) with ESMTP id B21A840EE2;
	Thu,  6 Feb 2025 22:18:39 +0100 (CET)
Received: from mail-oa1-f97.google.com (mail-oa1-f97.google.com
 [209.85.160.97]) by mails.dpdk.org (Postfix) with ESMTP id 56EA7402BC
 for <test-report@dpdk.org>; Thu,  6 Feb 2025 22:18:38 +0100 (CET)
Received: by mail-oa1-f97.google.com with SMTP id
 586e51a60fabf-2b832eab8cdso367181fac.0
 for <test-report@dpdk.org>; Thu, 06 Feb 2025 13:18:38 -0800 (PST)
DKIM-Signature: v=1; a=rsa-sha256; c=relaxed/relaxed;
 d=iol.unh.edu; s=unh-iol; t=1738876717; x=1739481517; darn=dpdk.org;
 h=references:in-reply-to:cc:to:from:subject:message-id:date:from:to
 :cc:subject:date:message-id:reply-to;
 bh=M9nl5vAwb+DySUJU7BpDjhl02aqtJICRtbtpurGyKRA=;
 b=ZTwlYLpAHnxP3C/NWz6cRkOFmmLaX2VZ1GXiXb+F9X7MneBhy1iudktNyF2asVtFtg
 ldizGa/VrIRehYZImCZlkXPfPeWxg8eHDNueeZRiMt0xIzI8yuJckBr763vxAWPkSR2P
 0RmgpRaVtwd/Ojf4M5TakczKf9UeTT7XY0KNw=
X-Google-DKIM-Signature: v=1; a=rsa-sha256; c=relaxed/relaxed;
 d=1e100.net; s=20230601; t=1738876717; x=1739481517;
 h=references:in-reply-to:cc:to:from:subject:message-id:date
 :x-gm-message-state:from:to:cc:subject:date:message-id:reply-to;
 bh=M9nl5vAwb+DySUJU7BpDjhl02aqtJICRtbtpurGyKRA=;
 b=kKSu+twaW1qEo9brsQyj3DcQ3UHHWQr9wtiSKOMtpqY/sjW+5d8OgshX7jqff+81ay
 YWpdEXe/1VCUjUhdkxMoFq6T0LV/iNrsUj89XtlxaxofR5uQP5ctJb3Iyp7766tfGNCj
 caTtVlFrYXsuu9t0q3umUF9rWLJmQsQgihGiawyGyLj1kwM318vq3IoIZnubI3XWplsb
 LytGD9MmtCxVKu+zBOHz8ED8VLAw4sE3P9EOHo4AWpI1Ia6qgtqI9Hd7cHQPbhjZ4WZn
 56h3SawyPBmJJ0yt8Bmf/x7LnpUt2/Eb1ajHVp9t6fmWMTn+cKW+c5kOkykObC1zqlO1
 1lDw==
X-Gm-Message-State: AOJu0Yyb5TFVcJL3WY5oZ0ldKLeQ1nN46Ad4+qOd/jgH5cYl1zC3BWW+
 HnGFCNN+6q0RAIBD8ssVC8m7xs7ROKlCRR3lJsBOvZiUWRijlqc1f/gYrMZR0hIywU7JBow3+DY
 h6ogGHP6fWgImCvcxjstbbyXzB4zREA7qRuYY4E4Gedbm/n/5PKY2iXcY
X-Gm-Gg: ASbGncsScUi8Hnrvr+KRiYC7uh7nO5miIaa5Cb/Fau1MON5j0kBQn7JWHL3yvSUCaJC
 LiqvNInKvTiatqbeGCSJrzDQDDqg2+ISYXrNxEtGsWvHFHMgMr/zfTUCc3Kg9Zd3A4hyySfz8rA
 LgjKXFRbSIpPbXkc2gAV/YEZXFxigWiuzQ6br28IvbPL4aY2aBKhiJ8fU/uzc8J+xw3PpwcKCgw
 slzZr4Fdy+KISvIEH2LeAf6Dt5QkpOrnGmvmPOByxerlkdfypFB5A8Vue4Cy6suO7FjlkY0caRy
 K5ODMlKS2xd/POov6k/1WoXPpUVMXq/N9iTZ4r3aBA==
X-Google-Smtp-Source: AGHT+IE7olN4xOrcCKgJCt9vzFs1sOzWJ8irQ65mTbtl/+CRwWqSgwEBOcJrRi41WYtu1feu91mpFuJd+YbN
X-Received: by 2002:a05:6871:53c5:b0:29e:1cd8:4a0f with SMTP id
 586e51a60fabf-2b83eccd7f3mr457741fac.17.1738876717406; 
 Thu, 06 Feb 2025 13:18:37 -0800 (PST)
Received: from postal.iol.unh.edu (postal.iol.unh.edu.
 [2606:4100:3880:1234::84]) by smtp-relay.gmail.com with ESMTPS id
 586e51a60fabf-2b8261e737esm113606fac.26.2025.02.06.13.18.37
 (version=TLS1_2 cipher=ECDHE-ECDSA-AES128-GCM-SHA256 bits=128/128);
 Thu, 06 Feb 2025 13:18:37 -0800 (PST)
X-Relaying-Domain: iol.unh.edu
Date: Thu, 06 Feb 2025 13:18:37 -0800 (PST)
Message-ID: <67a5272d.050a0220.daed8.68f0SMTPIN_ADDED_MISSING@mx.google.com>
Received: from [172.21.0.5] (unknown [172.18.0.240])
 by postal.iol.unh.edu (Postfix) with ESMTP id CACA56052471;
 Thu,  6 Feb 2025 16:18:36 -0500 (EST)
Subject: |WARNING| pw149320-149324 [PATCH] [v2,5/5] vhost: use strlcpy instea
From: dpdklab@iol.unh.edu
To: Test Report <test-report@dpdk.org>
Cc: dpdk-test-reports@iol.unh.edu
In-Reply-To: <20241219225253.782792-6-stephen@networkplumber.org>
References: <20241219225253.782792-6-stephen@networkplumber.org>
Content-Type: text/plain
X-BeenThere: test-report@dpdk.org
X-Mailman-Version: 2.1.29
Precedence: list
List-Id: automatic DPDK test reports <test-report.dpdk.org>
List-Unsubscribe: <https://mails.dpdk.org/options/test-report>,
 <mailto:test-report-request@dpdk.org?subject=unsubscribe>
List-Archive: <http://mails.dpdk.org/archives/test-report/>
List-Post: <mailto:test-report@dpdk.org>
List-Help: <mailto:test-report-request@dpdk.org?subject=help>
List-Subscribe: <https://mails.dpdk.org/listinfo/test-report>,
 <mailto:test-report-request@dpdk.org?subject=subscribe>
Errors-To: test-report-bounces@dpdk.org

Test-Label: iol-compile-amd64-testing
Test-Status: WARNING
http://dpdk.org/patch/149324

_Testing issues RETEST #1_

Submitter: Stephen Hemminger <stephen@networkplumber.org>
Date: Thursday, December 19 2024 22:49:55 
DPDK git baseline: Repo:dpdk
  Branch: master
  CommitID:94ad302b4ebba4a5b6706a1c43ea0505e5098169

149320-149324 --> testing issues

Upstream job id: Windows-Compile-DPDK-VS#4841

Test environment and result as below:

+---------------------+--------------------+------------------+-------------------+-------------------+-------------------------+----------------------+
|     Environment     | dpdk_meson_compile | dpdk_compile_ovs | dpdk_compile_spdk | dpdk_msvc_compile | dpdk_llvm_clang_compile | dpdk_mingw64_compile |
+=====================+====================+==================+===================+===================+=========================+======================+
| Fedora 39 (Clang)   | PASS               | PASS             | PASS              | SKIPPED           | SKIPPED                 | SKIPPED              |
+---------------------+--------------------+------------------+-------------------+-------------------+-------------------------+----------------------+
| Fedora 39           | PASS               | PASS             | PASS              | SKIPPED           | SKIPPED                 | SKIPPED              |
+---------------------+--------------------+------------------+-------------------+-------------------+-------------------------+----------------------+
| Fedora 40 (Clang)   | PASS               | PASS             | PASS              | SKIPPED           | SKIPPED                 | SKIPPED              |
+---------------------+--------------------+------------------+-------------------+-------------------+-------------------------+----------------------+
| openSUSE Leap 15    | PASS               | WARN             | SKIPPED           | SKIPPED           | SKIPPED                 | SKIPPED              |
+---------------------+--------------------+------------------+-------------------+-------------------+-------------------------+----------------------+
| RHEL8               | PASS               | PASS             | SKIPPED           | SKIPPED           | SKIPPED                 | SKIPPED              |
+---------------------+--------------------+------------------+-------------------+-------------------+-------------------------+----------------------+
| Fedora 40           | PASS               | PASS             | PASS              | SKIPPED           | SKIPPED                 | SKIPPED              |
+---------------------+--------------------+------------------+-------------------+-------------------+-------------------------+----------------------+
| RHEL9               | PASS               | PASS             | SKIPPED           | SKIPPED           | SKIPPED                 | SKIPPED              |
+---------------------+--------------------+------------------+-------------------+-------------------+-------------------------+----------------------+
| Ubuntu 24.04        | PASS               | PASS             | PASS              | SKIPPED           | SKIPPED                 | SKIPPED              |
+---------------------+--------------------+------------------+-------------------+-------------------+-------------------------+----------------------+
| Ubuntu 22.04        | PASS               | PASS             | PASS              | SKIPPED           | SKIPPED                 | SKIPPED              |
+---------------------+--------------------+------------------+-------------------+-------------------+-------------------------+----------------------+
| Alpine              | PASS               | PASS             | SKIPPED           | SKIPPED           | SKIPPED                 | SKIPPED              |
+---------------------+--------------------+------------------+-------------------+-------------------+-------------------------+----------------------+
| FreeBSD 13.4        | PASS               | SKIPPED          | SKIPPED           | SKIPPED           | SKIPPED                 | SKIPPED              |
+---------------------+--------------------+------------------+-------------------+-------------------+-------------------------+----------------------+
| CentOS Stream 9     | PASS               | PASS             | PASS              | SKIPPED           | SKIPPED                 | SKIPPED              |
+---------------------+--------------------+------------------+-------------------+-------------------+-------------------------+----------------------+
| FreeBSD 14.2        | PASS               | SKIPPED          | SKIPPED           | SKIPPED           | SKIPPED                 | SKIPPED              |
+---------------------+--------------------+------------------+-------------------+-------------------+-------------------------+----------------------+
| Debian 12           | PASS               | PASS             | PASS              | SKIPPED           | SKIPPED                 | SKIPPED              |
+---------------------+--------------------+------------------+-------------------+-------------------+-------------------------+----------------------+
| Ubuntu 20.04        | PASS               | SKIPPED          | SKIPPED           | SKIPPED           | SKIPPED                 | SKIPPED              |
+---------------------+--------------------+------------------+-------------------+-------------------+-------------------------+----------------------+
| Windows Server 2022 | SKIPPED            | SKIPPED          | SKIPPED           | PASS              | PASS                    | PASS                 |
+---------------------+--------------------+------------------+-------------------+-------------------+-------------------------+----------------------+

==== 20 line log output for openSUSE Leap 15 (dpdk_compile_ovs): ====
 --- Failed to get log output --- 
==== End log output ====

Fedora 39 (Clang)
	Kernel: Depends on container host
	Compiler: clang 17.0.6 (Fedora 17.0.6-2.fc39)

Fedora 39
	Kernel: Depends on container host
	Compiler: gcc 13.3.1 20240522 (Red Hat 13.3.1-1)

Fedora 40 (Clang)
	Kernel: Depends on container host
	Compiler: clang 18.1.8 (Fedora 18.1.8-1.fc40)

openSUSE Leap 15
	Kernel: Depends on container host
	Compiler: gcc (SUSE Linux) 7.5.0

RHEL8
	Kernel: Depends on container host
	Compiler: gcc 8.5.0 20210514 (Red Hat 8.5.0-22)

Fedora 40
	Kernel: Depends on container host
	Compiler: gcc 14.2.1 20240912 (Red Hat 14.2.1-3)

RHEL9
	Kernel: Depends on container host
	Compiler: gcc 11.5.0 20240719 (Red Hat 11.5.0-2)

Ubuntu 24.04
	Kernel: Depends on container host
	Compiler: gcc (Ubuntu 13.3.0-6ubuntu2~24.04) 13.3.0

Ubuntu 22.04
	Kernel: Depends on container host
	Compiler: gcc (Ubuntu 11.4.0-1ubuntu1~22.04) 11.4.0

Alpine
	Kernel: Depends on container host
	Compiler: gcc (Alpine 14.2.0) 14.2.0

FreeBSD 13.4
	Kernel: 13.4-RELEASE-p1
	Compiler: clang 18.1.6

CentOS Stream 9
	Kernel: Depends on container host
	Compiler: gcc 11.5.0 20240719 (Red Hat 11.5.0-2)

FreeBSD 14.2
	Kernel: 14.2-RELEASE
	Compiler: clang 18.1.6

Debian 12
	Kernel: Depends on container host
	Compiler: gcc (Debian 12.2.0-14) 12.2.0

Ubuntu 20.04
	Kernel: Depends on container host
	Compiler: gcc (Ubuntu 9.4.0-1ubuntu1~20.04.2) 9.4.0

Windows Server 2022
	Kernel: 10.0.20348.2031
	Compiler: clang 15.0.7, gcc 14.1.0 (MinGW), and MSVC VS 19.39.33521

To view detailed results, visit:
https://lab.dpdk.org/results/dashboard/patchsets/32175/

UNH-IOL DPDK Community Lab

To manage your email subscriptions, visit: 
https://lab.dpdk.org/results/dashboard/preferences/subscriptions/