From mboxrd@z Thu Jan 1 00:00:00 1970 Return-Path: Received: from mails.dpdk.org (mails.dpdk.org [217.70.189.124]) by inbox.dpdk.org (Postfix) with ESMTP id CA09A461AF for ; Thu, 6 Feb 2025 22:28:43 +0100 (CET) Received: from mails.dpdk.org (localhost [127.0.0.1]) by mails.dpdk.org (Postfix) with ESMTP id AE31D40EE2; Thu, 6 Feb 2025 22:28:43 +0100 (CET) Received: from mail-ot1-f100.google.com (mail-ot1-f100.google.com [209.85.210.100]) by mails.dpdk.org (Postfix) with ESMTP id 39403402BC for ; Thu, 6 Feb 2025 22:28:42 +0100 (CET) Received: by mail-ot1-f100.google.com with SMTP id 46e09a7af769-71e2766994bso810733a34.3 for ; Thu, 06 Feb 2025 13:28:42 -0800 (PST) DKIM-Signature: v=1; a=rsa-sha256; c=relaxed/relaxed; d=iol.unh.edu; s=unh-iol; t=1738877321; x=1739482121; darn=dpdk.org; h=references:in-reply-to:cc:to:from:subject:message-id:date:from:to :cc:subject:date:message-id:reply-to; bh=5SM6cPmQUTABM/Esjq9KpCoMsVR7lMaYMRDzkYRCK8Q=; b=SqjPaNhrcGSAYMjFGax18jPH1AQiukYIkGMZOKRCDvc1eEUmELf8jY71llkDz22xLd WjI/7T0nR0LUm91l8LdJ/0LAOB2codkSyAj8IJp2R0S+bwGTCxazqxnlyXZqMePl9x7N DQgYNOcPBeJgGSI5Yz0jq+wgxZQM0x3U98jM0= X-Google-DKIM-Signature: v=1; a=rsa-sha256; c=relaxed/relaxed; d=1e100.net; s=20230601; t=1738877321; x=1739482121; h=references:in-reply-to:cc:to:from:subject:message-id:date :x-gm-message-state:from:to:cc:subject:date:message-id:reply-to; bh=5SM6cPmQUTABM/Esjq9KpCoMsVR7lMaYMRDzkYRCK8Q=; b=BLWJDJlYPz0JvBn5CDpnLbFCbeLX5UrTagyCiCiORQhQsXiGlVbAkh/yQUJyPHL5np pW0rwn80Uhi4e85UC3N1/dugR2nMFbQvsLkGggcFDDCy+LR+qWEcpEYLGr9P5hP2Fgkk HRZa1avMHUtEF5nORkY3ByWyg7ZIYPnwTXvkK5AVXANi/O76O21PG4thyeFRmCOG1nTJ RVIGu/05jk7oGciz9ahVbFuodV+4T4HCJFd2YnMwX3f/LAHBBioD7yPQ4wG9ea9y8c07 L3CnVeGUpE9/5M4+HQHuygvJ3Laeu1fErUUfiDU8t3tL4XFwx90Yiy2kAWpKCEOdSxgj 5h5Q== X-Gm-Message-State: AOJu0YxzbHk7HAx/6ms6lM6WMM71uDR9ZYLO6JryW2COZ25PaesrxM8C +XmWSg3NUNFH3usOk/yABtmd4sgXJZ1iMLgyR1ZTrxsvi229wXknJ/hibgXz/CdCljYcvfgZliL KdWv6Y8EHqiUsgdm/PH62wga9o7CQrvaCGs1Z0NJQ X-Gm-Gg: ASbGnctTJaEhf70895WMEm8h0Iw6crM8fSmXlpgvMs0ut91OH7yXBPdpuGgHXM9lly0 lSKZK2yv4eJtF0aNifEUt25mDB6nYcpBGkWjbLM86TYj3CoDvMJ2l9CYYvot5wkZAUSlzQhrZwo e/Wd2/yL4GVEfDLEQN8q2FE5sSqmwgohyLhSZCoSJApC9xfTl6BiA6xm3LezpWxNGPXnOxr7Eaq njmY/Z96N2/2Wsx2eGNRmXKWcgdBnfm8AK0axb2neQIO8qfCs2uzB4m0yDt3kguWTepggincX05 CZs9ECCKdqbT5zL6ODMmq1O2AeoOAA== X-Google-Smtp-Source: AGHT+IFLJEmQnxEnrE8MF43XTu42UFdLrW5fVxrhgMQ8DW/pijOaeNE4y449LS2mp4YV1wbXKBngftydtFL/ X-Received: by 2002:a05:6830:6d0d:b0:717:fdbb:146d with SMTP id 46e09a7af769-726b87b365amr529218a34.2.1738877321367; Thu, 06 Feb 2025 13:28:41 -0800 (PST) Received: from postal.iol.unh.edu (postal.iol.unh.edu. [132.177.123.84]) by smtp-relay.gmail.com with ESMTPS id 006d021491bc7-5fc544eb088sm69910eaf.13.2025.02.06.13.28.41 (version=TLS1_2 cipher=ECDHE-ECDSA-AES128-GCM-SHA256 bits=128/128); Thu, 06 Feb 2025 13:28:41 -0800 (PST) X-Relaying-Domain: iol.unh.edu Date: Thu, 06 Feb 2025 13:28:41 -0800 (PST) Message-ID: <67a52989.4a0a0220.2a3147.3fa5SMTPIN_ADDED_MISSING@mx.google.com> Received: from [172.21.0.5] (unknown [172.18.0.240]) by postal.iol.unh.edu (Postfix) with ESMTP id D12EB6052471; Thu, 6 Feb 2025 16:28:40 -0500 (EST) Subject: |WARNING| pw149320-149324 [PATCH] [v2,5/5] vhost: use strlcpy instea From: dpdklab@iol.unh.edu To: Test Report Cc: dpdk-test-reports@iol.unh.edu In-Reply-To: <20241219225253.782792-6-stephen@networkplumber.org> References: <20241219225253.782792-6-stephen@networkplumber.org> Content-Type: text/plain X-BeenThere: test-report@dpdk.org X-Mailman-Version: 2.1.29 Precedence: list List-Id: automatic DPDK test reports List-Unsubscribe: , List-Archive: List-Post: List-Help: List-Subscribe: , Errors-To: test-report-bounces@dpdk.org Test-Label: iol-compile-amd64-testing Test-Status: WARNING http://dpdk.org/patch/149324 _Testing issues RETEST #1_ Submitter: Stephen Hemminger Date: Thursday, December 19 2024 22:49:55 DPDK git baseline: Repo:dpdk Branch: master CommitID:94ad302b4ebba4a5b6706a1c43ea0505e5098169 149320-149324 --> testing issues Upstream job id: Generic-VM-DPDK-Compile-Meson#33102 Test environment and result as below: +---------------------+--------------------+------------------+-------------------+-------------------+-------------------------+----------------------+ | Environment | dpdk_meson_compile | dpdk_compile_ovs | dpdk_compile_spdk | dpdk_msvc_compile | dpdk_llvm_clang_compile | dpdk_mingw64_compile | +=====================+====================+==================+===================+===================+=========================+======================+ | Fedora 39 (Clang) | PASS | PASS | PASS | SKIPPED | SKIPPED | SKIPPED | +---------------------+--------------------+------------------+-------------------+-------------------+-------------------------+----------------------+ | Fedora 39 | PASS | PASS | PASS | SKIPPED | SKIPPED | SKIPPED | +---------------------+--------------------+------------------+-------------------+-------------------+-------------------------+----------------------+ | Fedora 40 (Clang) | PASS | PASS | PASS | SKIPPED | SKIPPED | SKIPPED | +---------------------+--------------------+------------------+-------------------+-------------------+-------------------------+----------------------+ | openSUSE Leap 15 | PASS | WARN | SKIPPED | SKIPPED | SKIPPED | SKIPPED | +---------------------+--------------------+------------------+-------------------+-------------------+-------------------------+----------------------+ | RHEL8 | PASS | PASS | SKIPPED | SKIPPED | SKIPPED | SKIPPED | +---------------------+--------------------+------------------+-------------------+-------------------+-------------------------+----------------------+ | Fedora 40 | PASS | PASS | PASS | SKIPPED | SKIPPED | SKIPPED | +---------------------+--------------------+------------------+-------------------+-------------------+-------------------------+----------------------+ | RHEL9 | PASS | PASS | SKIPPED | SKIPPED | SKIPPED | SKIPPED | +---------------------+--------------------+------------------+-------------------+-------------------+-------------------------+----------------------+ | Ubuntu 24.04 | PASS | PASS | PASS | SKIPPED | SKIPPED | SKIPPED | +---------------------+--------------------+------------------+-------------------+-------------------+-------------------------+----------------------+ | Ubuntu 22.04 | PASS | PASS | PASS | SKIPPED | SKIPPED | SKIPPED | +---------------------+--------------------+------------------+-------------------+-------------------+-------------------------+----------------------+ | Alpine | PASS | PASS | SKIPPED | SKIPPED | SKIPPED | SKIPPED | +---------------------+--------------------+------------------+-------------------+-------------------+-------------------------+----------------------+ | FreeBSD 13.4 | PASS | SKIPPED | SKIPPED | SKIPPED | SKIPPED | SKIPPED | +---------------------+--------------------+------------------+-------------------+-------------------+-------------------------+----------------------+ | CentOS Stream 9 | PASS | PASS | PASS | SKIPPED | SKIPPED | SKIPPED | +---------------------+--------------------+------------------+-------------------+-------------------+-------------------------+----------------------+ | FreeBSD 14.2 | PASS | SKIPPED | SKIPPED | SKIPPED | SKIPPED | SKIPPED | +---------------------+--------------------+------------------+-------------------+-------------------+-------------------------+----------------------+ | Debian 12 | PASS | PASS | PASS | SKIPPED | SKIPPED | SKIPPED | +---------------------+--------------------+------------------+-------------------+-------------------+-------------------------+----------------------+ | Ubuntu 20.04 | PASS | SKIPPED | SKIPPED | SKIPPED | SKIPPED | SKIPPED | +---------------------+--------------------+------------------+-------------------+-------------------+-------------------------+----------------------+ | Windows Server 2022 | SKIPPED | SKIPPED | SKIPPED | PASS | PASS | PASS | +---------------------+--------------------+------------------+-------------------+-------------------+-------------------------+----------------------+ ==== 20 line log output for openSUSE Leap 15 (dpdk_compile_ovs): ==== --- Failed to get log output --- ==== End log output ==== Fedora 39 (Clang) Kernel: Depends on container host Compiler: clang 17.0.6 (Fedora 17.0.6-2.fc39) Fedora 39 Kernel: Depends on container host Compiler: gcc 13.3.1 20240522 (Red Hat 13.3.1-1) Fedora 40 (Clang) Kernel: Depends on container host Compiler: clang 18.1.8 (Fedora 18.1.8-1.fc40) openSUSE Leap 15 Kernel: Depends on container host Compiler: gcc (SUSE Linux) 7.5.0 RHEL8 Kernel: Depends on container host Compiler: gcc 8.5.0 20210514 (Red Hat 8.5.0-22) Fedora 40 Kernel: Depends on container host Compiler: gcc 14.2.1 20240912 (Red Hat 14.2.1-3) RHEL9 Kernel: Depends on container host Compiler: gcc 11.5.0 20240719 (Red Hat 11.5.0-2) Ubuntu 24.04 Kernel: Depends on container host Compiler: gcc (Ubuntu 13.3.0-6ubuntu2~24.04) 13.3.0 Ubuntu 22.04 Kernel: Depends on container host Compiler: gcc (Ubuntu 11.4.0-1ubuntu1~22.04) 11.4.0 Alpine Kernel: Depends on container host Compiler: gcc (Alpine 14.2.0) 14.2.0 FreeBSD 13.4 Kernel: 13.4-RELEASE-p1 Compiler: clang 18.1.6 CentOS Stream 9 Kernel: Depends on container host Compiler: gcc 11.5.0 20240719 (Red Hat 11.5.0-2) FreeBSD 14.2 Kernel: 14.2-RELEASE Compiler: clang 18.1.6 Debian 12 Kernel: Depends on container host Compiler: gcc (Debian 12.2.0-14) 12.2.0 Ubuntu 20.04 Kernel: Depends on container host Compiler: gcc (Ubuntu 9.4.0-1ubuntu1~20.04.2) 9.4.0 Windows Server 2022 Kernel: 10.0.20348.2031 Compiler: clang 15.0.7, gcc 14.1.0 (MinGW), and MSVC VS 19.39.33521 To view detailed results, visit: https://lab.dpdk.org/results/dashboard/patchsets/32175/ UNH-IOL DPDK Community Lab To manage your email subscriptions, visit: https://lab.dpdk.org/results/dashboard/preferences/subscriptions/