From mboxrd@z Thu Jan 1 00:00:00 1970 Return-Path: Received: from mails.dpdk.org (mails.dpdk.org [217.70.189.124]) by inbox.dpdk.org (Postfix) with ESMTP id D7326461AF for ; Thu, 6 Feb 2025 22:43:48 +0100 (CET) Received: from mails.dpdk.org (localhost [127.0.0.1]) by mails.dpdk.org (Postfix) with ESMTP id D3FE640EE2; Thu, 6 Feb 2025 22:43:48 +0100 (CET) Received: from mail-pj1-f99.google.com (mail-pj1-f99.google.com [209.85.216.99]) by mails.dpdk.org (Postfix) with ESMTP id 11818402BC for ; Thu, 6 Feb 2025 22:43:48 +0100 (CET) Received: by mail-pj1-f99.google.com with SMTP id 98e67ed59e1d1-2f44353649aso2048919a91.0 for ; Thu, 06 Feb 2025 13:43:47 -0800 (PST) DKIM-Signature: v=1; a=rsa-sha256; c=relaxed/relaxed; d=iol.unh.edu; s=unh-iol; t=1738878227; x=1739483027; darn=dpdk.org; h=references:in-reply-to:cc:to:from:subject:message-id:date:from:to :cc:subject:date:message-id:reply-to; bh=DoNHszjg+p4TgYVMF8tu6ijr2lXhtjEoINV7fxnZfrc=; b=fc7lRTtDNtuMSjaJHPpcYZe/ywnNiAjxQzyNrnnV1HatPVmtQnXBn+h+tP7Tc1iRAS kS5NZGIMrOTPL2yB65KAyL/8QoaW+0fERzahGDFvdHjs4EwPel9R21vVsuKgAb3WH3np yrBx7R5i1+FTCb775Olm8iH/u5bX4aPZ6hTWA= X-Google-DKIM-Signature: v=1; a=rsa-sha256; c=relaxed/relaxed; d=1e100.net; s=20230601; t=1738878227; x=1739483027; h=references:in-reply-to:cc:to:from:subject:message-id:date :x-gm-message-state:from:to:cc:subject:date:message-id:reply-to; bh=DoNHszjg+p4TgYVMF8tu6ijr2lXhtjEoINV7fxnZfrc=; b=Yol7tG6PaOptHYex7JMaqKuqN10XOozGA9h/NPWv+5gv7Nj30j4NnMGYYRReLvC/aU tSW2hP4IZbJDUr6stSh4cRoAECwDWOFBH2/EMQtFh1vQrUi6FNTCPme3QWkXnEpqD+3Z ze+xf5nirzxvPK7wdvM/F0E+fweYZ+rRH4SYIj/GTqFuc9sSrQ0Kj+ER3Fo4PZN8Tmjh oBb+779GZtHpaO+coDOIxTO1frJkmUte9eQ+UUGT3jg30ng4h1Z5Ffj926AWtfI4F9C3 JQywv7Qd27hBMtrHqI50DuI2wyK9oC5HJvG0F5z65+VSUeimhzmMWaHyfAXB9WKFcDCL BB0Q== X-Gm-Message-State: AOJu0Yxn0ups2XDb1COy07brrwajEw60rjkjzxwJmNLO9fD/O217Uku/ CkwvEKsqviQLJtLEeMOhGDz/57TAatfyaDpkDIsvIwbKd8hkqvjgShFTbLz3PLlRnarkP0tTXVF D2mj/rGJDm2EDk5tVTXaMgKovNDZZ4T3kpGaCl4+r X-Gm-Gg: ASbGncvhZaPYNYToUSZaVIKOSa3K0Wzytvzpca9zKoJAlj902M+vCyOhBtPtQ3zGkdk Clyq+3wcfYJxjcAo7aaQK4XkwjBvpFv5JAKZPm/XOeGh/pXENA5Jaa3DCABKzibXVvSP9R8ETUk X1CguVlvwiK4aY+/RAqA6Rr2G9XQyrIO3aNkqLMfv03ow9dybexWGqWja2Pr6PQ1fFRGldCWiyN HIJ+7m8hxZS2qb9zvdfYE3lKl0GASnQr9Nu3iiZCne+/yumcng1fJ7fh51Umat29/o5K60SRqHT RmPs31HfuZL1CKeTaE1jSbHPD5WzRg== X-Google-Smtp-Source: AGHT+IGe6C9KYpYoFFV79r3KR3V4b4Cm2/9YOzjtg1jbJga7hpFw9srkk/3p6r9EOaK97XHG8o17sUuPMGwr X-Received: by 2002:a17:90b:2391:b0:2ea:3f34:f190 with SMTP id 98e67ed59e1d1-2fa243f0ac1mr948451a91.25.1738878227154; Thu, 06 Feb 2025 13:43:47 -0800 (PST) Received: from postal.iol.unh.edu (postal.iol.unh.edu. [132.177.123.84]) by smtp-relay.gmail.com with ESMTPS id d9443c01a7336-21f3658d28bsm951845ad.63.2025.02.06.13.43.47 (version=TLS1_2 cipher=ECDHE-ECDSA-AES128-GCM-SHA256 bits=128/128); Thu, 06 Feb 2025 13:43:47 -0800 (PST) X-Relaying-Domain: iol.unh.edu Date: Thu, 06 Feb 2025 13:43:47 -0800 (PST) Message-ID: <67a52d13.170a0220.12578a.4fb6SMTPIN_ADDED_MISSING@mx.google.com> Received: from [172.21.0.5] (unknown [172.18.0.240]) by postal.iol.unh.edu (Postfix) with ESMTP id 5D8326052471; Thu, 6 Feb 2025 16:43:46 -0500 (EST) Subject: |SUCCESS| pw150865 [PATCH] [RFC] ci: Add support for Cirrus-CI servi From: dpdklab@iol.unh.edu To: Test Report Cc: dpdk-test-reports@iol.unh.edu In-Reply-To: <20250204160739.1603197-1-aconole@redhat.com> References: <20250204160739.1603197-1-aconole@redhat.com> Content-Type: text/plain X-BeenThere: test-report@dpdk.org X-Mailman-Version: 2.1.29 Precedence: list List-Id: automatic DPDK test reports List-Unsubscribe: , List-Archive: List-Post: List-Help: List-Subscribe: , Errors-To: test-report-bounces@dpdk.org Test-Label: iol-sample-apps-testing Test-Status: SUCCESS http://dpdk.org/patch/150865 _Testing PASS RETEST #1_ Submitter: Aaron Conole Date: Tuesday, February 04 2025 16:07:39 DPDK git baseline: Repo:dpdk Branch: master CommitID:dc4ce7c2538b713e16887eb598da309bc7b4d528 150865 --> testing pass Upstream job id: Template-DTS-Pipeline#211206 Test environment and result as below: +--------------------+----------------------+----------------------+ | Environment | compressdev_zlib_pmd | dpdk_fips_validation | +====================+======================+======================+ | Ubuntu 22.04 (ARM) | PASS | SKIPPED | +--------------------+----------------------+----------------------+ | Ubuntu 22.04 | PASS | SKIPPED | +--------------------+----------------------+----------------------+ | Ubuntu 20.04 | SKIPPED | PASS | +--------------------+----------------------+----------------------+ Ubuntu 22.04 (ARM) Kernel: 5.15.0-97-generic Compiler: gcc gcc (Ubuntu 11.4.0-1ubuntu1~22.04) 11.4.0 Ubuntu 22.04 Kernel: 5.15.0-100-generic Compiler: gcc gcc (Ubuntu 11.4.0-1ubuntu1~22.04) 11.4.0 Ubuntu 20.04 Kernel: Depends on container host Compiler: gcc (Ubuntu 9.4.0-1ubuntu1~20.04.2) 9.4.0 To view detailed results, visit: https://lab.dpdk.org/results/dashboard/patchsets/32488/ UNH-IOL DPDK Community Lab To manage your email subscriptions, visit: https://lab.dpdk.org/results/dashboard/preferences/subscriptions/