From mboxrd@z Thu Jan 1 00:00:00 1970 Return-Path: Received: from mails.dpdk.org (mails.dpdk.org [217.70.189.124]) by inbox.dpdk.org (Postfix) with ESMTP id 93C87461AF for ; Thu, 6 Feb 2025 22:57:31 +0100 (CET) Received: from mails.dpdk.org (localhost [127.0.0.1]) by mails.dpdk.org (Postfix) with ESMTP id 8C80F40EE2; Thu, 6 Feb 2025 22:57:31 +0100 (CET) Received: from mail-yw1-f227.google.com (mail-yw1-f227.google.com [209.85.128.227]) by mails.dpdk.org (Postfix) with ESMTP id AB738402BC for ; Thu, 6 Feb 2025 22:57:29 +0100 (CET) Received: by mail-yw1-f227.google.com with SMTP id 00721157ae682-6f47ed1f40dso11603497b3.1 for ; Thu, 06 Feb 2025 13:57:29 -0800 (PST) DKIM-Signature: v=1; a=rsa-sha256; c=relaxed/relaxed; d=iol.unh.edu; s=unh-iol; t=1738879049; x=1739483849; darn=dpdk.org; h=references:in-reply-to:cc:to:from:subject:message-id:date:from:to :cc:subject:date:message-id:reply-to; bh=Llj/mICMQM2xDaxCyd5cAIQrdlKZvUrRE5iWD59ParA=; b=dObeHiDKFCj6taEORro7PbDy+4BZTs5jvZLP94l2J3kCIVA+hxUh3/Bm1D90p8vPBE RZY0p/L2T3QHAwR9aSa5QamyiGC4SVyzjCB/FvL6dlF2MxOWHwdoM7p0gTPjSnwE3S44 kit3P9HwhGQhI74jzcVbj4NvGGfZ1HtOganCc= X-Google-DKIM-Signature: v=1; a=rsa-sha256; c=relaxed/relaxed; d=1e100.net; s=20230601; t=1738879049; x=1739483849; h=references:in-reply-to:cc:to:from:subject:message-id:date :x-gm-message-state:from:to:cc:subject:date:message-id:reply-to; bh=Llj/mICMQM2xDaxCyd5cAIQrdlKZvUrRE5iWD59ParA=; b=Ad0b4dyXR4sCIxyYX9GUCCHlC2tuN8H/KUBXBLpM19VrfyDx9sB3wOopyvvr1wGS7g qHe/a0sMpaZ/1rLi0h2JxFFxZw87+WuiWHLxs8hO+j5vcvsez3q+SvZtqvyzMWN94dgD MpxYaT+uAqtC+oS8/0Y9WYEggQpAIuJY+6MOMLsraVQtnGTd2biN/I5pqNqguRFfuAbH DoFikIMMnxtW4g4QSIVsXjS+INKoUFyetrYTqLErx0h1aiS1jIZRbEMeeSinsr3Dz9rG 5oB2rp9cBaJ5yuRebCAT1ck8VLtfBbG/x4BjMroj/I3CKNfpLfQ5p0bQ3UHsWmoNyAvc S0gA== X-Gm-Message-State: AOJu0YxWcj4ndyGCDa0y3V1iv5BpAYUh0XQocuQzneik6a/R5qqIUYSX tW4bNJK9byhHvmrtlsQ5VkIDk/ukXbGivqQq2LfrBF6aIOn1mv1Qonb5vD/GxeXpaIRzbW3A6Gj E7XzGoaSh0hPVq69ZVwAu11joyVGquMyw7Pd3nY6Sr/q5JxBCJt8vwlNO X-Gm-Gg: ASbGnculPuAF+gylbJ5cw7SQYas/ntq9B1ZdwbGtgS9p2eUgJHD244UpNVpQlIJvsIe Y4Wp3X6S004bHyN5DUoJT6czwmRJ5lB04RuWVHowb+aV+TBn7DIYGThzMPz83UHtC5iGmCTQu7x vbCYZTjHjKpUNUTCZjfDAFcTRTlcbD3d5g9YtuosHg84HzvmZ0uBpZuLSl+ly8BAyPcb4WAgF8s MGw7mwHPeazMh9fgqr346f22eZ2xmHhGk+koHakJYIyE2zhk2ImgY5TlbgrI0vq/rxgO4eYC4Kb 7kkM3NUzw9BqJW83CPdW8qXeEOYPCetCqOjTDDYX+g== X-Google-Smtp-Source: AGHT+IHXR2kch9/+HKtfeRFKYozy41wMJLk5/6odLDiU2vfOr2imJvtMqT3qrvm74J4UM0XhG2c4qU2WUAuW X-Received: by 2002:a05:690c:6890:b0:6f9:adf5:7285 with SMTP id 00721157ae682-6f9b287d7b9mr8834357b3.19.1738879048961; Thu, 06 Feb 2025 13:57:28 -0800 (PST) Received: from postal.iol.unh.edu (postal.iol.unh.edu. [2606:4100:3880:1234::84]) by smtp-relay.gmail.com with ESMTPS id 00721157ae682-6f99fcf6c7asm307887b3.1.2025.02.06.13.57.28 (version=TLS1_2 cipher=ECDHE-ECDSA-AES128-GCM-SHA256 bits=128/128); Thu, 06 Feb 2025 13:57:28 -0800 (PST) X-Relaying-Domain: iol.unh.edu Date: Thu, 06 Feb 2025 13:57:28 -0800 (PST) Message-ID: <67a53048.050a0220.a8abb.1681SMTPIN_ADDED_MISSING@mx.google.com> Received: from [172.17.0.6] (unknown [172.18.0.217]) by postal.iol.unh.edu (Postfix) with ESMTP id AD3C36052471; Thu, 6 Feb 2025 16:57:28 -0500 (EST) Subject: |SUCCESS| pw149936-149937 [PATCH] [v3,2/2] app/test: add SM4 GCM tes From: dpdklab@iol.unh.edu To: Test Report Cc: dpdk-test-reports@iol.unh.edu In-Reply-To: <20250113171022.1649181-2-brian.dooley@intel.com> References: <20250113171022.1649181-2-brian.dooley@intel.com> Content-Type: text/plain X-BeenThere: test-report@dpdk.org X-Mailman-Version: 2.1.29 Precedence: list List-Id: automatic DPDK test reports List-Unsubscribe: , List-Archive: List-Post: List-Help: List-Subscribe: , Errors-To: test-report-bounces@dpdk.org Test-Label: iol-compile-amd64-testing Test-Status: SUCCESS http://dpdk.org/patch/149937 _Testing PASS RETEST #1_ Submitter: Dooley, Brian Date: Monday, January 13 2025 17:10:22 DPDK git baseline: Repo:dpdk Branch: master CommitID:cdf7f14fae72cdf64bcccff3ed4ab30accdf436e 149936-149937 --> testing pass Upstream job id: Generic-VM-DPDK-Compile-Meson#33106 Test environment and result as below: +---------------------+--------------------+------------------+-------------------+-------------------------+-------------------+----------------------+ | Environment | dpdk_meson_compile | dpdk_compile_ovs | dpdk_compile_spdk | dpdk_llvm_clang_compile | dpdk_msvc_compile | dpdk_mingw64_compile | +=====================+====================+==================+===================+=========================+===================+======================+ | CentOS Stream 9 | PASS | PASS | PASS | SKIPPED | SKIPPED | SKIPPED | +---------------------+--------------------+------------------+-------------------+-------------------------+-------------------+----------------------+ | Debian Bullseye | PASS | PASS | PASS | SKIPPED | SKIPPED | SKIPPED | +---------------------+--------------------+------------------+-------------------+-------------------------+-------------------+----------------------+ | Debian 12 | PASS | PASS | PASS | SKIPPED | SKIPPED | SKIPPED | +---------------------+--------------------+------------------+-------------------+-------------------------+-------------------+----------------------+ | Fedora 41 | PASS | PASS | PASS | SKIPPED | SKIPPED | SKIPPED | +---------------------+--------------------+------------------+-------------------+-------------------------+-------------------+----------------------+ | Fedora 40 (Clang) | PASS | PASS | PASS | SKIPPED | SKIPPED | SKIPPED | +---------------------+--------------------+------------------+-------------------+-------------------------+-------------------+----------------------+ | Fedora 40 | PASS | PASS | PASS | SKIPPED | SKIPPED | SKIPPED | +---------------------+--------------------+------------------+-------------------+-------------------------+-------------------+----------------------+ | Fedora 41 (Clang) | PASS | PASS | PASS | SKIPPED | SKIPPED | SKIPPED | +---------------------+--------------------+------------------+-------------------+-------------------------+-------------------+----------------------+ | openSUSE Leap 15 | PASS | SKIPPED | SKIPPED | SKIPPED | SKIPPED | SKIPPED | +---------------------+--------------------+------------------+-------------------+-------------------------+-------------------+----------------------+ | RHEL8 | PASS | PASS | SKIPPED | SKIPPED | SKIPPED | SKIPPED | +---------------------+--------------------+------------------+-------------------+-------------------------+-------------------+----------------------+ | RHEL9 | PASS | PASS | SKIPPED | SKIPPED | SKIPPED | SKIPPED | +---------------------+--------------------+------------------+-------------------+-------------------------+-------------------+----------------------+ | Ubuntu 24.04 | PASS | PASS | PASS | SKIPPED | SKIPPED | SKIPPED | +---------------------+--------------------+------------------+-------------------+-------------------------+-------------------+----------------------+ | Ubuntu 22.04 | PASS | PASS | PASS | SKIPPED | SKIPPED | SKIPPED | +---------------------+--------------------+------------------+-------------------+-------------------------+-------------------+----------------------+ | Alpine | PASS | PASS | SKIPPED | SKIPPED | SKIPPED | SKIPPED | +---------------------+--------------------+------------------+-------------------+-------------------------+-------------------+----------------------+ | FreeBSD 14.2 | PASS | SKIPPED | SKIPPED | SKIPPED | SKIPPED | SKIPPED | +---------------------+--------------------+------------------+-------------------+-------------------------+-------------------+----------------------+ | FreeBSD 13.4 | PASS | SKIPPED | SKIPPED | SKIPPED | SKIPPED | SKIPPED | +---------------------+--------------------+------------------+-------------------+-------------------------+-------------------+----------------------+ | Ubuntu 20.04 | PASS | SKIPPED | SKIPPED | SKIPPED | SKIPPED | SKIPPED | +---------------------+--------------------+------------------+-------------------+-------------------------+-------------------+----------------------+ | Windows Server 2022 | SKIPPED | SKIPPED | SKIPPED | PASS | PASS | PASS | +---------------------+--------------------+------------------+-------------------+-------------------------+-------------------+----------------------+ CentOS Stream 9 Kernel: Depends on container host Compiler: gcc 11.5.0 20240719 (Red Hat 11.5.0-2) Debian Bullseye Kernel: Depends on container host Compiler: gcc (Debian 10.2.1-6) 10.2.1 20210110 Debian 12 Kernel: Depends on container host Compiler: gcc (Debian 12.2.0-14) 12.2.0 Fedora 41 Kernel: Depends on container host Compiler: gcc 14.2.1 20240912 (Red Hat 14.2.1-3) Fedora 40 (Clang) Kernel: Depends on container host Compiler: clang 18.1.8 (Fedora 18.1.8-1.fc40) Fedora 40 Kernel: Depends on container host Compiler: gcc 14.2.1 20240912 (Red Hat 14.2.1-3) Fedora 41 (Clang) Kernel: Depends on container host Compiler: clang 19.1.5 (Fedora 19.1.5-1.fc41) openSUSE Leap 15 Kernel: Depends on container host Compiler: gcc (SUSE Linux) 7.5.0 RHEL8 Kernel: Depends on container host Compiler: gcc 8.5.0 20210514 (Red Hat 8.5.0-22) RHEL9 Kernel: Depends on container host Compiler: gcc 11.5.0 20240719 (Red Hat 11.5.0-2) Ubuntu 24.04 Kernel: Depends on container host Compiler: gcc (Ubuntu 13.3.0-6ubuntu2~24.04) 13.3.0 Ubuntu 22.04 Kernel: Depends on container host Compiler: gcc (Ubuntu 11.4.0-1ubuntu1~22.04) 11.4.0 Alpine Kernel: Depends on container host Compiler: gcc (Alpine 14.2.0) 14.2.0 FreeBSD 14.2 Kernel: 14.2-RELEASE Compiler: clang 18.1.6 FreeBSD 13.4 Kernel: 13.4-RELEASE-p1 Compiler: clang 18.1.6 Ubuntu 20.04 Kernel: Depends on container host Compiler: gcc (Ubuntu 9.4.0-1ubuntu1~20.04.2) 9.4.0 Windows Server 2022 Kernel: 10.0.20348.2031 Compiler: clang 15.0.7, gcc 14.1.0 (MinGW), and MSVC VS 19.39.33521 To view detailed results, visit: https://lab.dpdk.org/results/dashboard/patchsets/32308/ UNH-IOL DPDK Community Lab To manage your email subscriptions, visit: https://lab.dpdk.org/results/dashboard/preferences/subscriptions/