From mboxrd@z Thu Jan 1 00:00:00 1970 Return-Path: Received: from mails.dpdk.org (mails.dpdk.org [217.70.189.124]) by inbox.dpdk.org (Postfix) with ESMTP id BEEEE461AF for ; Thu, 6 Feb 2025 22:57:55 +0100 (CET) Received: from mails.dpdk.org (localhost [127.0.0.1]) by mails.dpdk.org (Postfix) with ESMTP id BAEB740EE2; Thu, 6 Feb 2025 22:57:55 +0100 (CET) Received: from mail-io1-f97.google.com (mail-io1-f97.google.com [209.85.166.97]) by mails.dpdk.org (Postfix) with ESMTP id 69178402BC for ; Thu, 6 Feb 2025 22:57:54 +0100 (CET) Received: by mail-io1-f97.google.com with SMTP id ca18e2360f4ac-851c4f1fb18so43212539f.2 for ; Thu, 06 Feb 2025 13:57:54 -0800 (PST) DKIM-Signature: v=1; a=rsa-sha256; c=relaxed/relaxed; d=iol.unh.edu; s=unh-iol; t=1738879073; x=1739483873; darn=dpdk.org; h=references:in-reply-to:cc:to:from:subject:message-id:date:from:to :cc:subject:date:message-id:reply-to; bh=apzC0/3pXK5muLY6n4cQ911OxRaoqrr66wf9cQ5VvL8=; b=O2lJL1VAQnFb6WmbUjU6FxslDbwaJamXSFhBN6gGYhaLfU/68/PdZT8r1CVZfUc2FM tP1a5TpUFrMALHjW4JYYcZ9+/byiqDHDbmMp82aVZrDdHecwoyJcnkhVCv26K7cnFgGl kdzknFzgNP3oXOlBv5NKJs/uc0Prc7fAQPWUk= X-Google-DKIM-Signature: v=1; a=rsa-sha256; c=relaxed/relaxed; d=1e100.net; s=20230601; t=1738879073; x=1739483873; h=references:in-reply-to:cc:to:from:subject:message-id:date :x-gm-message-state:from:to:cc:subject:date:message-id:reply-to; bh=apzC0/3pXK5muLY6n4cQ911OxRaoqrr66wf9cQ5VvL8=; b=UbYrhiSufFRlteQesUk/vWmYJwOAtz0pCacxPLEhqiMjUz+g/i2UYlXdUNE+AY2vIt KjvUG5d/kvkpPHXXU41cGecY/dunrej18hUU+Xrfvo03D/cvplUnmO0n5dBAcVxdvFY8 b2HUzUrtXTSCsAPi5kmTi+KY++h1/nftspvnlIyIsedUCOZerQJky0eDrDTHOXo/PvdE VrMsUOFfON+oYhyM97EHhlfK5CDYOlABZmOCxvvTQzgrTd1tY2kxrr2x/dyQXpbgHYzS Js7Oy5oA9bbyp1qJ+hh7AHzMD4AwoIdiLgT9QJsvLyYi5xB+PMQFBZ36/+5RmwofE9A2 BffQ== X-Gm-Message-State: AOJu0YzcaVfCgfHjVPT/AeSGNLYE93S+5V2mBp8C0tm9X2RjiPgDZzjm gj8gz9bJjd7QX+vcZeQRt8OdWo7YtMvK/KAtpaCmvoAKz4PkhqjktHneoM82e+yTJToPCj9+2bG Avkezadv84yRBfPbeTQM+bMl/Sr4UucjQYcdLUUlu9UMtT3lWxUPmGYsC X-Gm-Gg: ASbGncsMhJy16uoBOwOwrZ7vMqucCkpjuVRbhEuofEEdEscAC7LZj83h2x0+37sjuZh DHAOQj/+2NV5UdDKbR9htXqk7fRXD1t/S5wk/eZvDvND/V7VCTFFGGBTR4exY0dmVl+zqkKB3vx F3UtYRkEYRZ0Crz9DXdkgXg0YXaRabF/Mtir/c344X+7ps2JNaRYGck67MS2hY5g+0X5F7xanBb NxToa/xBIFHbQZxap26tBvTR76XyxpESOKQmKkOGK/3xyBD4RZbGYvItmmfMBas7XDqEezjyBna AoTEeId14BJqSh+J1/dwo6vuLhEDZB2byXIZTxAQlQ== X-Google-Smtp-Source: AGHT+IHFWkImOt9M2CM4yuweVpl2NNBRHk64oN0ZIethXE2SiHqDEa8QW7aoVRGCWVnnbnrmaaVByUNGD7Ga X-Received: by 2002:a05:6e02:160d:b0:3a7:87f2:b010 with SMTP id e9e14a558f8ab-3d13dd2c8f0mr6175555ab.5.1738879073700; Thu, 06 Feb 2025 13:57:53 -0800 (PST) Received: from postal.iol.unh.edu (postal.iol.unh.edu. [2606:4100:3880:1234::84]) by smtp-relay.gmail.com with ESMTPS id 8926c6da1cb9f-4eccf9d4fe2sm134148173.26.2025.02.06.13.57.53 (version=TLS1_2 cipher=ECDHE-ECDSA-AES128-GCM-SHA256 bits=128/128); Thu, 06 Feb 2025 13:57:53 -0800 (PST) X-Relaying-Domain: iol.unh.edu Date: Thu, 06 Feb 2025 13:57:53 -0800 (PST) Message-ID: <67a53061.050a0220.15d379.7545SMTPIN_ADDED_MISSING@mx.google.com> Received: from [172.17.0.5] (unknown [172.18.0.217]) by postal.iol.unh.edu (Postfix) with ESMTP id 584D96052471; Thu, 6 Feb 2025 16:57:53 -0500 (EST) Subject: |SUCCESS| pw150809-150808 [PATCH] [v3,2/2] stack: enable build with From: dpdklab@iol.unh.edu To: Test Report Cc: dpdk-test-reports@iol.unh.edu In-Reply-To: <1738634318-12876-3-git-send-email-andremue@linux.microsoft.com> References: <1738634318-12876-3-git-send-email-andremue@linux.microsoft.com> Content-Type: text/plain X-BeenThere: test-report@dpdk.org X-Mailman-Version: 2.1.29 Precedence: list List-Id: automatic DPDK test reports List-Unsubscribe: , List-Archive: List-Post: List-Help: List-Subscribe: , Errors-To: test-report-bounces@dpdk.org Test-Label: iol-sample-apps-testing Test-Status: SUCCESS http://dpdk.org/patch/150808 _Testing PASS RETEST #1_ Submitter: Andre Muezerie Date: Tuesday, February 04 2025 01:58:38 DPDK git baseline: Repo:dpdk Branch: master CommitID:dc4ce7c2538b713e16887eb598da309bc7b4d528 150809-150808 --> testing pass Upstream job id: Template-DTS-Pipeline#211220 Test environment and result as below: +--------------------+----------------------+----------------------+ | Environment | compressdev_zlib_pmd | dpdk_fips_validation | +====================+======================+======================+ | Ubuntu 22.04 (ARM) | PASS | SKIPPED | +--------------------+----------------------+----------------------+ | Ubuntu 22.04 | PASS | SKIPPED | +--------------------+----------------------+----------------------+ | Ubuntu 20.04 | SKIPPED | PASS | +--------------------+----------------------+----------------------+ Ubuntu 22.04 (ARM) Kernel: 5.15.0-97-generic Compiler: gcc gcc (Ubuntu 11.4.0-1ubuntu1~22.04) 11.4.0 Ubuntu 22.04 Kernel: 5.15.0-100-generic Compiler: gcc gcc (Ubuntu 11.4.0-1ubuntu1~22.04) 11.4.0 Ubuntu 20.04 Kernel: Depends on container host Compiler: gcc (Ubuntu 9.4.0-1ubuntu1~20.04.2) 9.4.0 To view detailed results, visit: https://lab.dpdk.org/results/dashboard/patchsets/32485/ UNH-IOL DPDK Community Lab To manage your email subscriptions, visit: https://lab.dpdk.org/results/dashboard/preferences/subscriptions/