From mboxrd@z Thu Jan 1 00:00:00 1970 Return-Path: Received: from mails.dpdk.org (mails.dpdk.org [217.70.189.124]) by inbox.dpdk.org (Postfix) with ESMTP id 7899F461AF for ; Thu, 6 Feb 2025 23:02:50 +0100 (CET) Received: from mails.dpdk.org (localhost [127.0.0.1]) by mails.dpdk.org (Postfix) with ESMTP id 5583940EE2; Thu, 6 Feb 2025 23:02:50 +0100 (CET) Received: from mail-il1-f227.google.com (mail-il1-f227.google.com [209.85.166.227]) by mails.dpdk.org (Postfix) with ESMTP id 5AA07402BC for ; Thu, 6 Feb 2025 23:02:49 +0100 (CET) Received: by mail-il1-f227.google.com with SMTP id e9e14a558f8ab-3cfc8772469so4959735ab.3 for ; Thu, 06 Feb 2025 14:02:49 -0800 (PST) DKIM-Signature: v=1; a=rsa-sha256; c=relaxed/relaxed; d=iol.unh.edu; s=unh-iol; t=1738879368; x=1739484168; darn=dpdk.org; h=references:in-reply-to:cc:to:from:subject:message-id:date:from:to :cc:subject:date:message-id:reply-to; bh=F1BYbed7ne/t+m9HLOHBEOHe6QOWItdjo9+2IMvrpMY=; b=UwsxPfypdR/yq/AufH82XcVGh76d0co+k2nbv37Kluf0rfVyJ49lHnkZQtoYHgxKS1 SHPrTWU1ua5a1QhAgL5j3vu3LlygaOqxc7sZu6ENz+1GmzJNN3nU3xOOzbw79HzCWIS9 L46Aapaouw5bmYQP+3F3Z8R1yzAHGHcDSQMcM= X-Google-DKIM-Signature: v=1; a=rsa-sha256; c=relaxed/relaxed; d=1e100.net; s=20230601; t=1738879368; x=1739484168; h=references:in-reply-to:cc:to:from:subject:message-id:date :x-gm-message-state:from:to:cc:subject:date:message-id:reply-to; bh=F1BYbed7ne/t+m9HLOHBEOHe6QOWItdjo9+2IMvrpMY=; b=SFwKSTFdDRKXAZZNcQSjJ1ywXFbf4extoJiZt19yJVPQZALtjA4EdN9md5tFxXsaag jH+PNbizvobMuwuq/ZjeuRncwEhqa8cInD/sgfednWGrKtEKJ4+xq7AYemc4b0mIHsuw HcoOiAqVhs0T4b0cKKiiYs0pTsuLSlhk8w2BH9I564nX2pJ90LpC3U4uF5sOwNikMaKG EosYnZirTjvBRqnjQTnm3EZ3alXMSC2it8PlcnJCeclbzSWt47Ztf/1P5iXa1LlowGu4 Q7HPHYgOyx9I2sum1TuUaKibYHkHyC+c92Sz+npLW9QJvzZvGYgcVbnrZx5NNPyJ66l1 Dbwg== X-Gm-Message-State: AOJu0Yw5zCUTHNK+T5VvcXnibfIYZaJ/saR/fi65cohwye7/VuKnSUF4 jlsbA3Cb29C+gXUESX4ZhQGFNe0RlnLeCm3fSfhXocLGqTWke6RurzmvVhYL6RadxA9Duzyqm86 rz4oLuANINIs1sxxx8vD7B5cwjI/nTPYArWe/mHtiuMoggU96xzAZraDH X-Gm-Gg: ASbGncvUquA3IvXeg66QA6eHrZvOfS66SVqUIA+KRgakmKjYbGa6P6brTVQGo1sxYuf 93d+3Kk/9J0Rc8WHgO0E5B2JcP/HXxxJwNQbroI7xCOIruHoKjAvLKIx/mC7311MdQBIBA3u8je rWC/L0exxDEo0Ycv8APFIprDI9KFzPhUSjJ5rHMg3l8nQWI0jhMqGr6awL/Y1Vmm7ZH/RxDzdSA TOl1XkFxxzbmuAyriiLmd6ulwyrJdklsOVu6OfrvtPpclZIjrX+BjKD/WQUHuJUutuCD6gqCrzR HYxZM7t7oYFl/HcIZdUWXsh4Tkw3f7FuJOsPl/znKw== X-Google-Smtp-Source: AGHT+IHTRaCeiJgEUYT3ykXzAI5Nj33iX/9mCpISWLlYvCSMqlL0a0KqP1s8C+eqbsB9MGQk4/djJKDyIr4Y X-Received: by 2002:a05:6e02:1ca8:b0:3d0:4859:8b9b with SMTP id e9e14a558f8ab-3d13de7d43bmr5700835ab.13.1738879368637; Thu, 06 Feb 2025 14:02:48 -0800 (PST) Received: from postal.iol.unh.edu (postal.iol.unh.edu. [2606:4100:3880:1234::84]) by smtp-relay.gmail.com with ESMTPS id e9e14a558f8ab-3d05ea2099fsm1380895ab.66.2025.02.06.14.02.48 (version=TLS1_2 cipher=ECDHE-ECDSA-AES128-GCM-SHA256 bits=128/128); Thu, 06 Feb 2025 14:02:48 -0800 (PST) X-Relaying-Domain: iol.unh.edu Date: Thu, 06 Feb 2025 14:02:48 -0800 (PST) Message-ID: <67a53188.050a0220.24d096.78d0SMTPIN_ADDED_MISSING@mx.google.com> Received: from [172.17.0.4] (unknown [172.18.0.217]) by postal.iol.unh.edu (Postfix) with ESMTP id 1FCED6052471; Thu, 6 Feb 2025 17:02:48 -0500 (EST) Subject: |WARNING| pw149320-149324 [PATCH] [v2,5/5] vhost: use strlcpy instea From: dpdklab@iol.unh.edu To: Test Report Cc: dpdk-test-reports@iol.unh.edu In-Reply-To: <20241219225253.782792-6-stephen@networkplumber.org> References: <20241219225253.782792-6-stephen@networkplumber.org> Content-Type: text/plain X-BeenThere: test-report@dpdk.org X-Mailman-Version: 2.1.29 Precedence: list List-Id: automatic DPDK test reports List-Unsubscribe: , List-Archive: List-Post: List-Help: List-Subscribe: , Errors-To: test-report-bounces@dpdk.org Test-Label: iol-compile-amd64-testing Test-Status: WARNING http://dpdk.org/patch/149324 _Testing issues RETEST #1_ Submitter: Stephen Hemminger Date: Thursday, December 19 2024 22:49:55 DPDK git baseline: Repo:dpdk Branch: master CommitID:94ad302b4ebba4a5b6706a1c43ea0505e5098169 149320-149324 --> testing issues Upstream job id: Windows-Compile-DPDK-Native#26491 Test environment and result as below: +---------------------+--------------------+------------------+-------------------+-------------------+-------------------------+----------------------+ | Environment | dpdk_meson_compile | dpdk_compile_ovs | dpdk_compile_spdk | dpdk_msvc_compile | dpdk_llvm_clang_compile | dpdk_mingw64_compile | +=====================+====================+==================+===================+===================+=========================+======================+ | Fedora 39 (Clang) | PASS | PASS | PASS | SKIPPED | SKIPPED | SKIPPED | +---------------------+--------------------+------------------+-------------------+-------------------+-------------------------+----------------------+ | Fedora 39 | PASS | PASS | PASS | SKIPPED | SKIPPED | SKIPPED | +---------------------+--------------------+------------------+-------------------+-------------------+-------------------------+----------------------+ | Fedora 40 (Clang) | PASS | PASS | PASS | SKIPPED | SKIPPED | SKIPPED | +---------------------+--------------------+------------------+-------------------+-------------------+-------------------------+----------------------+ | openSUSE Leap 15 | PASS | WARN | SKIPPED | SKIPPED | SKIPPED | SKIPPED | +---------------------+--------------------+------------------+-------------------+-------------------+-------------------------+----------------------+ | RHEL8 | PASS | PASS | SKIPPED | SKIPPED | SKIPPED | SKIPPED | +---------------------+--------------------+------------------+-------------------+-------------------+-------------------------+----------------------+ | Fedora 40 | PASS | PASS | PASS | SKIPPED | SKIPPED | SKIPPED | +---------------------+--------------------+------------------+-------------------+-------------------+-------------------------+----------------------+ | RHEL9 | PASS | PASS | SKIPPED | SKIPPED | SKIPPED | SKIPPED | +---------------------+--------------------+------------------+-------------------+-------------------+-------------------------+----------------------+ | Ubuntu 24.04 | PASS | PASS | PASS | SKIPPED | SKIPPED | SKIPPED | +---------------------+--------------------+------------------+-------------------+-------------------+-------------------------+----------------------+ | Ubuntu 22.04 | PASS | PASS | PASS | SKIPPED | SKIPPED | SKIPPED | +---------------------+--------------------+------------------+-------------------+-------------------+-------------------------+----------------------+ | Alpine | PASS | PASS | SKIPPED | SKIPPED | SKIPPED | SKIPPED | +---------------------+--------------------+------------------+-------------------+-------------------+-------------------------+----------------------+ | FreeBSD 13.4 | PASS | SKIPPED | SKIPPED | SKIPPED | SKIPPED | SKIPPED | +---------------------+--------------------+------------------+-------------------+-------------------+-------------------------+----------------------+ | CentOS Stream 9 | PASS | PASS | PASS | SKIPPED | SKIPPED | SKIPPED | +---------------------+--------------------+------------------+-------------------+-------------------+-------------------------+----------------------+ | FreeBSD 14.2 | PASS | SKIPPED | SKIPPED | SKIPPED | SKIPPED | SKIPPED | +---------------------+--------------------+------------------+-------------------+-------------------+-------------------------+----------------------+ | Debian 12 | PASS | PASS | PASS | SKIPPED | SKIPPED | SKIPPED | +---------------------+--------------------+------------------+-------------------+-------------------+-------------------------+----------------------+ | Ubuntu 20.04 | PASS | SKIPPED | SKIPPED | SKIPPED | SKIPPED | SKIPPED | +---------------------+--------------------+------------------+-------------------+-------------------+-------------------------+----------------------+ | Windows Server 2022 | SKIPPED | SKIPPED | SKIPPED | PASS | PASS | PASS | +---------------------+--------------------+------------------+-------------------+-------------------+-------------------------+----------------------+ ==== 20 line log output for openSUSE Leap 15 (dpdk_compile_ovs): ==== --- Failed to get log output --- ==== End log output ==== Fedora 39 (Clang) Kernel: Depends on container host Compiler: clang 17.0.6 (Fedora 17.0.6-2.fc39) Fedora 39 Kernel: Depends on container host Compiler: gcc 13.3.1 20240522 (Red Hat 13.3.1-1) Fedora 40 (Clang) Kernel: Depends on container host Compiler: clang 18.1.8 (Fedora 18.1.8-1.fc40) openSUSE Leap 15 Kernel: Depends on container host Compiler: gcc (SUSE Linux) 7.5.0 RHEL8 Kernel: Depends on container host Compiler: gcc 8.5.0 20210514 (Red Hat 8.5.0-22) Fedora 40 Kernel: Depends on container host Compiler: gcc 14.2.1 20240912 (Red Hat 14.2.1-3) RHEL9 Kernel: Depends on container host Compiler: gcc 11.5.0 20240719 (Red Hat 11.5.0-2) Ubuntu 24.04 Kernel: Depends on container host Compiler: gcc (Ubuntu 13.3.0-6ubuntu2~24.04) 13.3.0 Ubuntu 22.04 Kernel: Depends on container host Compiler: gcc (Ubuntu 11.4.0-1ubuntu1~22.04) 11.4.0 Alpine Kernel: Depends on container host Compiler: gcc (Alpine 14.2.0) 14.2.0 FreeBSD 13.4 Kernel: 13.4-RELEASE-p1 Compiler: clang 18.1.6 CentOS Stream 9 Kernel: Depends on container host Compiler: gcc 11.5.0 20240719 (Red Hat 11.5.0-2) FreeBSD 14.2 Kernel: 14.2-RELEASE Compiler: clang 18.1.6 Debian 12 Kernel: Depends on container host Compiler: gcc (Debian 12.2.0-14) 12.2.0 Ubuntu 20.04 Kernel: Depends on container host Compiler: gcc (Ubuntu 9.4.0-1ubuntu1~20.04.2) 9.4.0 Windows Server 2022 Kernel: 10.0.20348.2031 Compiler: clang 15.0.7, gcc 14.1.0 (MinGW), and MSVC VS 19.39.33521 To view detailed results, visit: https://lab.dpdk.org/results/dashboard/patchsets/32175/ UNH-IOL DPDK Community Lab To manage your email subscriptions, visit: https://lab.dpdk.org/results/dashboard/preferences/subscriptions/