From mboxrd@z Thu Jan 1 00:00:00 1970 Return-Path: Received: from mails.dpdk.org (mails.dpdk.org [217.70.189.124]) by inbox.dpdk.org (Postfix) with ESMTP id 90C06461AF for ; Thu, 6 Feb 2025 23:12:24 +0100 (CET) Received: from mails.dpdk.org (localhost [127.0.0.1]) by mails.dpdk.org (Postfix) with ESMTP id 6652740EE2; Thu, 6 Feb 2025 23:12:24 +0100 (CET) Received: from mail-pl1-f227.google.com (mail-pl1-f227.google.com [209.85.214.227]) by mails.dpdk.org (Postfix) with ESMTP id BDCB0402BC for ; Thu, 6 Feb 2025 23:12:23 +0100 (CET) Received: by mail-pl1-f227.google.com with SMTP id d9443c01a7336-21661be2c2dso27650145ad.1 for ; Thu, 06 Feb 2025 14:12:23 -0800 (PST) DKIM-Signature: v=1; a=rsa-sha256; c=relaxed/relaxed; d=iol.unh.edu; s=unh-iol; t=1738879943; x=1739484743; darn=dpdk.org; h=references:in-reply-to:cc:to:from:subject:message-id:date:from:to :cc:subject:date:message-id:reply-to; bh=fI0+hh6Ow64oNzIWjz8gzOxthcgCcJU1BwogtJX/3WY=; b=FpYml4DcMr+Bj3I28M1tWbIgduNCT07fmT46vYqqrmzJ1wRdG8br6AOo92AEn+OxQV 0KqW4yVHD1u5++Sik9xJLm6KPhT3+w2SzvROfAbJJ9B9peYsj+gGqFc4moXima3X4km0 IJLr83a459umD9UBEDBFOCCgg0kg0ckJJZ77E= X-Google-DKIM-Signature: v=1; a=rsa-sha256; c=relaxed/relaxed; d=1e100.net; s=20230601; t=1738879943; x=1739484743; h=references:in-reply-to:cc:to:from:subject:message-id:date :x-gm-message-state:from:to:cc:subject:date:message-id:reply-to; bh=fI0+hh6Ow64oNzIWjz8gzOxthcgCcJU1BwogtJX/3WY=; b=jgauzW5qZBBCkjh0LrUqB4eZ5m9khVYchPa5eqwKVnCjRI/D+Od1zOxm8K5AAuLLcv mnGYNV7+5bhfZHdSTxKRtoTy3uopcx90PEYU2YyxhseqncL3qe0I+0qyheZUoqbhm5+M 03trSKuE5e5f85bKs1+AO2cqy6LuK5/jcpJEkoqE1e1HLf9aXGjNCaxWL/nWG6GD0YMb Fyglw3ZpOHLfnEL02jg6MtUEoy6d1d+yTEz1eHVCG0t6FJjAGQS7J0EIuIQ4m4ek/DsR xvtfsO60D9yPrVPpOydwhT2pb2M8oUWjM4pEPPUSgg22IX0kkh5mxSAF5Kx2O90jLMAZ dlAQ== X-Gm-Message-State: AOJu0YyzibOAG+fW4bhVxQGl85Io/pcaTy9So9n6ehK7E9g/ggUUkGdy jaYs5i0iZrlYPR5NXOYB9SMFeQa6uQ3KStsZJal0/Xlq47LPcBmBAQqRWzPlP7bZNCDsSx90Toe uVtu4T7nBN9hH0eqbBMtMqPvKhBiS9Y1LxGamKijtS0yh786+n5nwJ1Jx X-Gm-Gg: ASbGncuJMsBxmr51VaDs8dgEdwzpr5upFvz91og0JOXcaSVDedbfMB/3EUX/ZHwLYK9 Tgs3NlmiVpEOeQ9g0VMhfefBHpEhGGmiE0Z4Omr5oj0YVj2vucZBAqJ3EGEGXHfiOkX502JwcWv LLpO3GoQ2yfHq6fGa2LG7wp3U14aR+K4MFD4EyD0JS497w5pTjCnpuf8j9Vq37vT1f3Cy282KCK n/h3dhvixXjdLD+u6i13bfw1xjyNAQREWek995zv0axWe5leFVjTZVFQuYdE1iNBXc0MdXSfvOx 5c3mMiAkhVYKL+eYHib5/Gtg9v34Y8EjY47w67Qmcg== X-Google-Smtp-Source: AGHT+IGDsfMuRfpIP1zlnYk/KxbUHIAcCAtZdDP2Bisf9GYf6IVd0Vh142jss/vsahtzvEhZD4KS9cz/u3Ki X-Received: by 2002:a17:902:fd03:b0:21f:45d:21fb with SMTP id d9443c01a7336-21f4e1cf022mr10296465ad.3.1738879942776; Thu, 06 Feb 2025 14:12:22 -0800 (PST) Received: from postal.iol.unh.edu (postal.iol.unh.edu. [2606:4100:3880:1234::84]) by smtp-relay.gmail.com with ESMTPS id d9443c01a7336-21f368766a3sm967665ad.100.2025.02.06.14.12.22 (version=TLS1_2 cipher=ECDHE-ECDSA-AES128-GCM-SHA256 bits=128/128); Thu, 06 Feb 2025 14:12:22 -0800 (PST) X-Relaying-Domain: iol.unh.edu Date: Thu, 06 Feb 2025 14:12:22 -0800 (PST) Message-ID: <67a533c6.170a0220.376bcb.569bSMTPIN_ADDED_MISSING@mx.google.com> Received: from [172.21.0.6] (unknown [172.18.0.240]) by postal.iol.unh.edu (Postfix) with ESMTP id F15206052471; Thu, 6 Feb 2025 17:12:21 -0500 (EST) Subject: |SUCCESS| pw150647 [PATCH] dma/idxd: add device ids for new HW versi From: dpdklab@iol.unh.edu To: Test Report Cc: dpdk-test-reports@iol.unh.edu In-Reply-To: <20250130172624.1450975-2-bruce.richardson@intel.com> References: <20250130172624.1450975-2-bruce.richardson@intel.com> Content-Type: text/plain X-BeenThere: test-report@dpdk.org X-Mailman-Version: 2.1.29 Precedence: list List-Id: automatic DPDK test reports List-Unsubscribe: , List-Archive: List-Post: List-Help: List-Subscribe: , Errors-To: test-report-bounces@dpdk.org Test-Label: iol-sample-apps-testing Test-Status: SUCCESS http://dpdk.org/patch/150647 _Testing PASS RETEST #1_ Submitter: Bruce Richardson Date: Thursday, January 30 2025 17:26:25 DPDK git baseline: Repo:dpdk Branch: master CommitID:8c565bbebb8f72decbc4af6a69cb76f07bffc472 150647 --> testing pass Upstream job id: Template-DTS-Pipeline#211234 Test environment and result as below: +--------------------+----------------------+----------------------+ | Environment | compressdev_zlib_pmd | dpdk_fips_validation | +====================+======================+======================+ | Ubuntu 22.04 (ARM) | PASS | SKIPPED | +--------------------+----------------------+----------------------+ | Ubuntu 22.04 | PASS | SKIPPED | +--------------------+----------------------+----------------------+ | Ubuntu 20.04 | SKIPPED | PASS | +--------------------+----------------------+----------------------+ Ubuntu 22.04 (ARM) Kernel: 5.15.0-97-generic Compiler: gcc gcc (Ubuntu 11.4.0-1ubuntu1~22.04) 11.4.0 Ubuntu 22.04 Kernel: 5.15.0-100-generic Compiler: gcc gcc (Ubuntu 11.4.0-1ubuntu1~22.04) 11.4.0 Ubuntu 20.04 Kernel: Depends on container host Compiler: gcc (Ubuntu 9.4.0-1ubuntu1~20.04.2) 9.4.0 To view detailed results, visit: https://lab.dpdk.org/results/dashboard/patchsets/32464/ UNH-IOL DPDK Community Lab To manage your email subscriptions, visit: https://lab.dpdk.org/results/dashboard/preferences/subscriptions/