From mboxrd@z Thu Jan 1 00:00:00 1970 Return-Path: Received: from mails.dpdk.org (mails.dpdk.org [217.70.189.124]) by inbox.dpdk.org (Postfix) with ESMTP id 65188461AF for ; Thu, 6 Feb 2025 23:37:27 +0100 (CET) Received: from mails.dpdk.org (localhost [127.0.0.1]) by mails.dpdk.org (Postfix) with ESMTP id 5D81C40EE2; Thu, 6 Feb 2025 23:37:27 +0100 (CET) Received: from mail-pl1-f225.google.com (mail-pl1-f225.google.com [209.85.214.225]) by mails.dpdk.org (Postfix) with ESMTP id 37023402BC for ; Thu, 6 Feb 2025 23:37:25 +0100 (CET) Received: by mail-pl1-f225.google.com with SMTP id d9443c01a7336-21f48ab13d5so15542375ad.0 for ; Thu, 06 Feb 2025 14:37:25 -0800 (PST) DKIM-Signature: v=1; a=rsa-sha256; c=relaxed/relaxed; d=iol.unh.edu; s=unh-iol; t=1738881444; x=1739486244; darn=dpdk.org; h=references:in-reply-to:cc:to:from:subject:message-id:date:from:to :cc:subject:date:message-id:reply-to; bh=nuTsGreW9oIJzngqtB7TP7xqcCqnvRJDpdpC4UnEwEw=; b=B69IeQTRytvCYzocqMWq86t3UYdJLUYjxMuYIGn7SGHOVw4KOKAcdXhNYHK09pxs5e 8PR+Jl3EU5naJ1W7+S8iEbO3FzzpdjGt59UKNQyr9o0uPWwsRQFvXb3Mw6xyyed45oHs vv8/C2LQwBEyypsN8gL4EZGFjJJfLKvZCCkYk= X-Google-DKIM-Signature: v=1; a=rsa-sha256; c=relaxed/relaxed; d=1e100.net; s=20230601; t=1738881444; x=1739486244; h=references:in-reply-to:cc:to:from:subject:message-id:date :x-gm-message-state:from:to:cc:subject:date:message-id:reply-to; bh=nuTsGreW9oIJzngqtB7TP7xqcCqnvRJDpdpC4UnEwEw=; b=TyPNzueMfxjC7VRi7T1bNAI5NWKaAxIl67hw8hDAq7i6FQlzVkT42ktDBT+jZbCQS9 xPIqvqmUGQfgjKyolzfFB7JtODKFiuAKw4OrO051LYt5X1Q8jIfZew+HSkiKh34pixsR sfa3/1tJp3WJipaO76gPjw3BDUDZAOKoIOVqImpb64xPLdtIXsbm3p+CzDU3K7UVZ/WZ 4D9/D/T67/tkh3nRPoZZy24uNTQ3VTqxbqTyiIzXzvJ8FR9v4Wvm+mWwiStjY4IZnaHw yH5RKzooiBuQL6A1OqxrwKCj2cgJhr8RFdj1CCqs/iKftf4txcT94lu3WKH/b0LMXwiy zyFw== X-Gm-Message-State: AOJu0YznXiYTLO0jPjK649SNuHTN6aQElCKGKtE8VgwM6GUd4shmp6yV OtswF0CRo0OF3jHHkO5FrZvdTFDjzYTAZgI4Jwg7eM9AoVSgsBtoLAcRp9CxPnCdDyrJC26onbk HdIZmwHEB9opVYCIh/QekdDwHGhGo7P08VpTRPEn+ X-Gm-Gg: ASbGnctWGQDofhWE1sXGcvEW2/Lo5FHgEOWGWGSUa1cTsujKbzI95h7XVCjA0BPYBm6 ugfrdVmvGDDD3os+FdArt8gGd6jfqN9MzWGsmz9AD/vBaNEdvbg6FxLBkSXNhXnCrYUGoW32MVm DFV8CExI6IdzoU8ERagd6CX70AZTeoIbC9qL+gtveiT8r7HZ6edaOm2QZHaLEPkf51xqMYvMj9R GjeP/FOivEffKx0REYU7kJmvDWvxqTRuwNnAZtldYU/Rd+EgEG7zIQbhBZ8l5Wm2bBR4+w2zpMl kAq6j2otblAfc3ftlKPFF2sBbi0QdA== X-Google-Smtp-Source: AGHT+IGfhQ3X04SFkhzGk6X1OID542FfO1wyb3DzUcM+ZMnaf0p07NPSd0aH0cuwtrf839mqr0aA/PjCY5dd X-Received: by 2002:a17:903:2f86:b0:21f:3e2d:7d38 with SMTP id d9443c01a7336-21f4e77983bmr11187285ad.46.1738881444392; Thu, 06 Feb 2025 14:37:24 -0800 (PST) Received: from postal.iol.unh.edu (postal.iol.unh.edu. [132.177.123.84]) by smtp-relay.gmail.com with ESMTPS id 98e67ed59e1d1-2f9e1d8cb21sm375774a91.9.2025.02.06.14.37.24 (version=TLS1_2 cipher=ECDHE-ECDSA-AES128-GCM-SHA256 bits=128/128); Thu, 06 Feb 2025 14:37:24 -0800 (PST) X-Relaying-Domain: iol.unh.edu Date: Thu, 06 Feb 2025 14:37:24 -0800 (PST) Message-ID: <67a539a4.170a0220.31b813.28e9SMTPIN_ADDED_MISSING@mx.google.com> Received: from [172.21.0.6] (unknown [172.18.0.240]) by postal.iol.unh.edu (Postfix) with ESMTP id DAEA76052471; Thu, 6 Feb 2025 17:37:23 -0500 (EST) Subject: |SUCCESS| pw150865 [PATCH] [RFC] ci: Add support for Cirrus-CI servi From: dpdklab@iol.unh.edu To: Test Report Cc: dpdk-test-reports@iol.unh.edu In-Reply-To: <20250204160739.1603197-1-aconole@redhat.com> References: <20250204160739.1603197-1-aconole@redhat.com> Content-Type: text/plain X-BeenThere: test-report@dpdk.org X-Mailman-Version: 2.1.29 Precedence: list List-Id: automatic DPDK test reports List-Unsubscribe: , List-Archive: List-Post: List-Help: List-Subscribe: , Errors-To: test-report-bounces@dpdk.org Test-Label: iol-sample-apps-testing Test-Status: SUCCESS http://dpdk.org/patch/150865 _Testing PASS RETEST #1_ Submitter: Aaron Conole Date: Tuesday, February 04 2025 16:07:39 DPDK git baseline: Repo:dpdk Branch: master CommitID:dc4ce7c2538b713e16887eb598da309bc7b4d528 150865 --> testing pass Upstream job id: Template-DTS-Pipeline#211205 Test environment and result as below: +--------------------+----------------------+----------------------+ | Environment | compressdev_zlib_pmd | dpdk_fips_validation | +====================+======================+======================+ | Ubuntu 22.04 (ARM) | PASS | SKIPPED | +--------------------+----------------------+----------------------+ | Ubuntu 22.04 | PASS | SKIPPED | +--------------------+----------------------+----------------------+ | Ubuntu 20.04 | SKIPPED | PASS | +--------------------+----------------------+----------------------+ Ubuntu 22.04 (ARM) Kernel: 5.15.0-97-generic Compiler: gcc gcc (Ubuntu 11.4.0-1ubuntu1~22.04) 11.4.0 Ubuntu 22.04 Kernel: 5.15.0-100-generic Compiler: gcc gcc (Ubuntu 11.4.0-1ubuntu1~22.04) 11.4.0 Ubuntu 20.04 Kernel: Depends on container host Compiler: gcc (Ubuntu 9.4.0-1ubuntu1~20.04.2) 9.4.0 To view detailed results, visit: https://lab.dpdk.org/results/dashboard/patchsets/32488/ UNH-IOL DPDK Community Lab To manage your email subscriptions, visit: https://lab.dpdk.org/results/dashboard/preferences/subscriptions/