From mboxrd@z Thu Jan 1 00:00:00 1970 Return-Path: Received: from mails.dpdk.org (mails.dpdk.org [217.70.189.124]) by inbox.dpdk.org (Postfix) with ESMTP id 1BE42461AF for ; Thu, 6 Feb 2025 23:43:39 +0100 (CET) Received: from mails.dpdk.org (localhost [127.0.0.1]) by mails.dpdk.org (Postfix) with ESMTP id 1563840EE2; Thu, 6 Feb 2025 23:43:39 +0100 (CET) Received: from mail-pj1-f99.google.com (mail-pj1-f99.google.com [209.85.216.99]) by mails.dpdk.org (Postfix) with ESMTP id E069E402BC for ; Thu, 6 Feb 2025 23:43:37 +0100 (CET) Received: by mail-pj1-f99.google.com with SMTP id 98e67ed59e1d1-2f9d9ee2ec2so2224727a91.1 for ; Thu, 06 Feb 2025 14:43:37 -0800 (PST) DKIM-Signature: v=1; a=rsa-sha256; c=relaxed/relaxed; d=iol.unh.edu; s=unh-iol; t=1738881817; x=1739486617; darn=dpdk.org; h=references:in-reply-to:cc:to:from:subject:message-id:date:from:to :cc:subject:date:message-id:reply-to; bh=L044vzQx5tNZ/uKuz/zEXMczjpPpkxKgQvxGSqaY/5E=; b=a1+skxgcZpuhs9HEMyEZyK8XEbX/QIrcrzBFOcnZmnaSnTUjIphXkkq2Xy0RfBos1w JkKvMCLVUZ9ZRO5+WlnDv9O+1yh2w6Wnuap1JR5KXexuJlJEHzgDwcefzkhKS05BQpUu gt8zcp+AVJdYP+6ShxzuigbBKfOR4iThZa0VE= X-Google-DKIM-Signature: v=1; a=rsa-sha256; c=relaxed/relaxed; d=1e100.net; s=20230601; t=1738881817; x=1739486617; h=references:in-reply-to:cc:to:from:subject:message-id:date :x-gm-message-state:from:to:cc:subject:date:message-id:reply-to; bh=L044vzQx5tNZ/uKuz/zEXMczjpPpkxKgQvxGSqaY/5E=; b=P2ZkIV0gEcQYnba4C3iDUdRR/EIsoESzf5QY87B+LdhsUY/Z/d2/Pv3VUMGMDZOR8n FKKJ5+QVCRzQEp+1dy+JiNizimiVKvVX86DVb79NQ8F8BkJvzgaFWlbUCicJ7/bxgPsv fxCMVhm8ptuVhl4Z+7UyeHzJUJge8KFUekn5rrNit3sU1w70JNbD2FUK3BZaPtWbS3qm lgRbgIHsE3vGGHh7YdkvJSBOuiV7RdhVJkahkOWkrDp+EuJDzHv1wnA1ym+VXUL8l3pZ LL/amHIT4Q0VD9zzHWcgve/IeM1ttqI1k8wMF5eq1e7EjfqDHag2SY+WB2xqAF/577lK F/0w== X-Gm-Message-State: AOJu0YwLPBMnIrDapTTvaxTQd48LRyacO44ikNsNl1OTATHujUCBBCY/ o53gO3t2zs8ggDQgt6Kprxjo14zqjqKxiEL3F2XF8ZBnwovMNhzOS/vB5IniRRttDdr+ytkjIer IX90vvALP9ghe2QR8CuQjMNdt4JJJ8t9uAK79b8D1eiUvCaNIVT/w4MEj X-Gm-Gg: ASbGncuasbhxPJSFycCMvZ1je2LDualR8AmQlLdGnVDfIKlEANLPgd3uRHSvMSifNxw pyVsTtrw64tlI+Kd4Yu+56A9hZwVhRyYQhVoF+gfLux09t656Bv51fpa0e2g+5ReDdVq6hQ8DG2 in1NRDxaJjI4k8LFtyqdvUK6SxCcrN7ZypKh57s0YBN01SIZsnHIaXjXouLQGJbME8cuvczw58g n6trB9hZWHoS3hjrhgOVOg1XHIR+mNN7S2MT4thxZ6kStp649QrAAWhv85d/v2HGBSfh8c93/Mf t2koJa4Uixx1VjUD+zk9JJcxqKeDZOKf4IyQwcwDvQ== X-Google-Smtp-Source: AGHT+IEq/qyd+H6NxK6VfpzPUqo49AV+NdGuHLRNFJ10szTerG2H5ijpEyaky+aOc3RxspS45HHe1LNzdFXs X-Received: by 2002:a17:90b:2317:b0:2ee:94d1:7a9d with SMTP id 98e67ed59e1d1-2fa243eb4e7mr1099304a91.32.1738881817030; Thu, 06 Feb 2025 14:43:37 -0800 (PST) Received: from postal.iol.unh.edu (postal.iol.unh.edu. [2606:4100:3880:1234::84]) by smtp-relay.gmail.com with ESMTPS id d9443c01a7336-21f3650c4b6sm1053625ad.13.2025.02.06.14.43.36 (version=TLS1_2 cipher=ECDHE-ECDSA-AES128-GCM-SHA256 bits=128/128); Thu, 06 Feb 2025 14:43:37 -0800 (PST) X-Relaying-Domain: iol.unh.edu Date: Thu, 06 Feb 2025 14:43:37 -0800 (PST) Message-ID: <67a53b19.170a0220.7e633.5e71SMTPIN_ADDED_MISSING@mx.google.com> Received: from [172.21.0.5] (unknown [172.18.0.240]) by postal.iol.unh.edu (Postfix) with ESMTP id 2AF8A6052471; Thu, 6 Feb 2025 17:43:36 -0500 (EST) Subject: |SUCCESS| pw151047-151070 [PATCH] [v1,24/24] net/e1000/base: skip MA From: dpdklab@iol.unh.edu To: Test Report Cc: dpdk-test-reports@iol.unh.edu In-Reply-To: <63259ddf726a037a6e9efb484b3ec53a8aa340d5.1738858026.git.anatoly.burakov@intel.com> References: <63259ddf726a037a6e9efb484b3ec53a8aa340d5.1738858026.git.anatoly.burakov@intel.com> Content-Type: text/plain X-BeenThere: test-report@dpdk.org X-Mailman-Version: 2.1.29 Precedence: list List-Id: automatic DPDK test reports List-Unsubscribe: , List-Archive: List-Post: List-Help: List-Subscribe: , Errors-To: test-report-bounces@dpdk.org Test-Label: iol-unit-amd64-testing Test-Status: SUCCESS http://dpdk.org/patch/151070 _Testing PASS_ Submitter: Anatoly Burakov Date: Thursday, February 06 2025 16:08:47 DPDK git baseline: Repo:dpdk Branch: master CommitID:abf3b7b7b361f8aa8d75ae00d449b588a0cdcda3 151047-151070 --> testing pass Upstream job id: Generic-Unit-Test-DPDK#312419 Test environment and result as below: +---------------------+----------------+ | Environment | dpdk_unit_test | +=====================+================+ | CentOS Stream 9 | PASS | +---------------------+----------------+ | Debian Bullseye | PASS | +---------------------+----------------+ | Debian 12 | PASS | +---------------------+----------------+ | Fedora 40 | PASS | +---------------------+----------------+ | Fedora 41 | PASS | +---------------------+----------------+ | RHEL8 | PASS | +---------------------+----------------+ | Fedora 41 (Clang) | PASS | +---------------------+----------------+ | Fedora 40 (Clang) | PASS | +---------------------+----------------+ | RHEL9 | PASS | +---------------------+----------------+ | Ubuntu 20.04 | PASS | +---------------------+----------------+ | Ubuntu 22.04 | PASS | +---------------------+----------------+ | Ubuntu 24.04 | PASS | +---------------------+----------------+ | Windows Server 2022 | PASS | +---------------------+----------------+ CentOS Stream 9 Kernel: Depends on container host Compiler: gcc 11.5.0 20240719 (Red Hat 11.5.0-2) Debian Bullseye Kernel: Depends on container host Compiler: gcc (Debian 10.2.1-6) 10.2.1 20210110 Debian 12 Kernel: Depends on container host Compiler: gcc (Debian 12.2.0-14) 12.2.0 Fedora 40 Kernel: Depends on container host Compiler: gcc 14.2.1 20240912 (Red Hat 14.2.1-3) Fedora 41 Kernel: Depends on container host Compiler: gcc 14.2.1 20240912 (Red Hat 14.2.1-3) RHEL8 Kernel: Depends on container host Compiler: gcc 8.5.0 20210514 (Red Hat 8.5.0-22) Fedora 41 (Clang) Kernel: Depends on container host Compiler: clang 19.1.5 (Fedora 19.1.5-1.fc41) Fedora 40 (Clang) Kernel: Depends on container host Compiler: clang 18.1.8 (Fedora 18.1.8-1.fc40) RHEL9 Kernel: Depends on container host Compiler: gcc 11.5.0 20240719 (Red Hat 11.5.0-2) Ubuntu 20.04 Kernel: Depends on container host Compiler: gcc (Ubuntu 9.4.0-1ubuntu1~20.04.2) 9.4.0 Ubuntu 22.04 Kernel: Depends on container host Compiler: gcc (Ubuntu 11.4.0-1ubuntu1~22.04) 11.4.0 Ubuntu 24.04 Kernel: Depends on container host Compiler: gcc (Ubuntu 13.3.0-6ubuntu2~24.04) 13.3.0 Windows Server 2022 Kernel: 10.0.20348.2031 Compiler: clang 15.0.7, gcc 14.1.0 (MinGW), and MSVC VS 19.39.33521 To view detailed results, visit: https://lab.dpdk.org/results/dashboard/patchsets/32513/ UNH-IOL DPDK Community Lab To manage your email subscriptions, visit: https://lab.dpdk.org/results/dashboard/preferences/subscriptions/