From mboxrd@z Thu Jan 1 00:00:00 1970 Return-Path: Received: from mails.dpdk.org (mails.dpdk.org [217.70.189.124]) by inbox.dpdk.org (Postfix) with ESMTP id 4937D461AF for ; Thu, 6 Feb 2025 23:44:57 +0100 (CET) Received: from mails.dpdk.org (localhost [127.0.0.1]) by mails.dpdk.org (Postfix) with ESMTP id 42D7140EE2; Thu, 6 Feb 2025 23:44:57 +0100 (CET) Received: from mail-pl1-f225.google.com (mail-pl1-f225.google.com [209.85.214.225]) by mails.dpdk.org (Postfix) with ESMTP id A747D402BC for ; Thu, 6 Feb 2025 23:44:56 +0100 (CET) Received: by mail-pl1-f225.google.com with SMTP id d9443c01a7336-21f16af1f71so23036015ad.3 for ; Thu, 06 Feb 2025 14:44:56 -0800 (PST) DKIM-Signature: v=1; a=rsa-sha256; c=relaxed/relaxed; d=iol.unh.edu; s=unh-iol; t=1738881896; x=1739486696; darn=dpdk.org; h=references:in-reply-to:cc:to:from:subject:message-id:date:from:to :cc:subject:date:message-id:reply-to; bh=/tbr/ljbFQXGm2HA5UtJj8KnVyOBOAR0DlD7sZcYJ3M=; b=BX3jNznR/5UU7G1XgfmPcOxxu33Hzx83mPBu+ToQEcWNwNM2s7hvhWYiOfkwKJbayN sNka5SkTxMq02Iwz3xQqFMvJh0Ktflq8UAb7wc9wAsri0FXG6gZKN9LHWXiGaY5C2Gh+ rl9bPScmNWq+x2pdH/AEDTWAWiXTPMBUNcs5k= X-Google-DKIM-Signature: v=1; a=rsa-sha256; c=relaxed/relaxed; d=1e100.net; s=20230601; t=1738881896; x=1739486696; h=references:in-reply-to:cc:to:from:subject:message-id:date :x-gm-message-state:from:to:cc:subject:date:message-id:reply-to; bh=/tbr/ljbFQXGm2HA5UtJj8KnVyOBOAR0DlD7sZcYJ3M=; b=A2NPO9DW/IOmUzPql4JRnJ5K2OYSO2dgtZvIpEmswdb6rQFWs9kJszIPXm0nUyV3GI ErbqmHJZmJznWo5bpskh5qValo0Mhm91AsxMna0MhtyDPlxuPYNABzIoza6nAMWJWEr6 j0NUWmVaUU4qMQA0C5MY+s1iNYRz8esWfmHTtCNbIUo0YSwujQ/DcvjpfAOwdf09ksSv JsH1BYiehD5n35F061mvCRV/8YNO4Uto3CToR5udc3qEyeL2KvXhSvmMsn9Fz6MBC6A5 ZjutlgnXmLJo/Nq5b1mpm9M6ghR2Ji2TWpRoTXEimuC5PICUdZxe7diYMAHsFRmCJAFT Kzxw== X-Gm-Message-State: AOJu0YwwPGDRdQtn2gTT+9wCC3sMmxUxgeJGTshY7k4U9c5qJMR3WB/h psU6EHqUlcXVEjrE3vNiQrdimS/AfLv8UMdM7MpluLNdi2b1/Haj6Fx5YoFyYdYqzb7m0qWTO4q w6oC2iLvF9uAalao8ndxaRDu5FJ3LkiXTXx9WDU5OYlUEQqErhRv59stx X-Gm-Gg: ASbGncvgYhcHXemn8JCsmcDJQREMmyOtcvZYKSqBwXZwnHG4avO2ZF4uD4GpKsjndFi C6JhyX77PyIpDDgyNPD5La2lPT5T6YmU9INoYwaVhGffhXdY2D0JYtpZq957E3BaJ0dEGz+fiCS sJwIkdT0p5muvOkdSiCUNYjwdX/dS9vrKgxEbROa1lyLP0iHj9O+2ZzaITn9hBbKcIA0xVpFxTP A7hgAux5eu7yO7crbtwHEG9TV6VW7c6IQ+6vqt7ec87CrtEDZRcnPfGaFcXlFNeMPxYh6CDHU8e wbM39Qef4gjE6SRUhxM69hTx2xnVsYEAaCVMgDyMPw== X-Google-Smtp-Source: AGHT+IF/Z8FmkR9C7eqtRE9IFWY9cB0Iu6ch++Rts1TS5DExdU7xs7i6+hyU/4CH67TZFmbEmhRZA9cl+llV X-Received: by 2002:a17:902:da86:b0:216:1cfa:2bbf with SMTP id d9443c01a7336-21f4e7465f9mr14380075ad.35.1738881895785; Thu, 06 Feb 2025 14:44:55 -0800 (PST) Received: from postal.iol.unh.edu (postal.iol.unh.edu. [2606:4100:3880:1234::84]) by smtp-relay.gmail.com with ESMTPS id d9443c01a7336-21f36877caesm942605ad.108.2025.02.06.14.44.55 (version=TLS1_2 cipher=ECDHE-ECDSA-AES128-GCM-SHA256 bits=128/128); Thu, 06 Feb 2025 14:44:55 -0800 (PST) X-Relaying-Domain: iol.unh.edu Date: Thu, 06 Feb 2025 14:44:55 -0800 (PST) Message-ID: <67a53b67.170a0220.1eb914.550eSMTPIN_ADDED_MISSING@mx.google.com> Received: from [172.21.0.5] (unknown [172.18.0.240]) by postal.iol.unh.edu (Postfix) with ESMTP id E373A6052471; Thu, 6 Feb 2025 17:44:54 -0500 (EST) Subject: |SUCCESS| pw151047-151070 [PATCH] [v1,24/24] net/e1000/base: skip MA From: dpdklab@iol.unh.edu To: Test Report Cc: dpdk-test-reports@iol.unh.edu In-Reply-To: <63259ddf726a037a6e9efb484b3ec53a8aa340d5.1738858026.git.anatoly.burakov@intel.com> References: <63259ddf726a037a6e9efb484b3ec53a8aa340d5.1738858026.git.anatoly.burakov@intel.com> Content-Type: text/plain X-BeenThere: test-report@dpdk.org X-Mailman-Version: 2.1.29 Precedence: list List-Id: automatic DPDK test reports List-Unsubscribe: , List-Archive: List-Post: List-Help: List-Subscribe: , Errors-To: test-report-bounces@dpdk.org Test-Label: iol-abi-testing Test-Status: SUCCESS http://dpdk.org/patch/151070 _Testing PASS_ Submitter: Anatoly Burakov Date: Thursday, February 06 2025 16:08:47 DPDK git baseline: Repo:dpdk Branch: master CommitID:abf3b7b7b361f8aa8d75ae00d449b588a0cdcda3 151047-151070 --> testing pass Upstream job id: Generic-DPDK-Compile-ABI#115139 Test environment and result as below: +-------------------+----------+ | Environment | abi_test | +===================+==========+ | CentOS Stream 9 | PASS | +-------------------+----------+ | Fedora 40 (Clang) | PASS | +-------------------+----------+ | Fedora 41 | PASS | +-------------------+----------+ | Debian 12 | PASS | +-------------------+----------+ | Fedora 40 | PASS | +-------------------+----------+ | Debian Bullseye | PASS | +-------------------+----------+ | Fedora 41 (Clang) | PASS | +-------------------+----------+ | RHEL9 | PASS | +-------------------+----------+ | openSUSE Leap 15 | PASS | +-------------------+----------+ | RHEL8 | PASS | +-------------------+----------+ | Ubuntu 22.04 | PASS | +-------------------+----------+ | Ubuntu 24.04 | PASS | +-------------------+----------+ CentOS Stream 9 Kernel: Depends on container host Compiler: gcc 11.5.0 20240719 (Red Hat 11.5.0-2) Fedora 40 (Clang) Kernel: Depends on container host Compiler: clang 18.1.8 (Fedora 18.1.8-1.fc40) Fedora 41 Kernel: Depends on container host Compiler: gcc 14.2.1 20240912 (Red Hat 14.2.1-3) Debian 12 Kernel: Depends on container host Compiler: gcc (Debian 12.2.0-14) 12.2.0 Fedora 40 Kernel: Depends on container host Compiler: gcc 14.2.1 20240912 (Red Hat 14.2.1-3) Debian Bullseye Kernel: Depends on container host Compiler: gcc (Debian 10.2.1-6) 10.2.1 20210110 Fedora 41 (Clang) Kernel: Depends on container host Compiler: clang 19.1.5 (Fedora 19.1.5-1.fc41) RHEL9 Kernel: Depends on container host Compiler: gcc 11.5.0 20240719 (Red Hat 11.5.0-2) openSUSE Leap 15 Kernel: Depends on container host Compiler: gcc (SUSE Linux) 7.5.0 RHEL8 Kernel: Depends on container host Compiler: gcc 8.5.0 20210514 (Red Hat 8.5.0-22) Ubuntu 22.04 Kernel: Depends on container host Compiler: gcc (Ubuntu 11.4.0-1ubuntu1~22.04) 11.4.0 Ubuntu 24.04 Kernel: Depends on container host Compiler: gcc (Ubuntu 13.3.0-6ubuntu2~24.04) 13.3.0 To view detailed results, visit: https://lab.dpdk.org/results/dashboard/patchsets/32513/ UNH-IOL DPDK Community Lab To manage your email subscriptions, visit: https://lab.dpdk.org/results/dashboard/preferences/subscriptions/