From mboxrd@z Thu Jan  1 00:00:00 1970
Return-Path: <test-report-bounces@dpdk.org>
Received: from mails.dpdk.org (mails.dpdk.org [217.70.189.124])
	by inbox.dpdk.org (Postfix) with ESMTP id 8215E461AF
	for <public@inbox.dpdk.org>; Thu,  6 Feb 2025 23:54:45 +0100 (CET)
Received: from mails.dpdk.org (localhost [127.0.0.1])
	by mails.dpdk.org (Postfix) with ESMTP id 658E940EE2;
	Thu,  6 Feb 2025 23:54:45 +0100 (CET)
Received: from mail-qt1-f225.google.com (mail-qt1-f225.google.com
 [209.85.160.225])
 by mails.dpdk.org (Postfix) with ESMTP id 3E3C3402BC
 for <test-report@dpdk.org>; Thu,  6 Feb 2025 23:54:44 +0100 (CET)
Received: by mail-qt1-f225.google.com with SMTP id
 d75a77b69052e-4679d366adeso14733101cf.1
 for <test-report@dpdk.org>; Thu, 06 Feb 2025 14:54:44 -0800 (PST)
DKIM-Signature: v=1; a=rsa-sha256; c=relaxed/relaxed;
 d=iol.unh.edu; s=unh-iol; t=1738882483; x=1739487283; darn=dpdk.org;
 h=references:in-reply-to:cc:to:from:subject:message-id:date:from:to
 :cc:subject:date:message-id:reply-to;
 bh=YXMlq6A5x+8Qn/k6xLbfh4sVY6m67TQNJo5nkxvofSg=;
 b=FIpJtavPRwkJs+lIJ0pqCe2dYYRpqx2Ovmu3yDMnRKmfoH0pNjh/vhW7fOQzFRNLXm
 38ucu4DC3ww9EpB0s9nnurIe+6UXP5F+ZSqOhSGEqQJnD8NUzL6E8epwg2Ofpr2Clp4c
 wf/pUeDZOxx3eOinb738EZlD+zdFDsEuh/sqo=
X-Google-DKIM-Signature: v=1; a=rsa-sha256; c=relaxed/relaxed;
 d=1e100.net; s=20230601; t=1738882483; x=1739487283;
 h=references:in-reply-to:cc:to:from:subject:message-id:date
 :x-gm-message-state:from:to:cc:subject:date:message-id:reply-to;
 bh=YXMlq6A5x+8Qn/k6xLbfh4sVY6m67TQNJo5nkxvofSg=;
 b=iWfnkRoZujANyIh4dcEJNNXvt3DB5iR6PwO0jVPvW0ulcDhrkAyr4zK83zVib5SLz4
 6+t6/7S2/A3Ndpooe13HnPy/4ad7a3zWOubzPIJsj5CATvVkQI/DSMoYmD49ZWN/1m6h
 NFqqechZgtGQ1FiOdM4JSwevMJ07xho6GVsA7wk4wQX/4HnWud5LzNht/jSayDYrXNld
 PoH9g/IQUjhAlq7R9I3uxKbn6ZYNFVIacu4t717gT54l/CrEAcp/6sm7R37lcSSnhtlH
 ntBxhci9z40nzmy3CvoGZPxHvMWmzVYg3EOI3VIQIKz3jp/S7cX7vJgOOc+rLcGrRSh7
 oWWw==
X-Gm-Message-State: AOJu0YwKiZFmBhECf1saCbkE0qaw/MZXHWDh/bWf1exuFXgTb8RWywOH
 sr42QwhTxpzL0XGhelkE9ugGeqpn9QCCCDKsL9pWzfCIzCtkTvZCcEqLt+esteCjyGDrzUN6aHd
 XZIQ+Z5qS3sd1iIuF6P7htR5sG9mpPmooDGCwBU98
X-Gm-Gg: ASbGncswkiTxYQaySCjrRWE/noKYdcCCVk0dCesv0F10fm8gFx7FNqSePu+jtFeDObx
 vEutRkBejIs69rePzDtVufRVibpCKSyH/7QrzJQoQSFyRSKI+NKekw3k7EOgVF5ldNY9yJ/bzma
 LbV3ZItYc7bD8BpYAyxOie4zE+eQbLAqO3iy8x8+kfZwflHrnfGGzvb4Ooiuj3QPpsrE8MbJpbB
 PFuMxO0HRBF2vwTvc+ebS+X+X7CtSOIgKXhVWgFgHKJkmoyHdh/6QkxnFIvCmKiyXJgfiljavS1
 To6VRh8QsfrPTpcmwg90fQuDUBB6VQ==
X-Google-Smtp-Source: AGHT+IHD3Ldjyg/VVofqHsSzdBu8Gllvxej/7Ajf2er+WKASSlSJ/F7+HKo3BR8KedHfyNGK77HKGzk4lUrp
X-Received: by 2002:a05:622a:1801:b0:46e:22f7:7a3d with SMTP id
 d75a77b69052e-471687e4361mr10538241cf.8.1738882483556; 
 Thu, 06 Feb 2025 14:54:43 -0800 (PST)
Received: from postal.iol.unh.edu (postal.iol.unh.edu. [132.177.123.84])
 by smtp-relay.gmail.com with ESMTPS id
 d75a77b69052e-47153b3c4a2sm948231cf.15.2025.02.06.14.54.43
 (version=TLS1_2 cipher=ECDHE-ECDSA-AES128-GCM-SHA256 bits=128/128);
 Thu, 06 Feb 2025 14:54:43 -0800 (PST)
X-Relaying-Domain: iol.unh.edu
Date: Thu, 06 Feb 2025 14:54:43 -0800 (PST)
Message-ID: <67a53db3.c80a0220.14694c.55f6SMTPIN_ADDED_MISSING@mx.google.com>
Received: from [172.21.0.5] (unknown [172.18.0.240])
 by postal.iol.unh.edu (Postfix) with ESMTP id 07D916052471;
 Thu,  6 Feb 2025 17:54:43 -0500 (EST)
Subject: |SUCCESS| pw151040 [PATCH] vhost: fix FD entries cleanup
From: dpdklab@iol.unh.edu
To: Test Report <test-report@dpdk.org>
Cc: dpdk-test-reports@iol.unh.edu
In-Reply-To: <20250206084154.2230766-1-maxime.coquelin@redhat.com>
References: <20250206084154.2230766-1-maxime.coquelin@redhat.com>
Content-Type: text/plain
X-BeenThere: test-report@dpdk.org
X-Mailman-Version: 2.1.29
Precedence: list
List-Id: automatic DPDK test reports <test-report.dpdk.org>
List-Unsubscribe: <https://mails.dpdk.org/options/test-report>,
 <mailto:test-report-request@dpdk.org?subject=unsubscribe>
List-Archive: <http://mails.dpdk.org/archives/test-report/>
List-Post: <mailto:test-report@dpdk.org>
List-Help: <mailto:test-report-request@dpdk.org?subject=help>
List-Subscribe: <https://mails.dpdk.org/listinfo/test-report>,
 <mailto:test-report-request@dpdk.org?subject=subscribe>
Errors-To: test-report-bounces@dpdk.org

Test-Label: iol-unit-arm64-testing
Test-Status: SUCCESS
http://dpdk.org/patch/151040

_Testing PASS_

Submitter: Maxime Coquelin <maxime.coquelin@redhat.com>
Date: Thursday, February 06 2025 08:41:54 
DPDK git baseline: Repo:dpdk
  Branch: master
  CommitID:d92688baedcfc963b7539899347012a09c45a15b

151040 --> testing pass

Upstream job id: Generic-Unit-Test-DPDK#312275

Test environment and result as below:

+-----------------------------+----------------+--------------+------------------------------+---------------------------+
|         Environment         | dpdk_unit_test | lpm_autotest | cryptodev_sw_snow3g_autotest | cryptodev_sw_zuc_autotest |
+=============================+================+==============+==============================+===========================+
| 32-bit Ubuntu 22.04.4 (ARM) | PASS           | SKIPPED      | SKIPPED                      | SKIPPED                   |
+-----------------------------+----------------+--------------+------------------------------+---------------------------+
| CentOS Stream 9 (ARM)       | PASS           | SKIPPED      | SKIPPED                      | SKIPPED                   |
+-----------------------------+----------------+--------------+------------------------------+---------------------------+
| Fedora 40 (ARM)             | PASS           | SKIPPED      | SKIPPED                      | SKIPPED                   |
+-----------------------------+----------------+--------------+------------------------------+---------------------------+
| Debian 11 (Buster) (ARM)    | PASS           | SKIPPED      | SKIPPED                      | SKIPPED                   |
+-----------------------------+----------------+--------------+------------------------------+---------------------------+
| Debian 12 (arm)             | PASS           | SKIPPED      | PASS                         | PASS                      |
+-----------------------------+----------------+--------------+------------------------------+---------------------------+
| Fedora 40 (ARM Clang)       | PASS           | SKIPPED      | SKIPPED                      | SKIPPED                   |
+-----------------------------+----------------+--------------+------------------------------+---------------------------+
| Fedora 41 (ARM)             | PASS           | SKIPPED      | SKIPPED                      | SKIPPED                   |
+-----------------------------+----------------+--------------+------------------------------+---------------------------+
| Fedora 41 (ARM Clang)       | PASS           | SKIPPED      | SKIPPED                      | SKIPPED                   |
+-----------------------------+----------------+--------------+------------------------------+---------------------------+
| RHEL9 (ARM)                 | PASS           | SKIPPED      | SKIPPED                      | SKIPPED                   |
+-----------------------------+----------------+--------------+------------------------------+---------------------------+
| Ubuntu 20.04 (ARM)          | PASS           | SKIPPED      | SKIPPED                      | SKIPPED                   |
+-----------------------------+----------------+--------------+------------------------------+---------------------------+
| Ubuntu 22.04 (ARM)          | PASS           | SKIPPED      | SKIPPED                      | SKIPPED                   |
+-----------------------------+----------------+--------------+------------------------------+---------------------------+
| Ubuntu 24.04 (ARM)          | PASS           | SKIPPED      | SKIPPED                      | SKIPPED                   |
+-----------------------------+----------------+--------------+------------------------------+---------------------------+
| Ubuntu 20.04 ARM SVE        | SKIPPED        | PASS         | SKIPPED                      | SKIPPED                   |
+-----------------------------+----------------+--------------+------------------------------+---------------------------+


32-bit Ubuntu 22.04.4 (ARM)
	Kernel: 5.15.83+ aarch64
	Compiler: gcc (Ubuntu 11.4.0-1ubuntu1~22.04) 11.4.0

CentOS Stream 9 (ARM)
	Kernel: Depends on container host
	Compiler: gcc 11.5.0 20240719 (Red Hat 11.5.0-2)

Fedora 40 (ARM)
	Kernel: Depends on container host
	Compiler: gcc 14.2.1 20240912 (Red Hat 14.2.1-3)

Debian 11 (Buster) (ARM)
	Kernel: Depends on container host
	Compiler: gcc (Debian 10.2.1-6) 10.2.1 20210110

Debian 12 (arm)
	Kernel: Depends on container host
	Compiler: gcc (Debian 12.2.0-14) 12.2.0

Fedora 40 (ARM Clang)
	Kernel: Depends on container host
	Compiler: clang 18.1.8 (Fedora 18.1.8-1.fc40)

Fedora 41 (ARM)
	Kernel: Depends on container host
	Compiler: gcc 14.2.1 20240912 (Red Hat 14.2.1-3)

Fedora 41 (ARM Clang)
	Kernel: Depends on container host
	Compiler: clang 19.1.5 (Fedora 19.1.5-1.fc41)

RHEL9 (ARM)
	Kernel: Depends on container host
	Compiler: gcc 11.5.0 20240719 (Red Hat 11.5.0-2)

Ubuntu 20.04 (ARM)
	Kernel: Depends on container host
	Compiler: gcc (Ubuntu 9.4.0-1ubuntu1~20.04.2) 9.4.0

Ubuntu 22.04 (ARM)
	Kernel: Depends on container host
	Compiler: gcc (Ubuntu 11.4.0-1ubuntu1~22.04) 11.4.0

Ubuntu 24.04 (ARM)
	Kernel: Depends on container host
	Compiler: gcc (Ubuntu 13.3.0-6ubuntu2~24.04) 13.3.0

Ubuntu 20.04 ARM SVE
	Kernel: Depends on container host
	Compiler: gcc (Ubuntu 10.5.0-1ubuntu1~20.04) 10.5.0

To view detailed results, visit:
https://lab.dpdk.org/results/dashboard/patchsets/32509/

UNH-IOL DPDK Community Lab

To manage your email subscriptions, visit: 
https://lab.dpdk.org/results/dashboard/preferences/subscriptions/