From mboxrd@z Thu Jan 1 00:00:00 1970 Return-Path: Received: from mails.dpdk.org (mails.dpdk.org [217.70.189.124]) by inbox.dpdk.org (Postfix) with ESMTP id CFF98461AF for ; Fri, 7 Feb 2025 00:23:45 +0100 (CET) Received: from mails.dpdk.org (localhost [127.0.0.1]) by mails.dpdk.org (Postfix) with ESMTP id D78CA402A7; Fri, 7 Feb 2025 00:23:44 +0100 (CET) Received: from mail-il1-f228.google.com (mail-il1-f228.google.com [209.85.166.228]) by mails.dpdk.org (Postfix) with ESMTP id 8CE2440292 for ; Fri, 7 Feb 2025 00:23:43 +0100 (CET) Received: by mail-il1-f228.google.com with SMTP id e9e14a558f8ab-3cda56e1dffso4513175ab.1 for ; Thu, 06 Feb 2025 15:23:43 -0800 (PST) DKIM-Signature: v=1; a=rsa-sha256; c=relaxed/relaxed; d=iol.unh.edu; s=unh-iol; t=1738884223; x=1739489023; darn=dpdk.org; h=references:in-reply-to:cc:to:from:subject:message-id:date:from:to :cc:subject:date:message-id:reply-to; bh=mZq39fpYAOkhG0avA8/4S1wDj0huL2z2MAJOFwQVYRk=; b=S/W3UWSB2wDb/xXLh8reN4NfO/d6iIoX8JW4JZW80yYlOvCGZqq1wVV+PFaa9tZFq+ 0YmA/hw1PZmK2+6zSlSeVKRowPVck1FOOFbbOyuDOOymrjkdeFg+7onfWs/Ud1qetREL 8dYpaTfUXE47jQhSGCA2srZSShiHhIr2eA/Pg= X-Google-DKIM-Signature: v=1; a=rsa-sha256; c=relaxed/relaxed; d=1e100.net; s=20230601; t=1738884223; x=1739489023; h=references:in-reply-to:cc:to:from:subject:message-id:date :x-gm-message-state:from:to:cc:subject:date:message-id:reply-to; bh=mZq39fpYAOkhG0avA8/4S1wDj0huL2z2MAJOFwQVYRk=; b=YImDTZCXcxuQyc4r38cbBwNNbFvEg6jebHvDOkWlxwjUB26BOdls7QdF0owceITjNs xXsfT8S0K4UVcl/jfYkgq7ja9LvXmzIqGaOyKAxVCe4xFtfu6rJanB8wfBC4ZIp/kNgd WOfcRm7V5RumTy6/tU7TbZHaWFQPlhwDnjz5H+36nuTc1RW9Ek1h1KHuljWIjzXINqEc 8tmhwJBz5LCs+B4zfcz1mNx9/P1aXdboTM0//5/AHEF9PDk8PFIcGThFuE6brKPDVW5K II+jGXy71BGrcytt+fCdBIKkUBkv1P3EuSFDC+pCMst+O15gDOP7KYrA/4dAO7ceZ03/ yAMQ== X-Gm-Message-State: AOJu0YzrLzP9Gv5NlUXTRYak7KRto1Zsh1DVPEP3/bHVhjkQAG6VGk8A oYcNncdDoFUe4raFAHonwS18px9usX5QHGG1L957VQJhrDn1am7dD+QTa5DvMsjAps1hdKkWeGk NfjAqVGuXN6b+Tgci6HCB3ssBvR2c6uy5Vpe3HTRV0DP0uuqyHJftHMBs X-Gm-Gg: ASbGncvGj3cExQjEAORmH0hIFJEFYk2IwB+iKEIUCvKfYlnqiKG2CAVGM07qtG+LUvK a/EogHwJQlU3xTLHeDIH8eZK74rq0LAZiqQ0m/D/CrjsI8tmAl2Vtq3cqgYo2AFCqFHts278/Y1 c/cpHfLMiVOuW8zH5yM0sLhzbyV0x7ORalvchsLBF9BsPJ+H1D49MnEcwyxLYjNIePk85nmYtM5 k/PzNOAYPAof7nQKU4mxZeT/JKxR9DnZMwG2arv53v8C3XE+8Wl5KpReqExaBrW0PiLHKLcuxVc 2DEC4CTzROM21nnNwGzgRgW6AsWfcNHfhcHCibsFMA== X-Google-Smtp-Source: AGHT+IGQukjY81Km6z0rLj0cfq7BHo/krIBRT6/T6rVWysLW50keG3B/bBmDUFNgBEb+5eSJC2DkzimlTa5b X-Received: by 2002:a05:6e02:3103:b0:3d0:4d76:79b8 with SMTP id e9e14a558f8ab-3d13da23ae1mr9900325ab.0.1738884222767; Thu, 06 Feb 2025 15:23:42 -0800 (PST) Received: from postal.iol.unh.edu (postal.iol.unh.edu. [2606:4100:3880:1234::84]) by smtp-relay.gmail.com with ESMTPS id e9e14a558f8ab-3d05e8fff9asm1491995ab.26.2025.02.06.15.23.42 (version=TLS1_2 cipher=ECDHE-ECDSA-AES128-GCM-SHA256 bits=128/128); Thu, 06 Feb 2025 15:23:42 -0800 (PST) X-Relaying-Domain: iol.unh.edu Date: Thu, 06 Feb 2025 15:23:42 -0800 (PST) Message-ID: <67a5447e.050a0220.2bd34b.89bbSMTPIN_ADDED_MISSING@mx.google.com> Received: from [172.21.0.5] (unknown [172.18.0.240]) by postal.iol.unh.edu (Postfix) with ESMTP id 490D86052471; Thu, 6 Feb 2025 18:23:42 -0500 (EST) Subject: |SUCCESS| pw150809-150808 [PATCH] [v3,2/2] stack: enable build with From: dpdklab@iol.unh.edu To: Test Report Cc: dpdk-test-reports@iol.unh.edu In-Reply-To: <1738634318-12876-3-git-send-email-andremue@linux.microsoft.com> References: <1738634318-12876-3-git-send-email-andremue@linux.microsoft.com> Content-Type: text/plain X-BeenThere: test-report@dpdk.org X-Mailman-Version: 2.1.29 Precedence: list List-Id: automatic DPDK test reports List-Unsubscribe: , List-Archive: List-Post: List-Help: List-Subscribe: , Errors-To: test-report-bounces@dpdk.org Test-Label: iol-sample-apps-testing Test-Status: SUCCESS http://dpdk.org/patch/150808 _Testing PASS RETEST #1_ Submitter: Andre Muezerie Date: Tuesday, February 04 2025 01:58:38 DPDK git baseline: Repo:dpdk Branch: master CommitID:dc4ce7c2538b713e16887eb598da309bc7b4d528 150809-150808 --> testing pass Upstream job id: Template-DTS-Pipeline#211219 Test environment and result as below: +--------------------+----------------------+----------------------+ | Environment | compressdev_zlib_pmd | dpdk_fips_validation | +====================+======================+======================+ | Ubuntu 22.04 (ARM) | PASS | SKIPPED | +--------------------+----------------------+----------------------+ | Ubuntu 22.04 | PASS | SKIPPED | +--------------------+----------------------+----------------------+ | Ubuntu 20.04 | SKIPPED | PASS | +--------------------+----------------------+----------------------+ Ubuntu 22.04 (ARM) Kernel: 5.15.0-97-generic Compiler: gcc gcc (Ubuntu 11.4.0-1ubuntu1~22.04) 11.4.0 Ubuntu 22.04 Kernel: 5.15.0-100-generic Compiler: gcc gcc (Ubuntu 11.4.0-1ubuntu1~22.04) 11.4.0 Ubuntu 20.04 Kernel: Depends on container host Compiler: gcc (Ubuntu 9.4.0-1ubuntu1~20.04.2) 9.4.0 To view detailed results, visit: https://lab.dpdk.org/results/dashboard/patchsets/32485/ UNH-IOL DPDK Community Lab To manage your email subscriptions, visit: https://lab.dpdk.org/results/dashboard/preferences/subscriptions/