From mboxrd@z Thu Jan 1 00:00:00 1970 Return-Path: Received: from mails.dpdk.org (mails.dpdk.org [217.70.189.124]) by inbox.dpdk.org (Postfix) with ESMTP id 84767461AF for ; Fri, 7 Feb 2025 00:29:23 +0100 (CET) Received: from mails.dpdk.org (localhost [127.0.0.1]) by mails.dpdk.org (Postfix) with ESMTP id 68F82402A7; Fri, 7 Feb 2025 00:29:23 +0100 (CET) Received: from mail-qv1-f97.google.com (mail-qv1-f97.google.com [209.85.219.97]) by mails.dpdk.org (Postfix) with ESMTP id 20C6740292 for ; Fri, 7 Feb 2025 00:29:22 +0100 (CET) Received: by mail-qv1-f97.google.com with SMTP id 6a1803df08f44-6d92e457230so15629966d6.1 for ; Thu, 06 Feb 2025 15:29:22 -0800 (PST) DKIM-Signature: v=1; a=rsa-sha256; c=relaxed/relaxed; d=iol.unh.edu; s=unh-iol; t=1738884561; x=1739489361; darn=dpdk.org; h=references:in-reply-to:cc:to:from:subject:message-id:date:from:to :cc:subject:date:message-id:reply-to; bh=28QyF2zyBr83OI4JW35SgocWlfrHL5KUsR4UYPp6HeU=; b=MfDAJ1DPc8PRM5gW/zAIfby19OEMfjS+3bPBlyPdkVhKDXjq0+qBD8kvGXYshpsChM TU6ezItYR7GHfDsiOoUZQNaRwUw9NMf5XGeXGbnZBdweYwBZuAqZnXwBAlf50lkzaKhb oinzGp5G0tQNlkzQ0rKNfFgEfxIy2QXajhw70= X-Google-DKIM-Signature: v=1; a=rsa-sha256; c=relaxed/relaxed; d=1e100.net; s=20230601; t=1738884561; x=1739489361; h=references:in-reply-to:cc:to:from:subject:message-id:date :x-gm-message-state:from:to:cc:subject:date:message-id:reply-to; bh=28QyF2zyBr83OI4JW35SgocWlfrHL5KUsR4UYPp6HeU=; b=q3/KQePnpM7OHVSccQvOSq7j0nsA3zQPkJZhjnM1dXv+2rzG2mVoIUoEpMCflSLSoj Sx/ljCeG/sBCBMtprWPSGwNKuCpQ2hT54qPi2IoPYZQm797XCoY1AmirA0T+4n9EaMyu XCitVhMlj5fTGf2FT8tXfryGpJe3m8fhGFyuyYi2Dnpus80zztfoIFEInnr7P0yRNvxA w+ZxkBp5XNbNBzZgLhf7jG0lfpVApo4yqvHHLYDYjKNTS2GsvF7XOeCVgXWYagoCuBw+ EMG5FTwUGvOO+FLcZeZO6nTuORbr17lNTjck0DK0CaV2PDQj+dFpe8hdnWR0J2yG91ue WF9Q== X-Gm-Message-State: AOJu0YzKxSTzsnO4oJVNNgtqEln3BCuuu3hStqXJ8DoP8ZQ9BkeF7PIl 6LXmVtj7qyXFNbhFb/NP0h/ecgENPqr2AeHTMfvYkchVAEMEfD2so7O0tdaRqzsm0oq3ZTjYkJw gHcgjbkxXuGbmRgjPwizNo71Kj3AQTyvgdmFKiSCd X-Gm-Gg: ASbGnct+ODCkgeFq/8NmZRzOHyogkiApF/LnZTMLy5EjzgaVySV+tdMSwVAI8TT/XA7 7uPzCmmCNNQMJhJMm+T81S72qeJ90rQv8y6WWKixDLXYhfLwcVn9oJFW6GxVvxq1Q/JD4TF9zM1 AUJNkpndvXmuxDO4Ah+DO7lBPHrp25TZW+NkLUkXukh6qOsmpHnomD9z5+raPon4qssMN1ncDcg +KD5FqWsuTue0UkCxOE5L31+EqLb9irq8R288l5CdDl8kBo4FiI82ew5U2ltgfkbLFmAkXh4q/t zHQlMmO1Hhs38R9ii0O1P4LM4759oQ== X-Google-Smtp-Source: AGHT+IH9iSHGZqYbzjS8Q0CWQJta6vfUH4sBo3wcBYfF2PnkrRxp8v0CrgwIp/lOKcF2zFStSFNSGZhSDxmg X-Received: by 2002:a05:6214:2125:b0:6e4:4484:f34f with SMTP id 6a1803df08f44-6e4456e0729mr14804176d6.37.1738884561432; Thu, 06 Feb 2025 15:29:21 -0800 (PST) Received: from postal.iol.unh.edu (postal.iol.unh.edu. [132.177.123.84]) by smtp-relay.gmail.com with ESMTPS id 6a1803df08f44-6e43ba33dd4sm1263776d6.8.2025.02.06.15.29.21 (version=TLS1_2 cipher=ECDHE-ECDSA-AES128-GCM-SHA256 bits=128/128); Thu, 06 Feb 2025 15:29:21 -0800 (PST) X-Relaying-Domain: iol.unh.edu Date: Thu, 06 Feb 2025 15:29:21 -0800 (PST) Message-ID: <67a545d1.050a0220.32cdf5.6bbdSMTPIN_ADDED_MISSING@mx.google.com> Received: from [172.21.0.5] (unknown [172.18.0.240]) by postal.iol.unh.edu (Postfix) with ESMTP id 1AB2A6052471; Thu, 6 Feb 2025 18:29:21 -0500 (EST) Subject: |SUCCESS| pw151041 [PATCH] [1/1] net/mana: do not ring short doorbel From: dpdklab@iol.unh.edu To: Test Report Cc: dpdk-test-reports@iol.unh.edu In-Reply-To: <20250206100744.734612-1-weh@microsoft.com> References: <20250206100744.734612-1-weh@microsoft.com> Content-Type: text/plain X-BeenThere: test-report@dpdk.org X-Mailman-Version: 2.1.29 Precedence: list List-Id: automatic DPDK test reports List-Unsubscribe: , List-Archive: List-Post: List-Help: List-Subscribe: , Errors-To: test-report-bounces@dpdk.org Test-Label: iol-compile-arm64-testing Test-Status: SUCCESS http://dpdk.org/patch/151041 _Testing PASS_ Submitter: Wei Hu Date: Thursday, February 06 2025 10:07:43 DPDK git baseline: Repo:dpdk Branch: master CommitID:e595e7b5758fc73d99b810f5a8748f94bd467084 151041 --> testing pass Upstream job id: Generic-DPDK-Compile-Meson#358589 Test environment and result as below: +----------------------------------------+--------------------+ | Environment | dpdk_meson_compile | +========================================+====================+ | RHEL9 (ARM) | PASS | +----------------------------------------+--------------------+ | Ubuntu 20.04 ARM GCC Cross Compile | PASS | +----------------------------------------+--------------------+ | Ubuntu 20.04 ARM SVE | PASS | +----------------------------------------+--------------------+ | Debian 12 with MUSDK | PASS | +----------------------------------------+--------------------+ | Fedora 40 (ARM) | PASS | +----------------------------------------+--------------------+ | Fedora 40 (ARM Clang) | PASS | +----------------------------------------+--------------------+ | Fedora 41 (ARM) | PASS | +----------------------------------------+--------------------+ | Fedora 41 (ARM Clang) | PASS | +----------------------------------------+--------------------+ | Ubuntu 20.04 (ARM) | PASS | +----------------------------------------+--------------------+ | Ubuntu 22.04 (ARM) | PASS | +----------------------------------------+--------------------+ | Ubuntu 24.04 (ARM) | PASS | +----------------------------------------+--------------------+ | CentOS Stream 9 (ARM) | PASS | +----------------------------------------+--------------------+ | Debian 11 (Buster) (ARM) | PASS | +----------------------------------------+--------------------+ | Debian 12 (arm) | PASS | +----------------------------------------+--------------------+ | Ubuntu 20.04 ARM Clang Cross Compile | PASS | +----------------------------------------+--------------------+ | Ubuntu 20.04 aarch32 GCC Cross Compile | PASS | +----------------------------------------+--------------------+ RHEL9 (ARM) Kernel: Depends on container host Compiler: gcc 11.5.0 20240719 (Red Hat 11.5.0-2) Ubuntu 20.04 ARM GCC Cross Compile Kernel: Depends on container host Compiler: aarch64-linux-gnu-gcc (Ubuntu 9.4.0-1ubuntu1~20.04.2) 9.4.0 Ubuntu 20.04 ARM SVE Kernel: Depends on container host Compiler: gcc (Ubuntu 10.5.0-1ubuntu1~20.04) 10.5.0 Debian 12 with MUSDK Kernel: Depends on container host Compiler: gcc (Debian 12.2.0-14) 12.2.0 Fedora 40 (ARM) Kernel: Depends on container host Compiler: gcc 14.2.1 20240912 (Red Hat 14.2.1-3) Fedora 40 (ARM Clang) Kernel: Depends on container host Compiler: clang 18.1.8 (Fedora 18.1.8-1.fc40) Fedora 41 (ARM) Kernel: Depends on container host Compiler: gcc 14.2.1 20240912 (Red Hat 14.2.1-3) Fedora 41 (ARM Clang) Kernel: Depends on container host Compiler: clang 19.1.5 (Fedora 19.1.5-1.fc41) Ubuntu 20.04 (ARM) Kernel: Depends on container host Compiler: gcc (Ubuntu 9.4.0-1ubuntu1~20.04.2) 9.4.0 Ubuntu 22.04 (ARM) Kernel: Depends on container host Compiler: gcc (Ubuntu 11.4.0-1ubuntu1~22.04) 11.4.0 Ubuntu 24.04 (ARM) Kernel: Depends on container host Compiler: gcc (Ubuntu 13.3.0-6ubuntu2~24.04) 13.3.0 CentOS Stream 9 (ARM) Kernel: Depends on container host Compiler: gcc 11.5.0 20240719 (Red Hat 11.5.0-2) Debian 11 (Buster) (ARM) Kernel: Depends on container host Compiler: gcc (Debian 10.2.1-6) 10.2.1 20210110 Debian 12 (arm) Kernel: Depends on container host Compiler: gcc (Debian 12.2.0-14) 12.2.0 Ubuntu 20.04 ARM Clang Cross Compile Kernel: Depends on container host Compiler: clang 10.0.0-4ubuntu1 Ubuntu 20.04 aarch32 GCC Cross Compile Kernel: Depends on container host Compiler: gcc 9.4.0 To view detailed results, visit: https://lab.dpdk.org/results/dashboard/patchsets/32510/ UNH-IOL DPDK Community Lab To manage your email subscriptions, visit: https://lab.dpdk.org/results/dashboard/preferences/subscriptions/