From mboxrd@z Thu Jan 1 00:00:00 1970 Return-Path: Received: from mails.dpdk.org (mails.dpdk.org [217.70.189.124]) by inbox.dpdk.org (Postfix) with ESMTP id EF051461AF for ; Fri, 7 Feb 2025 00:31:01 +0100 (CET) Received: from mails.dpdk.org (localhost [127.0.0.1]) by mails.dpdk.org (Postfix) with ESMTP id E55C2402A7; Fri, 7 Feb 2025 00:31:01 +0100 (CET) Received: from mail-oa1-f100.google.com (mail-oa1-f100.google.com [209.85.160.100]) by mails.dpdk.org (Postfix) with ESMTP id 47BFA40292 for ; Fri, 7 Feb 2025 00:31:00 +0100 (CET) Received: by mail-oa1-f100.google.com with SMTP id 586e51a60fabf-2b83b352296so155693fac.0 for ; Thu, 06 Feb 2025 15:31:00 -0800 (PST) DKIM-Signature: v=1; a=rsa-sha256; c=relaxed/relaxed; d=iol.unh.edu; s=unh-iol; t=1738884659; x=1739489459; darn=dpdk.org; h=references:in-reply-to:cc:to:from:subject:message-id:date:from:to :cc:subject:date:message-id:reply-to; bh=SGf+tgkhv52BF2ivaiT0TNaVDxjSkHHDXcXF8KN3Kjc=; b=GuNIQG9EbcQRNbtBS6utg1aRjZQE/qWskEHLpA3nlYsIaHqgUkuIANwwl8AiamkczB uy6kpjiD9jHAb9EcCfm8CZEn6C+ZOTVBYy5pvp2+1V6/CDmEbejMqYtMPCIsCqb9TKgN UJuX5uDWe+VQK172hD/inyU06EpR93O74fzTM= X-Google-DKIM-Signature: v=1; a=rsa-sha256; c=relaxed/relaxed; d=1e100.net; s=20230601; t=1738884659; x=1739489459; h=references:in-reply-to:cc:to:from:subject:message-id:date :x-gm-message-state:from:to:cc:subject:date:message-id:reply-to; bh=SGf+tgkhv52BF2ivaiT0TNaVDxjSkHHDXcXF8KN3Kjc=; b=RaAl+S3+1/5h0QiJmBLe7dYwT8ojcrIAVI6TuW7CxmshnlELf8i1le6jTHbf1bLAUm r1kTlBLDOANsv2CL5yy0SdkaxFtB9rZDzdas3yfafhFcWrd2ifkE/CQgDZKU5L7UqEFL pfXvytSxTnl9dPcRIdHUieQk008vDFFr7LceOvQ5JA1ghXzOavua/CJL7DxJy8NTjhOl y+GBjjON8q2pobwePMmj53Yg54dPW4c+5kr0spxdtawT/dIy3gyxlKFCBYX57Et7Hz2W GAbvMn6EPHF/nUl3PNPmlKyCNuAEUsNLQ/fZ31u2cYGw+1CPqpVRWnuEmLGR7kAj47E0 CopQ== X-Gm-Message-State: AOJu0YyrEQeWjOsBJrEJHOrJp2wA7JtjtR4CMFJPRYbfhk+SMNGPahaJ bUOcEZOHr2rvhcsOkNfRJh37qkgCGD9yU2UiiUehHcHgJPUhdeOo3bZMi5ZmwUB2dK/qO/gekpL xIiXAsWwJS+WOdggFMDuDqBwJzqaNgCuajI5eEAeVnQl6nkgBz8DYjW0j X-Gm-Gg: ASbGncuCskHbrUvegZIgkP+1O5XJT73fqPmB9s5kOI86rV+BRVBtUKu7V6+Ik9/L4Bk iSCPlNiBc/XVBc9fI1THqpZfaT9PawCbic6TV8Yx6+C1tunUk8t1bl5fFAOpCIQNQcPOu+uohDx lqEPeVxs6PQQkw05BwZhH3t4jph4sLLXPhcKAHpvtWf3UTIXMisqEBzVK9S2IZN6FTvJ2Hf62Qm F/j9IrkUwr/U7LQVDcIclUsr/97qqFvhzzRB1qpxyyUxurcM3Y0oFOYJLa+ZMYRXL+vKtSUmA0V 8TFWdHN6B5Slc1t8EnDTlmA1WvsVWoL50gfH1tv4cA== X-Google-Smtp-Source: AGHT+IEPTD+uafsosot7+jNsQ+r/0agbS5l/8uj2Y7Xcf2JZLcaES0OWppsiqxeJgW6EEwx6J+CtwPxgoW4A X-Received: by 2002:a05:6870:3308:b0:29e:40f8:ad9b with SMTP id 586e51a60fabf-2b83ebdc2f7mr816976fac.14.1738884659248; Thu, 06 Feb 2025 15:30:59 -0800 (PST) Received: from postal.iol.unh.edu (postal.iol.unh.edu. [2606:4100:3880:1234::84]) by smtp-relay.gmail.com with ESMTPS id 586e51a60fabf-2b825e3c224sm124409fac.1.2025.02.06.15.30.59 (version=TLS1_2 cipher=ECDHE-ECDSA-AES128-GCM-SHA256 bits=128/128); Thu, 06 Feb 2025 15:30:59 -0800 (PST) X-Relaying-Domain: iol.unh.edu Date: Thu, 06 Feb 2025 15:30:59 -0800 (PST) Message-ID: <67a54633.050a0220.6e5d7.77b3SMTPIN_ADDED_MISSING@mx.google.com> Received: from [172.21.0.7] (unknown [172.18.0.240]) by postal.iol.unh.edu (Postfix) with ESMTP id BBE946052471; Thu, 6 Feb 2025 18:30:58 -0500 (EST) Subject: |SUCCESS| pw151041 [PATCH] [1/1] net/mana: do not ring short doorbel From: dpdklab@iol.unh.edu To: Test Report Cc: dpdk-test-reports@iol.unh.edu In-Reply-To: <20250206100744.734612-1-weh@microsoft.com> References: <20250206100744.734612-1-weh@microsoft.com> Content-Type: text/plain X-BeenThere: test-report@dpdk.org X-Mailman-Version: 2.1.29 Precedence: list List-Id: automatic DPDK test reports List-Unsubscribe: , List-Archive: List-Post: List-Help: List-Subscribe: , Errors-To: test-report-bounces@dpdk.org Test-Label: iol-unit-arm64-testing Test-Status: SUCCESS http://dpdk.org/patch/151041 _Testing PASS_ Submitter: Wei Hu Date: Thursday, February 06 2025 10:07:43 DPDK git baseline: Repo:dpdk Branch: master CommitID:e595e7b5758fc73d99b810f5a8748f94bd467084 151041 --> testing pass Upstream job id: Generic-Unit-Test-DPDK#312301 Test environment and result as below: +-----------------------------+----------------+--------------+---------------------------+------------------------------+ | Environment | dpdk_unit_test | lpm_autotest | cryptodev_sw_zuc_autotest | cryptodev_sw_snow3g_autotest | +=============================+================+==============+===========================+==============================+ | CentOS Stream 9 (ARM) | PASS | SKIPPED | SKIPPED | SKIPPED | +-----------------------------+----------------+--------------+---------------------------+------------------------------+ | Fedora 40 (ARM Clang) | PASS | SKIPPED | SKIPPED | SKIPPED | +-----------------------------+----------------+--------------+---------------------------+------------------------------+ | 32-bit Ubuntu 22.04.4 (ARM) | PASS | SKIPPED | SKIPPED | SKIPPED | +-----------------------------+----------------+--------------+---------------------------+------------------------------+ | Debian 12 (arm) | PASS | SKIPPED | PASS | PASS | +-----------------------------+----------------+--------------+---------------------------+------------------------------+ | Fedora 41 (ARM Clang) | PASS | SKIPPED | SKIPPED | SKIPPED | +-----------------------------+----------------+--------------+---------------------------+------------------------------+ | Debian 11 (Buster) (ARM) | PASS | SKIPPED | SKIPPED | SKIPPED | +-----------------------------+----------------+--------------+---------------------------+------------------------------+ | RHEL9 (ARM) | PASS | SKIPPED | SKIPPED | SKIPPED | +-----------------------------+----------------+--------------+---------------------------+------------------------------+ | Fedora 41 (ARM) | PASS | SKIPPED | SKIPPED | SKIPPED | +-----------------------------+----------------+--------------+---------------------------+------------------------------+ | Fedora 40 (ARM) | PASS | SKIPPED | SKIPPED | SKIPPED | +-----------------------------+----------------+--------------+---------------------------+------------------------------+ | Ubuntu 22.04 (ARM) | PASS | SKIPPED | SKIPPED | SKIPPED | +-----------------------------+----------------+--------------+---------------------------+------------------------------+ | Ubuntu 20.04 (ARM) | PASS | SKIPPED | SKIPPED | SKIPPED | +-----------------------------+----------------+--------------+---------------------------+------------------------------+ | Ubuntu 24.04 (ARM) | PASS | SKIPPED | SKIPPED | SKIPPED | +-----------------------------+----------------+--------------+---------------------------+------------------------------+ | Ubuntu 20.04 ARM SVE | SKIPPED | PASS | SKIPPED | SKIPPED | +-----------------------------+----------------+--------------+---------------------------+------------------------------+ CentOS Stream 9 (ARM) Kernel: Depends on container host Compiler: gcc 11.5.0 20240719 (Red Hat 11.5.0-2) Fedora 40 (ARM Clang) Kernel: Depends on container host Compiler: clang 18.1.8 (Fedora 18.1.8-1.fc40) 32-bit Ubuntu 22.04.4 (ARM) Kernel: 5.15.83+ aarch64 Compiler: gcc (Ubuntu 11.4.0-1ubuntu1~22.04) 11.4.0 Debian 12 (arm) Kernel: Depends on container host Compiler: gcc (Debian 12.2.0-14) 12.2.0 Fedora 41 (ARM Clang) Kernel: Depends on container host Compiler: clang 19.1.5 (Fedora 19.1.5-1.fc41) Debian 11 (Buster) (ARM) Kernel: Depends on container host Compiler: gcc (Debian 10.2.1-6) 10.2.1 20210110 RHEL9 (ARM) Kernel: Depends on container host Compiler: gcc 11.5.0 20240719 (Red Hat 11.5.0-2) Fedora 41 (ARM) Kernel: Depends on container host Compiler: gcc 14.2.1 20240912 (Red Hat 14.2.1-3) Fedora 40 (ARM) Kernel: Depends on container host Compiler: gcc 14.2.1 20240912 (Red Hat 14.2.1-3) Ubuntu 22.04 (ARM) Kernel: Depends on container host Compiler: gcc (Ubuntu 11.4.0-1ubuntu1~22.04) 11.4.0 Ubuntu 20.04 (ARM) Kernel: Depends on container host Compiler: gcc (Ubuntu 9.4.0-1ubuntu1~20.04.2) 9.4.0 Ubuntu 24.04 (ARM) Kernel: Depends on container host Compiler: gcc (Ubuntu 13.3.0-6ubuntu2~24.04) 13.3.0 Ubuntu 20.04 ARM SVE Kernel: Depends on container host Compiler: gcc (Ubuntu 10.5.0-1ubuntu1~20.04) 10.5.0 To view detailed results, visit: https://lab.dpdk.org/results/dashboard/patchsets/32510/ UNH-IOL DPDK Community Lab To manage your email subscriptions, visit: https://lab.dpdk.org/results/dashboard/preferences/subscriptions/