From mboxrd@z Thu Jan  1 00:00:00 1970
Return-Path: <test-report-bounces@dpdk.org>
Received: from mails.dpdk.org (mails.dpdk.org [217.70.189.124])
	by inbox.dpdk.org (Postfix) with ESMTP id 22DEF461AF
	for <public@inbox.dpdk.org>; Fri,  7 Feb 2025 00:31:46 +0100 (CET)
Received: from mails.dpdk.org (localhost [127.0.0.1])
	by mails.dpdk.org (Postfix) with ESMTP id 1FE6F402A7;
	Fri,  7 Feb 2025 00:31:46 +0100 (CET)
Received: from mail-io1-f98.google.com (mail-io1-f98.google.com
 [209.85.166.98]) by mails.dpdk.org (Postfix) with ESMTP id 7462A40292
 for <test-report@dpdk.org>; Fri,  7 Feb 2025 00:31:44 +0100 (CET)
Received: by mail-io1-f98.google.com with SMTP id
 ca18e2360f4ac-84a1ce51187so48100839f.1
 for <test-report@dpdk.org>; Thu, 06 Feb 2025 15:31:44 -0800 (PST)
DKIM-Signature: v=1; a=rsa-sha256; c=relaxed/relaxed;
 d=iol.unh.edu; s=unh-iol; t=1738884704; x=1739489504; darn=dpdk.org;
 h=references:in-reply-to:cc:to:from:subject:message-id:date:from:to
 :cc:subject:date:message-id:reply-to;
 bh=7gDhx4zKj0jl+429JQ32vkk/0+oRU4zcnNg2SrANNrI=;
 b=D7npoHuPZQrjIzJgmof9hD/AcOprnrBSYBKP+xknOUtdC0LGOW/fBCWHiNv+lhOoD4
 1LjSrytewLk8CY3PyvSdi2QIHruHUPfRJXLoRHwYP0PyYiHwoRdOaDLnmwte7sjMupyA
 Ldga4n/hS/wy+EEKJbN6iWE+Wg9+xEDQ5pYJA=
X-Google-DKIM-Signature: v=1; a=rsa-sha256; c=relaxed/relaxed;
 d=1e100.net; s=20230601; t=1738884704; x=1739489504;
 h=references:in-reply-to:cc:to:from:subject:message-id:date
 :x-gm-message-state:from:to:cc:subject:date:message-id:reply-to;
 bh=7gDhx4zKj0jl+429JQ32vkk/0+oRU4zcnNg2SrANNrI=;
 b=G2J8vq1ZoTLugIvMjl5vPjATAYq7uKy0pP0Vl4+xzvpXDeFxB+6KdJL9LNmvKCEdAk
 Ld0r6/aweAidinlypzfUeq7vW/CX/nkgs6K+979T1jFoBCT80uz0tawUEp2Cg5sCLjRb
 9iboxRc+aKqUAP6hCepjo24OvereEMrksKWzKIowT5v9M96rSG+99xrIQct8u+eAue+/
 BwXp2wFq65gZ1k41WmVYE1NLx3EwcHUtXdlHdFh7bADOR1FsukEaGnUOzNQPP7TFan6E
 GkVKEqy/vXuwPOYyKLT9T9om3GHl9qgPSo/nwvPD+KOD0gC22ANRbKnKVthAgSiY8Hdm
 IjYQ==
X-Gm-Message-State: AOJu0YxTZXk0T3f3NfrojC02OmNbdcsyBMBsVji70CtFlogrnGjYJGDk
 fWEYYgE5kOt+wChIg9wEI1rx7NJk9OJ3s5KuxFTt9+xjjCyZDsFAkSfJbS7v+YfxmbENmGMBaOa
 E0qet6o2bZGAyIpYx9y6a9Y4bHrnVZdCLJEwFfpdsxtEEBkk4cP4sSXKC
X-Gm-Gg: ASbGncvuIRUI0KzzVX2esjD/Iwc3SD2bDs76DJcdf+cHbjV3RbSxd5LIhJDEtrpu8bz
 vslhXZh3m1a0B8oxpOgZxaNrKfD7dYTP5z2FEg0RXM3zHUxzRLT5WjbI67cryIXcKf4lL6pydkZ
 efIUgmhWSg/nRwPrK6Xfy9bUEAYdk9eX9SI8wvlwKSQPkfV+w+1D1gDc8Ded7M9KNBobaPctsLU
 xVvyu+olXnyLrSjl4pHZYlOC0Fx8eTQyDCOvbxN/tLILw10S5AllPCJhBeU64NmK3XZ68fuCPPD
 APQTJfPKiayOAegNn1PmhdKPjkuyVPmYFZ4LuecLRA==
X-Google-Smtp-Source: AGHT+IE/SKAFRUcNlWnkL3BJ+4GJruC2jruXAXaAaRdUe78Rcv+ranak844gmufmp1LWQExzBMpnkXM8RRBL
X-Received: by 2002:a05:6602:3a85:b0:841:a678:de3f with SMTP id
 ca18e2360f4ac-854fd78f810mr161684239f.0.1738884703779; 
 Thu, 06 Feb 2025 15:31:43 -0800 (PST)
Received: from postal.iol.unh.edu (postal.iol.unh.edu.
 [2606:4100:3880:1234::84]) by smtp-relay.gmail.com with ESMTPS id
 8926c6da1cb9f-4eccf854a7esm142541173.0.2025.02.06.15.31.43
 (version=TLS1_2 cipher=ECDHE-ECDSA-AES128-GCM-SHA256 bits=128/128);
 Thu, 06 Feb 2025 15:31:43 -0800 (PST)
X-Relaying-Domain: iol.unh.edu
Date: Thu, 06 Feb 2025 15:31:43 -0800 (PST)
Message-ID: <67a5465f.050a0220.d1adc.7e78SMTPIN_ADDED_MISSING@mx.google.com>
Received: from [172.21.0.7] (unknown [172.18.0.240])
 by postal.iol.unh.edu (Postfix) with ESMTP id 4E6406052471;
 Thu,  6 Feb 2025 18:31:43 -0500 (EST)
Subject: |SUCCESS| pw151042-151045 [PATCH] [v6,4/4] lib: change find device a
From: dpdklab@iol.unh.edu
To: Test Report <test-report@dpdk.org>
Cc: dpdk-test-reports@iol.unh.edu
In-Reply-To: <20250206105428.237346-4-shperetz@nvidia.com>
References: <20250206105428.237346-4-shperetz@nvidia.com>
Content-Type: text/plain
X-BeenThere: test-report@dpdk.org
X-Mailman-Version: 2.1.29
Precedence: list
List-Id: automatic DPDK test reports <test-report.dpdk.org>
List-Unsubscribe: <https://mails.dpdk.org/options/test-report>,
 <mailto:test-report-request@dpdk.org?subject=unsubscribe>
List-Archive: <http://mails.dpdk.org/archives/test-report/>
List-Post: <mailto:test-report@dpdk.org>
List-Help: <mailto:test-report-request@dpdk.org?subject=help>
List-Subscribe: <https://mails.dpdk.org/listinfo/test-report>,
 <mailto:test-report-request@dpdk.org?subject=subscribe>
Errors-To: test-report-bounces@dpdk.org

Test-Label: iol-compile-amd64-testing
Test-Status: SUCCESS
http://dpdk.org/patch/151045

_Testing PASS_

Submitter: Shani Peretz <shperetz@nvidia.com>
Date: Thursday, February 06 2025 10:54:27 
DPDK git baseline: Repo:dpdk
  Branch: master
  CommitID:32c18e7364e30a8e43cc7cc6709a7ce606fa285e

151042-151045 --> testing pass

Upstream job id: Generic-DPDK-Compile-Meson#358633

Test environment and result as below:

+---------------------+-------------------+--------------------+-------------------------+----------------------+------------------+-------------------+
|     Environment     | dpdk_msvc_compile | dpdk_meson_compile | dpdk_llvm_clang_compile | dpdk_mingw64_compile | dpdk_compile_ovs | dpdk_compile_spdk |
+=====================+===================+====================+=========================+======================+==================+===================+
| Windows Server 2022 | PASS              | SKIPPED            | PASS                    | PASS                 | SKIPPED          | SKIPPED           |
+---------------------+-------------------+--------------------+-------------------------+----------------------+------------------+-------------------+
| FreeBSD 13.4        | SKIPPED           | PASS               | SKIPPED                 | SKIPPED              | SKIPPED          | SKIPPED           |
+---------------------+-------------------+--------------------+-------------------------+----------------------+------------------+-------------------+
| FreeBSD 14.2        | SKIPPED           | PASS               | SKIPPED                 | SKIPPED              | SKIPPED          | SKIPPED           |
+---------------------+-------------------+--------------------+-------------------------+----------------------+------------------+-------------------+
| CentOS Stream 9     | SKIPPED           | PASS               | SKIPPED                 | SKIPPED              | PASS             | PASS              |
+---------------------+-------------------+--------------------+-------------------------+----------------------+------------------+-------------------+
| Debian Bullseye     | SKIPPED           | PASS               | SKIPPED                 | SKIPPED              | PASS             | PASS              |
+---------------------+-------------------+--------------------+-------------------------+----------------------+------------------+-------------------+
| Debian 12           | SKIPPED           | PASS               | SKIPPED                 | SKIPPED              | PASS             | PASS              |
+---------------------+-------------------+--------------------+-------------------------+----------------------+------------------+-------------------+
| Fedora 40 (Clang)   | SKIPPED           | PASS               | SKIPPED                 | SKIPPED              | PASS             | PASS              |
+---------------------+-------------------+--------------------+-------------------------+----------------------+------------------+-------------------+
| Fedora 40           | SKIPPED           | PASS               | SKIPPED                 | SKIPPED              | PASS             | PASS              |
+---------------------+-------------------+--------------------+-------------------------+----------------------+------------------+-------------------+
| Fedora 41 (Clang)   | SKIPPED           | PASS               | SKIPPED                 | SKIPPED              | PASS             | PASS              |
+---------------------+-------------------+--------------------+-------------------------+----------------------+------------------+-------------------+
| Fedora 41           | SKIPPED           | PASS               | SKIPPED                 | SKIPPED              | PASS             | PASS              |
+---------------------+-------------------+--------------------+-------------------------+----------------------+------------------+-------------------+
| openSUSE Leap 15    | SKIPPED           | PASS               | SKIPPED                 | SKIPPED              | SKIPPED          | SKIPPED           |
+---------------------+-------------------+--------------------+-------------------------+----------------------+------------------+-------------------+
| RHEL8               | SKIPPED           | PASS               | SKIPPED                 | SKIPPED              | PASS             | SKIPPED           |
+---------------------+-------------------+--------------------+-------------------------+----------------------+------------------+-------------------+
| RHEL9               | SKIPPED           | PASS               | SKIPPED                 | SKIPPED              | PASS             | SKIPPED           |
+---------------------+-------------------+--------------------+-------------------------+----------------------+------------------+-------------------+
| Ubuntu 20.04        | SKIPPED           | PASS               | SKIPPED                 | SKIPPED              | SKIPPED          | SKIPPED           |
+---------------------+-------------------+--------------------+-------------------------+----------------------+------------------+-------------------+
| Ubuntu 22.04        | SKIPPED           | PASS               | SKIPPED                 | SKIPPED              | PASS             | PASS              |
+---------------------+-------------------+--------------------+-------------------------+----------------------+------------------+-------------------+
| Ubuntu 24.04        | SKIPPED           | PASS               | SKIPPED                 | SKIPPED              | PASS             | PASS              |
+---------------------+-------------------+--------------------+-------------------------+----------------------+------------------+-------------------+
| Alpine              | SKIPPED           | PASS               | SKIPPED                 | SKIPPED              | PASS             | SKIPPED           |
+---------------------+-------------------+--------------------+-------------------------+----------------------+------------------+-------------------+


Windows Server 2022
	Kernel: 10.0.20348.2031
	Compiler: clang 15.0.7, gcc 14.1.0 (MinGW), and MSVC VS 19.39.33521

FreeBSD 13.4
	Kernel: 13.4-RELEASE-p1
	Compiler: clang 18.1.6

FreeBSD 14.2
	Kernel: 14.2-RELEASE
	Compiler: clang 18.1.6

CentOS Stream 9
	Kernel: Depends on container host
	Compiler: gcc 11.5.0 20240719 (Red Hat 11.5.0-2)

Debian Bullseye
	Kernel: Depends on container host
	Compiler: gcc (Debian 10.2.1-6) 10.2.1 20210110

Debian 12
	Kernel: Depends on container host
	Compiler: gcc (Debian 12.2.0-14) 12.2.0

Fedora 40 (Clang)
	Kernel: Depends on container host
	Compiler: clang 18.1.8 (Fedora 18.1.8-1.fc40)

Fedora 40
	Kernel: Depends on container host
	Compiler: gcc 14.2.1 20240912 (Red Hat 14.2.1-3)

Fedora 41 (Clang)
	Kernel: Depends on container host
	Compiler: clang 19.1.5 (Fedora 19.1.5-1.fc41)

Fedora 41
	Kernel: Depends on container host
	Compiler: gcc 14.2.1 20240912 (Red Hat 14.2.1-3)

openSUSE Leap 15
	Kernel: Depends on container host
	Compiler: gcc (SUSE Linux) 7.5.0

RHEL8
	Kernel: Depends on container host
	Compiler: gcc 8.5.0 20210514 (Red Hat 8.5.0-22)

RHEL9
	Kernel: Depends on container host
	Compiler: gcc 11.5.0 20240719 (Red Hat 11.5.0-2)

Ubuntu 20.04
	Kernel: Depends on container host
	Compiler: gcc (Ubuntu 9.4.0-1ubuntu1~20.04.2) 9.4.0

Ubuntu 22.04
	Kernel: Depends on container host
	Compiler: gcc (Ubuntu 11.4.0-1ubuntu1~22.04) 11.4.0

Ubuntu 24.04
	Kernel: Depends on container host
	Compiler: gcc (Ubuntu 13.3.0-6ubuntu2~24.04) 13.3.0

Alpine
	Kernel: Depends on container host
	Compiler: gcc (Alpine 14.2.0) 14.2.0

To view detailed results, visit:
https://lab.dpdk.org/results/dashboard/patchsets/32511/

UNH-IOL DPDK Community Lab

To manage your email subscriptions, visit: 
https://lab.dpdk.org/results/dashboard/preferences/subscriptions/