From mboxrd@z Thu Jan 1 00:00:00 1970 Return-Path: Received: from mails.dpdk.org (mails.dpdk.org [217.70.189.124]) by inbox.dpdk.org (Postfix) with ESMTP id 82324461AF for ; Fri, 7 Feb 2025 00:42:13 +0100 (CET) Received: from mails.dpdk.org (localhost [127.0.0.1]) by mails.dpdk.org (Postfix) with ESMTP id 60474402A7; Fri, 7 Feb 2025 00:42:13 +0100 (CET) Received: from mail-qv1-f97.google.com (mail-qv1-f97.google.com [209.85.219.97]) by mails.dpdk.org (Postfix) with ESMTP id E736F402BC for ; Fri, 7 Feb 2025 00:42:11 +0100 (CET) Received: by mail-qv1-f97.google.com with SMTP id 6a1803df08f44-6e42ba364f1so16442386d6.2 for ; Thu, 06 Feb 2025 15:42:11 -0800 (PST) DKIM-Signature: v=1; a=rsa-sha256; c=relaxed/relaxed; d=iol.unh.edu; s=unh-iol; t=1738885331; x=1739490131; darn=dpdk.org; h=references:in-reply-to:cc:to:from:subject:message-id:date:from:to :cc:subject:date:message-id:reply-to; bh=ZQH7CdoUsm7OwV2xPYFCOY4o6835dXn99dic28Dq7d4=; b=MWwVV0OkU9TK0saT8W4HgOxEOQgey7s49sN6jQnnaSVLeC631wyN1to07luiZO2W35 H4BsLHep/Ig54rzQaP3P6+UuTPZqN6xGEqGtzO84+yk0GXirYqCyaost1SUD5mZOZ5sw IG5wq5xeU3TLQyUhLmqiLvqq+xnfHKSwK438A= X-Google-DKIM-Signature: v=1; a=rsa-sha256; c=relaxed/relaxed; d=1e100.net; s=20230601; t=1738885331; x=1739490131; h=references:in-reply-to:cc:to:from:subject:message-id:date :x-gm-message-state:from:to:cc:subject:date:message-id:reply-to; bh=ZQH7CdoUsm7OwV2xPYFCOY4o6835dXn99dic28Dq7d4=; b=EJq6mQMvKCtpXGsLBGimPd2jyOqtlKz0+5KiVF+gK7m4xJiC9vIyIoWmB94OvF/Vk5 ojS9YLlb1CchYh3rV1xXIHoEEyRdqujyXzZ3j2rWu37E+ChV0lv0jnLc1SM4/bDLrByS XQvTieVmJAYFREXFcXgxsuTekXMZJ7DLp6CsZVTVGA0qqntGaem7gjaBRLnOSsDDKRum mENhUoILGDfULUNVeK+e/GnKRihQEJvxqaAbTdOK2SWPsxvlAJ2Uj5iQw7xCEvvPPH69 6jrW3tJzGgpCzCQRWcNy2j1WArx0fx5oMQW0fY3/kNmmt5btV4vka+Fo7SlT0VnJop3W ONxw== X-Gm-Message-State: AOJu0Yz3QvTdpfnYIZtuCiFo9hy2r/lUm4zPfTfc02PuJWXQuLPON76p lUiHw1wnxbcGPgdfebfGop1BPEKqzDLC959LvfTAEVjUeqfl2uJVm3G7buPDChUuE8aIQuBGWa9 gBq9T03V+fPRp0penrPqaRXLUi1QnF+/vOnsFN9oo X-Gm-Gg: ASbGncsbMPAY5v+8xWJ4gaHHGO9GeUDMxNNLSRfNpxbvjyMxAs0LjsAt/aM0947FclM X+hK3/bzh/BlrqIinJXPyyRMOc3zgvTbNfksVbag2InmoH+eCAq52mQCyC3yS8slG/1a5xvipG2 3OuMNQZ9pUk13yvtj62P8qbnIdHUxepcZb1JG6Z8Ezne9HKlD3+KA+pgrdgF7zG8ny8KRJrq4M8 Q1mbGTxDSae73LnX8G7CeHkULg4HyClnLFzVUIiTQXhqpJUW/zh9nw7chIoII/0nsLT7Bb8RgCB mLhXN+SSgzxBee++i4WmdvF8Mdg0Zg== X-Google-Smtp-Source: AGHT+IGHpgRIiUoLzRh5PSu0NirLBC4T1Cj5ip1Z9wLawgtR3mnX5YO767M8Rboacx/HLcPbhNDOe/2rU/lE X-Received: by 2002:ad4:5ce8:0:b0:6d4:25c4:e772 with SMTP id 6a1803df08f44-6e44571776emr17089666d6.36.1738885331379; Thu, 06 Feb 2025 15:42:11 -0800 (PST) Received: from postal.iol.unh.edu (postal.iol.unh.edu. [132.177.123.84]) by smtp-relay.gmail.com with ESMTPS id 6a1803df08f44-6e43baee2a4sm1381436d6.47.2025.02.06.15.42.11 (version=TLS1_2 cipher=ECDHE-ECDSA-AES128-GCM-SHA256 bits=128/128); Thu, 06 Feb 2025 15:42:11 -0800 (PST) X-Relaying-Domain: iol.unh.edu Date: Thu, 06 Feb 2025 15:42:11 -0800 (PST) Message-ID: <67a548d3.050a0220.3af682.7ffdSMTPIN_ADDED_MISSING@mx.google.com> Received: from [172.21.0.5] (unknown [172.18.0.240]) by postal.iol.unh.edu (Postfix) with ESMTP id 7E1266052471; Thu, 6 Feb 2025 18:42:10 -0500 (EST) Subject: |SUCCESS| pw149642-149643 [PATCH] [v3,2/2] config/arm: sort SOCs alp From: dpdklab@iol.unh.edu To: Test Report Cc: dpdk-test-reports@iol.unh.edu In-Reply-To: <20250106183146.540161-2-wathsala.vithanage@arm.com> References: <20250106183146.540161-2-wathsala.vithanage@arm.com> Content-Type: text/plain X-BeenThere: test-report@dpdk.org X-Mailman-Version: 2.1.29 Precedence: list List-Id: automatic DPDK test reports List-Unsubscribe: , List-Archive: List-Post: List-Help: List-Subscribe: , Errors-To: test-report-bounces@dpdk.org Test-Label: iol-unit-amd64-testing Test-Status: SUCCESS http://dpdk.org/patch/149643 _Testing PASS RETEST #1_ Submitter: Wathsala Vithanage Date: Monday, January 06 2025 18:31:46 DPDK git baseline: Repo:dpdk Branch: master CommitID:fd51012de5369679e807be1d6a81d63ef15015ce 149642-149643 --> testing pass Upstream job id: Generic-VM-Unit-Test-DPDK#27134 Test environment and result as below: +---------------------+----------------+ | Environment | dpdk_unit_test | +=====================+================+ | CentOS Stream 9 | PASS | +---------------------+----------------+ | Debian Bullseye | PASS | +---------------------+----------------+ | Fedora 40 | PASS | +---------------------+----------------+ | Debian 12 | PASS | +---------------------+----------------+ | Fedora 41 | PASS | +---------------------+----------------+ | Fedora 40 (Clang) | PASS | +---------------------+----------------+ | Fedora 41 (Clang) | PASS | +---------------------+----------------+ | RHEL8 | PASS | +---------------------+----------------+ | Ubuntu 20.04 | PASS | +---------------------+----------------+ | RHEL9 | PASS | +---------------------+----------------+ | Ubuntu 22.04 | PASS | +---------------------+----------------+ | Windows Server 2022 | PASS | +---------------------+----------------+ | Ubuntu 24.04 | PASS | +---------------------+----------------+ CentOS Stream 9 Kernel: Depends on container host Compiler: gcc 11.5.0 20240719 (Red Hat 11.5.0-2) Debian Bullseye Kernel: Depends on container host Compiler: gcc (Debian 10.2.1-6) 10.2.1 20210110 Fedora 40 Kernel: Depends on container host Compiler: gcc 14.2.1 20240912 (Red Hat 14.2.1-3) Debian 12 Kernel: Depends on container host Compiler: gcc (Debian 12.2.0-14) 12.2.0 Fedora 41 Kernel: Depends on container host Compiler: gcc 14.2.1 20240912 (Red Hat 14.2.1-3) Fedora 40 (Clang) Kernel: Depends on container host Compiler: clang 18.1.8 (Fedora 18.1.8-1.fc40) Fedora 41 (Clang) Kernel: Depends on container host Compiler: clang 19.1.5 (Fedora 19.1.5-1.fc41) RHEL8 Kernel: Depends on container host Compiler: gcc 8.5.0 20210514 (Red Hat 8.5.0-22) Ubuntu 20.04 Kernel: Depends on container host Compiler: gcc (Ubuntu 9.4.0-1ubuntu1~20.04.2) 9.4.0 RHEL9 Kernel: Depends on container host Compiler: gcc 11.5.0 20240719 (Red Hat 11.5.0-2) Ubuntu 22.04 Kernel: Depends on container host Compiler: gcc (Ubuntu 11.4.0-1ubuntu1~22.04) 11.4.0 Windows Server 2022 Kernel: 10.0.20348.2031 Compiler: clang 15.0.7, gcc 14.1.0 (MinGW), and MSVC VS 19.39.33521 Ubuntu 24.04 Kernel: Depends on container host Compiler: gcc (Ubuntu 13.3.0-6ubuntu2~24.04) 13.3.0 To view detailed results, visit: https://lab.dpdk.org/results/dashboard/patchsets/32260/ UNH-IOL DPDK Community Lab To manage your email subscriptions, visit: https://lab.dpdk.org/results/dashboard/preferences/subscriptions/