From mboxrd@z Thu Jan 1 00:00:00 1970 Return-Path: Received: from mails.dpdk.org (mails.dpdk.org [217.70.189.124]) by inbox.dpdk.org (Postfix) with ESMTP id D537E461AF for ; Fri, 7 Feb 2025 00:57:16 +0100 (CET) Received: from mails.dpdk.org (localhost [127.0.0.1]) by mails.dpdk.org (Postfix) with ESMTP id B4735402D5; Fri, 7 Feb 2025 00:57:16 +0100 (CET) Received: from mail-pj1-f97.google.com (mail-pj1-f97.google.com [209.85.216.97]) by mails.dpdk.org (Postfix) with ESMTP id 9F8D9402A7 for ; Fri, 7 Feb 2025 00:57:14 +0100 (CET) Received: by mail-pj1-f97.google.com with SMTP id 98e67ed59e1d1-2f43d17b0e3so2671404a91.0 for ; Thu, 06 Feb 2025 15:57:14 -0800 (PST) DKIM-Signature: v=1; a=rsa-sha256; c=relaxed/relaxed; d=iol.unh.edu; s=unh-iol; t=1738886233; x=1739491033; darn=dpdk.org; h=cc:to:from:subject:message-id:date:from:to:cc:subject:date :message-id:reply-to; bh=PsQUAM827+DXdiAr54Va5meSfb33Jw/YXzVpKEgJNt0=; b=J4ejynHoQ8S9MM3JphXYsisdZcIZJRc/LDwhQvwgC6iCRhu4TfPSP0oTPG/R2vfkhL Z5dBIjKf1F8h5cfQtfaP36azDJsmcD3oyF8S5Qqdk7ZgNcZO9r48VDNRkHiX1utg4ouQ 9saN0qStBp0ADoVBa9pzowAEuK69Hs9a0yUNM= X-Google-DKIM-Signature: v=1; a=rsa-sha256; c=relaxed/relaxed; d=1e100.net; s=20230601; t=1738886233; x=1739491033; h=cc:to:from:subject:message-id:date:x-gm-message-state:from:to:cc :subject:date:message-id:reply-to; bh=PsQUAM827+DXdiAr54Va5meSfb33Jw/YXzVpKEgJNt0=; b=lBG06T4HwmeeFBzfkXde6Q0AEoMPxMYWm74JwcD9gZHeqyb/+HPyYmHbiC+mU9T51x w9lh7fz0sKTmdCYPbhJNDdtPpL3QMuVMvnau+W8ZYz3w6O0Xp7+l3HmuFX1tYtldDEf9 d69fRNS0FYRS7vQGRpql2fglD9IuOpwiwFYGVf/4n8FTBbIgwTG4oA5LD2gU7xAwWHMA J4qRLJErRONF/Bo1IuYZxlF+58fIK8jSEIdEZhVEaTKGC1q5ON2PWOWDw27pn8EXQixD Y4yEc1Ee19GF1jw5G4y7JKgMOlaLn+lMkzlAPHN7IO4fyPJnV09uUXHTZH+ETwXWfEYQ m5UA== X-Gm-Message-State: AOJu0YzuIRLG6I45tgwZhJeUQ+6N9SNq47Mu+oAcRDG8vLeMhDEzG9pY FENKat50vg2M9wAR4Wq9Kc3ybhhjoYkTgJC6LJoIkX4A3ezrv7HCVJ0rA/isU0lAXRY32PnNVYH b2jhD0VNMPSe9L7LB1NS5Z+1jQp+FaTjy X-Gm-Gg: ASbGncvM0EZFKWHyXLE2toGT8qpuMQnxrJ8jwHy3Texctcqa33U+kgwZRmLUDwNft8W VB+T2hpaOWKUy5Pyoju2eTAJ+gEae/sBV066BfkE2QMiLKkyUnUmc9kr5VG6jpIewP73WhgA7QV 95a5eow3ZARLijTJPPscszQ0STX7FiiYeuEeiJ+S8ISM0u+p3wW+a90dUVdosmWo14EovFmwNik e7iiK0U2vJRPY02P6iszPtSkkNEJAlsx8S7KhaSuoEfH8J3WxVE/kOpPF0R5vBcaVKWOiCO748D VTj+V3eMOVT6obyYbXIBMP/w1sq2hQ== X-Google-Smtp-Source: AGHT+IHqNoiQkm/j8hPhs6phe7rQwI70DjCIQC7xm9yrp/tS13RbGdiih48K7FL6V+11OyY7wKupohvtMWM9 X-Received: by 2002:a17:90b:3e8a:b0:2ee:ab11:fab2 with SMTP id 98e67ed59e1d1-2fa243e9382mr1347684a91.22.1738886233537; Thu, 06 Feb 2025 15:57:13 -0800 (PST) Received: from postal.iol.unh.edu (postal.iol.unh.edu. [132.177.123.84]) by smtp-relay.gmail.com with ESMTPS id 98e67ed59e1d1-2fa269d2305sm26234a91.12.2025.02.06.15.57.13 (version=TLS1_2 cipher=ECDHE-ECDSA-AES128-GCM-SHA256 bits=128/128); Thu, 06 Feb 2025 15:57:13 -0800 (PST) X-Relaying-Domain: iol.unh.edu Date: Thu, 06 Feb 2025 15:57:13 -0800 (PST) Message-ID: <67a54c59.170a0220.131ce3.1670SMTPIN_ADDED_MISSING@mx.google.com> Received: from [172.21.0.6] (unknown [172.18.0.240]) by postal.iol.unh.edu (Postfix) with ESMTP id 8E79E6052471; Thu, 6 Feb 2025 18:57:12 -0500 (EST) Subject: |SUCCESS| [GIT MASTER] c66daa12e76d7b4912cfb7109a761856a7a873ab From: dpdklab@iol.unh.edu To: Test Report Cc: dpdk-test-reports@iol.unh.edu, Xueming Li , Christian Ehrhardt , Kevin Traynor , Luca Boccassi Content-Type: text/plain X-BeenThere: test-report@dpdk.org X-Mailman-Version: 2.1.29 Precedence: list List-Id: automatic DPDK test reports List-Unsubscribe: , List-Archive: List-Post: List-Help: List-Subscribe: , Errors-To: test-report-bounces@dpdk.org _Testing PASS_ Branch: tags/v23.11 c66daa12e76d7b4912cfb7109a761856a7a873ab --> testing pass Upstream job id: Generic-DPDK-Compile-Meson#358489 Test environment and result as below: +------------------------------------+--------------------+ | Environment | dpdk_meson_compile | +====================================+====================+ | RHEL9 (ARM) | PASS | +------------------------------------+--------------------+ | Ubuntu 20.04 ARM GCC Cross Compile | PASS | +------------------------------------+--------------------+ | Ubuntu 20.04 ARM SVE | PASS | +------------------------------------+--------------------+ | Debian 12 with MUSDK | PASS | +------------------------------------+--------------------+ | Fedora 40 (ARM) | PASS | +------------------------------------+--------------------+ | Fedora 41 (ARM) | PASS | +------------------------------------+--------------------+ | Fedora 41 (ARM Clang) | PASS | +------------------------------------+--------------------+ | Ubuntu 20.04 (ARM) | PASS | +------------------------------------+--------------------+ | Ubuntu 22.04 (ARM) | PASS | +------------------------------------+--------------------+ | Ubuntu 24.04 (ARM) | PASS | +------------------------------------+--------------------+ | CentOS Stream 9 (ARM) | PASS | +------------------------------------+--------------------+ | Debian 11 (Buster) (ARM) | PASS | +------------------------------------+--------------------+ | Fedora 40 (ARM Clang) | PASS | +------------------------------------+--------------------+ | Debian 12 (arm) | PASS | +------------------------------------+--------------------+ RHEL9 (ARM) Kernel: Depends on container host Compiler: gcc 11.5.0 20240719 (Red Hat 11.5.0-2) Ubuntu 20.04 ARM GCC Cross Compile Kernel: Depends on container host Compiler: aarch64-linux-gnu-gcc (Ubuntu 9.4.0-1ubuntu1~20.04.2) 9.4.0 Ubuntu 20.04 ARM SVE Kernel: Depends on container host Compiler: gcc (Ubuntu 10.5.0-1ubuntu1~20.04) 10.5.0 Debian 12 with MUSDK Kernel: Depends on container host Compiler: gcc (Debian 12.2.0-14) 12.2.0 Fedora 40 (ARM) Kernel: Depends on container host Compiler: gcc 14.2.1 20240912 (Red Hat 14.2.1-3) Fedora 41 (ARM) Kernel: Depends on container host Compiler: gcc 14.2.1 20240912 (Red Hat 14.2.1-3) Fedora 41 (ARM Clang) Kernel: Depends on container host Compiler: clang 19.1.5 (Fedora 19.1.5-1.fc41) Ubuntu 20.04 (ARM) Kernel: Depends on container host Compiler: gcc (Ubuntu 9.4.0-1ubuntu1~20.04.2) 9.4.0 Ubuntu 22.04 (ARM) Kernel: Depends on container host Compiler: gcc (Ubuntu 11.4.0-1ubuntu1~22.04) 11.4.0 Ubuntu 24.04 (ARM) Kernel: Depends on container host Compiler: gcc (Ubuntu 13.3.0-6ubuntu2~24.04) 13.3.0 CentOS Stream 9 (ARM) Kernel: Depends on container host Compiler: gcc 11.5.0 20240719 (Red Hat 11.5.0-2) Debian 11 (Buster) (ARM) Kernel: Depends on container host Compiler: gcc (Debian 10.2.1-6) 10.2.1 20210110 Fedora 40 (ARM Clang) Kernel: Depends on container host Compiler: clang 18.1.8 (Fedora 18.1.8-1.fc40) Debian 12 (arm) Kernel: Depends on container host Compiler: gcc (Debian 12.2.0-14) 12.2.0 To view detailed results, visit: https://lab.dpdk.org/results/dashboard/tarballs/32467/ UNH-IOL DPDK Community Lab To manage your email subscriptions, visit: https://lab.dpdk.org/results/dashboard/preferences/subscriptions/