From mboxrd@z Thu Jan 1 00:00:00 1970 Return-Path: Received: from mails.dpdk.org (mails.dpdk.org [217.70.189.124]) by inbox.dpdk.org (Postfix) with ESMTP id D017A461AF for ; Fri, 7 Feb 2025 01:03:44 +0100 (CET) Received: from mails.dpdk.org (localhost [127.0.0.1]) by mails.dpdk.org (Postfix) with ESMTP id C5F88402D5; Fri, 7 Feb 2025 01:03:44 +0100 (CET) Received: from mail-pl1-f225.google.com (mail-pl1-f225.google.com [209.85.214.225]) by mails.dpdk.org (Postfix) with ESMTP id 959AB402A7 for ; Fri, 7 Feb 2025 01:03:43 +0100 (CET) Received: by mail-pl1-f225.google.com with SMTP id d9443c01a7336-2165448243fso37520455ad.1 for ; Thu, 06 Feb 2025 16:03:43 -0800 (PST) DKIM-Signature: v=1; a=rsa-sha256; c=relaxed/relaxed; d=iol.unh.edu; s=unh-iol; t=1738886623; x=1739491423; darn=dpdk.org; h=references:in-reply-to:cc:to:from:subject:message-id:date:from:to :cc:subject:date:message-id:reply-to; bh=Mv+eBCWFUYEpCemffjzhAg3DPVitE1yM1MNYEQAZgaM=; b=V3zy6hP+VMIHzAU6u3PyXUq/tjHC9lPo4GzODsvRJHDJ4Hypv8CmZoUe4RZGpuBg5M tbQ4IoxNL9/WMTCTS5+rYQem9VM5TgThjbASVjzEhX7O+u8L2a0SPZi6uPU6ns5RUlI/ I98QuJsLv3W4EHUQhcGUTFfrk61HzTOt566qQ= X-Google-DKIM-Signature: v=1; a=rsa-sha256; c=relaxed/relaxed; d=1e100.net; s=20230601; t=1738886623; x=1739491423; h=references:in-reply-to:cc:to:from:subject:message-id:date :x-gm-message-state:from:to:cc:subject:date:message-id:reply-to; bh=Mv+eBCWFUYEpCemffjzhAg3DPVitE1yM1MNYEQAZgaM=; b=OdLywZ9NUhQ/QEftRYIChAV6xxk/n9iuR/N2sptv13aTalov7RZsUTfDNJS/2e6SrC EDs2iRhgUvbvrYltjnI2vMq+UmGhGFdQ12/gYw4npnMGNAxnNeFfaspZMUG5m1T2LX/a PIkqe3dNoyqpjRpY31fcGWfNV1l6Tr3bSKF/3HkJn2O3MXcCUiKoMvr7gTjFsD62k22k 3eTHsZKrNzmXZ9+yIxd0GkghbWlzrtjKTECIA6C+frPT8xaBoEuLid0ElErH0+H59yjd hFNH6LQYoE8thHGo/vd4SIpMu4i5dPJXVaTCRDhCpxxLu/Ngxuap6gb927eYN+U7+kwZ BYrg== X-Gm-Message-State: AOJu0Yw0tWlxwcaiT3ZHdN0Z6MsHnIPNfgfy9hCjrOqnIlNPQ63wVs/A b3XncahGwG484nLadncYxBhJfp+AzC2KLEO68B8nMGpJKwDOKyr599X6YVpRC+08pHDHWpXIFxa vD/dVT/c6QpKHAIKWikmElBrs7XybbQI+KaQrwXpzF4gzoQGZ2yIe3Z/2 X-Gm-Gg: ASbGnctr1pou+F6Ad/3ps8yJfBe2hT2lWX6whzBHthbFjsGxW+1cTUq0+SeASc3mn3X UVpc7PCg+Lo/DffRzPomglBCxeGHkj5OUR4plHVLSJWTJr8ktyjDq9hpa2ABgscQQOFSa4TiyRT whVrx7q2LuVW5XpsU0dMeLp3Z89BS/j0pDmr9v4xntYx4b7B+O0kzLBbFrgeaMRxuzHoJhpkB4n KtGQxTrK7ofm7aDJGBDm5CpLGJg7A35SCUz6K8mEyRaGvOT3QFP1XGW5hM7hegElgwCFscK9/oq OfEuJNhbhfcl2fKmddUZ+NffFbBMw03/h/j67MaXDA== X-Google-Smtp-Source: AGHT+IEajeQuc3eZfKL39LR9cXEnbPfgqa2jq+PyNvweqw9+k8xGFLjwDrg+uI5tQzKvmMxpYpQ6qRsVpjTD X-Received: by 2002:a17:902:ce08:b0:216:61d2:46b6 with SMTP id d9443c01a7336-21f4e6e5ecdmr17295545ad.25.1738886622714; Thu, 06 Feb 2025 16:03:42 -0800 (PST) Received: from postal.iol.unh.edu (postal.iol.unh.edu. [2606:4100:3880:1234::84]) by smtp-relay.gmail.com with ESMTPS id d9443c01a7336-21f3650c512sm1144135ad.3.2025.02.06.16.03.42 (version=TLS1_2 cipher=ECDHE-ECDSA-AES128-GCM-SHA256 bits=128/128); Thu, 06 Feb 2025 16:03:42 -0800 (PST) X-Relaying-Domain: iol.unh.edu Date: Thu, 06 Feb 2025 16:03:42 -0800 (PST) Message-ID: <67a54dde.170a0220.77c00.63cfSMTPIN_ADDED_MISSING@mx.google.com> Received: from [172.21.0.7] (unknown [172.18.0.240]) by postal.iol.unh.edu (Postfix) with ESMTP id 258AD6052471; Thu, 6 Feb 2025 19:03:42 -0500 (EST) Subject: |SUCCESS| pw151046 [PATCH] test/event: fix number of queues in event From: dpdklab@iol.unh.edu To: Test Report Cc: dpdk-test-reports@iol.unh.edu In-Reply-To: <20250206143244.524451-1-sthotton@marvell.com> References: <20250206143244.524451-1-sthotton@marvell.com> Content-Type: text/plain X-BeenThere: test-report@dpdk.org X-Mailman-Version: 2.1.29 Precedence: list List-Id: automatic DPDK test reports List-Unsubscribe: , List-Archive: List-Post: List-Help: List-Subscribe: , Errors-To: test-report-bounces@dpdk.org Test-Label: iol-compile-arm64-testing Test-Status: SUCCESS http://dpdk.org/patch/151046 _Testing PASS_ Submitter: Shijith Thotton Date: Thursday, February 06 2025 14:32:44 DPDK git baseline: Repo:dpdk Branch: master CommitID:32c18e7364e30a8e43cc7cc6709a7ce606fa285e 151046 --> testing pass Upstream job id: Generic-DPDK-Compile-Meson#358608 Test environment and result as below: +----------------------------------------+--------------------+ | Environment | dpdk_meson_compile | +========================================+====================+ | RHEL9 (ARM) | PASS | +----------------------------------------+--------------------+ | Ubuntu 20.04 ARM GCC Cross Compile | PASS | +----------------------------------------+--------------------+ | Ubuntu 20.04 ARM SVE | PASS | +----------------------------------------+--------------------+ | Debian 12 with MUSDK | PASS | +----------------------------------------+--------------------+ | Fedora 40 (ARM) | PASS | +----------------------------------------+--------------------+ | Fedora 40 (ARM Clang) | PASS | +----------------------------------------+--------------------+ | Fedora 41 (ARM) | PASS | +----------------------------------------+--------------------+ | Fedora 41 (ARM Clang) | PASS | +----------------------------------------+--------------------+ | Ubuntu 20.04 (ARM) | PASS | +----------------------------------------+--------------------+ | Ubuntu 22.04 (ARM) | PASS | +----------------------------------------+--------------------+ | Ubuntu 24.04 (ARM) | PASS | +----------------------------------------+--------------------+ | CentOS Stream 9 (ARM) | PASS | +----------------------------------------+--------------------+ | Ubuntu 20.04 ARM Clang Cross Compile | PASS | +----------------------------------------+--------------------+ | Ubuntu 20.04 aarch32 GCC Cross Compile | PASS | +----------------------------------------+--------------------+ | Debian 12 (arm) | PASS | +----------------------------------------+--------------------+ | Debian 11 (Buster) (ARM) | PASS | +----------------------------------------+--------------------+ RHEL9 (ARM) Kernel: Depends on container host Compiler: gcc 11.5.0 20240719 (Red Hat 11.5.0-2) Ubuntu 20.04 ARM GCC Cross Compile Kernel: Depends on container host Compiler: aarch64-linux-gnu-gcc (Ubuntu 9.4.0-1ubuntu1~20.04.2) 9.4.0 Ubuntu 20.04 ARM SVE Kernel: Depends on container host Compiler: gcc (Ubuntu 10.5.0-1ubuntu1~20.04) 10.5.0 Debian 12 with MUSDK Kernel: Depends on container host Compiler: gcc (Debian 12.2.0-14) 12.2.0 Fedora 40 (ARM) Kernel: Depends on container host Compiler: gcc 14.2.1 20240912 (Red Hat 14.2.1-3) Fedora 40 (ARM Clang) Kernel: Depends on container host Compiler: clang 18.1.8 (Fedora 18.1.8-1.fc40) Fedora 41 (ARM) Kernel: Depends on container host Compiler: gcc 14.2.1 20240912 (Red Hat 14.2.1-3) Fedora 41 (ARM Clang) Kernel: Depends on container host Compiler: clang 19.1.5 (Fedora 19.1.5-1.fc41) Ubuntu 20.04 (ARM) Kernel: Depends on container host Compiler: gcc (Ubuntu 9.4.0-1ubuntu1~20.04.2) 9.4.0 Ubuntu 22.04 (ARM) Kernel: Depends on container host Compiler: gcc (Ubuntu 11.4.0-1ubuntu1~22.04) 11.4.0 Ubuntu 24.04 (ARM) Kernel: Depends on container host Compiler: gcc (Ubuntu 13.3.0-6ubuntu2~24.04) 13.3.0 CentOS Stream 9 (ARM) Kernel: Depends on container host Compiler: gcc 11.5.0 20240719 (Red Hat 11.5.0-2) Ubuntu 20.04 ARM Clang Cross Compile Kernel: Depends on container host Compiler: clang 10.0.0-4ubuntu1 Ubuntu 20.04 aarch32 GCC Cross Compile Kernel: Depends on container host Compiler: gcc 9.4.0 Debian 12 (arm) Kernel: Depends on container host Compiler: gcc (Debian 12.2.0-14) 12.2.0 Debian 11 (Buster) (ARM) Kernel: Depends on container host Compiler: gcc (Debian 10.2.1-6) 10.2.1 20210110 To view detailed results, visit: https://lab.dpdk.org/results/dashboard/patchsets/32512/ UNH-IOL DPDK Community Lab To manage your email subscriptions, visit: https://lab.dpdk.org/results/dashboard/preferences/subscriptions/