From mboxrd@z Thu Jan 1 00:00:00 1970 Return-Path: Received: from mails.dpdk.org (mails.dpdk.org [217.70.189.124]) by inbox.dpdk.org (Postfix) with ESMTP id 36AB1461AF for ; Fri, 7 Feb 2025 01:06:21 +0100 (CET) Received: from mails.dpdk.org (localhost [127.0.0.1]) by mails.dpdk.org (Postfix) with ESMTP id 3268A402D5; Fri, 7 Feb 2025 01:06:21 +0100 (CET) Received: from mail-yw1-f228.google.com (mail-yw1-f228.google.com [209.85.128.228]) by mails.dpdk.org (Postfix) with ESMTP id 911BD402A7 for ; Fri, 7 Feb 2025 01:06:19 +0100 (CET) Received: by mail-yw1-f228.google.com with SMTP id 00721157ae682-6f679788fd1so9142307b3.2 for ; Thu, 06 Feb 2025 16:06:19 -0800 (PST) DKIM-Signature: v=1; a=rsa-sha256; c=relaxed/relaxed; d=iol.unh.edu; s=unh-iol; t=1738886779; x=1739491579; darn=dpdk.org; h=cc:to:from:subject:message-id:date:from:to:cc:subject:date :message-id:reply-to; bh=HaSU9RTG+FPzx4f6/hmGkKtPMrLGC9mVuJyXZlc/WtE=; b=L2HZE3H6lNS9M/p6J0FyrrLAXdIJQFvYE9vCRtCQAAIrO3H7VG2fd7zgeylMxksC+v Ob4zXulLjfEY09iedeS1T5GsuxXg/3FK/5YafUy9ZKStaNdKtBXVbghxys9/xNU3ikKA gRaEoX+ofuqAnL0haaj/HxUmyxi0DNL+RXeoc= X-Google-DKIM-Signature: v=1; a=rsa-sha256; c=relaxed/relaxed; d=1e100.net; s=20230601; t=1738886779; x=1739491579; h=cc:to:from:subject:message-id:date:x-gm-message-state:from:to:cc :subject:date:message-id:reply-to; bh=HaSU9RTG+FPzx4f6/hmGkKtPMrLGC9mVuJyXZlc/WtE=; b=q+baTbMcqEfy2y5t79rUrJaxJm7iU80aAKiCG7csQtep74bmC5cRZqB6Ezwn7GIaP0 4YU+y9O7X6N5DalUBXuCYSWpAFdl5riwdUwqD5fFfuBnkylMm60Kekwsiymqogh4z6ag kR55cTPBUaGcL+JucfUvRZQtUbHYrpt2If5nWO3GlP2azk46SzGCGtP1Tpb/agfhT/3I kymscv3QuQeRpzi7v8P08y6gKptsdeV1HhDsuO58DY70oTbXLdYK9VuQA+k+b9rJMFZp j3kMwWdzL/4NRjNSOwHLsiF0y6eeIn3q4oGmZzzNbuL8rQxqYy/y6tDPZHV2UGCjJ6OR CQ5A== X-Gm-Message-State: AOJu0Ywk6uiq9XR+rX1eAy/DLr425ymabBqROQeJdet0fbCXB99PYABF DwYyzkqt9/nNLs5sAhYrv3ziO5OTMc9EynjvbU9y7OC4QVYf4Z+g0ZwsqFxWnpeMAWQ0n0AWrZ1 Y+985eyHxkt51XWeg6HWf/suB2RIXR9RtgOM3bVm+ X-Gm-Gg: ASbGncsSCxZ9LXWLXxVA5ZmIFRU2csuX01sbWsPN5r3xWglzjLjJdq8CEDRfOn5HdnY lRzK5epZySAulxTXm7ln3QzHTrAStKNRfoRi7tZCC/dH1igR7wqIiez2dnDPlNXGeV2ObiGxjn7 rbtsDtxMcH/jlSh3l4qIinm+Fdh7KVwmeOWLEHWzrs1udjEs6r415E2ZEHLJbhMmuEepgWZVv0v 6BQ72gydGoCTA2y0xWb4LoPtH5ErPFk1BaywATl8zfaS98CzlIA461TLGdl1vVcJ3VBOiUvJMGX u/m2DYT+wuCGRq/bONmuAo90kQiUiQ== X-Google-Smtp-Source: AGHT+IG6Yu7CKgaoMb1/VSUlNLmqF0G9eJ1fQhFx2hqiIua3Radz5md2vj1usTIyG3PnrkkbchTR0jDI7Dee X-Received: by 2002:a05:690c:3707:b0:6f9:5530:f37e with SMTP id 00721157ae682-6f9b2a0d497mr12505537b3.37.1738886778936; Thu, 06 Feb 2025 16:06:18 -0800 (PST) Received: from postal.iol.unh.edu (postal.iol.unh.edu. [132.177.123.84]) by smtp-relay.gmail.com with ESMTPS id 00721157ae682-6f99ff94313sm307777b3.46.2025.02.06.16.06.18 (version=TLS1_2 cipher=ECDHE-ECDSA-AES128-GCM-SHA256 bits=128/128); Thu, 06 Feb 2025 16:06:18 -0800 (PST) X-Relaying-Domain: iol.unh.edu Date: Thu, 06 Feb 2025 16:06:18 -0800 (PST) Message-ID: <67a54e7a.050a0220.1a71ff.167aSMTPIN_ADDED_MISSING@mx.google.com> Received: from [172.21.0.5] (unknown [172.18.0.240]) by postal.iol.unh.edu (Postfix) with ESMTP id 9133F6052471; Thu, 6 Feb 2025 19:06:18 -0500 (EST) Subject: |SUCCESS| [GIT MASTER] 7125636162d67b1c40ba6802a3ff4466d125d243 From: dpdklab@iol.unh.edu To: Test Report Cc: dpdk-test-reports@iol.unh.edu, Akhil Goyal Content-Type: text/plain X-BeenThere: test-report@dpdk.org X-Mailman-Version: 2.1.29 Precedence: list List-Id: automatic DPDK test reports List-Unsubscribe: , List-Archive: List-Post: List-Help: List-Subscribe: , Errors-To: test-report-bounces@dpdk.org _Testing PASS_ Branch: dpdk-next-crypto 7125636162d67b1c40ba6802a3ff4466d125d243 --> testing pass Upstream job id: Generic-VM-DPDK-Compile-Meson#33108 Test environment and result as below: +---------------------+--------------------+-------------------+ | Environment | dpdk_meson_compile | dpdk_msvc_compile | +=====================+====================+===================+ | FreeBSD 13.4 | PASS | SKIPPED | +---------------------+--------------------+-------------------+ | FreeBSD 14.2 | PASS | SKIPPED | +---------------------+--------------------+-------------------+ | Windows Server 2022 | SKIPPED | PASS | +---------------------+--------------------+-------------------+ FreeBSD 13.4 Kernel: 13.4-RELEASE-p1 Compiler: clang 18.1.6 FreeBSD 14.2 Kernel: 14.2-RELEASE Compiler: clang 18.1.6 Windows Server 2022 Kernel: 10.0.20348.2031 Compiler: clang 15.0.7, gcc 14.1.0 (MinGW), and MSVC VS 19.39.33521 To view detailed results, visit: https://lab.dpdk.org/results/dashboard/tarballs/32476/ UNH-IOL DPDK Community Lab To manage your email subscriptions, visit: https://lab.dpdk.org/results/dashboard/preferences/subscriptions/