From mboxrd@z Thu Jan 1 00:00:00 1970 Return-Path: Received: from mails.dpdk.org (mails.dpdk.org [217.70.189.124]) by inbox.dpdk.org (Postfix) with ESMTP id 99015461AF for ; Fri, 7 Feb 2025 01:08:43 +0100 (CET) Received: from mails.dpdk.org (localhost [127.0.0.1]) by mails.dpdk.org (Postfix) with ESMTP id 74E03402D5; Fri, 7 Feb 2025 01:08:43 +0100 (CET) Received: from mail-io1-f98.google.com (mail-io1-f98.google.com [209.85.166.98]) by mails.dpdk.org (Postfix) with ESMTP id AEBC3402A7 for ; Fri, 7 Feb 2025 01:08:41 +0100 (CET) Received: by mail-io1-f98.google.com with SMTP id ca18e2360f4ac-844ce213af6so49657539f.1 for ; Thu, 06 Feb 2025 16:08:41 -0800 (PST) DKIM-Signature: v=1; a=rsa-sha256; c=relaxed/relaxed; d=iol.unh.edu; s=unh-iol; t=1738886921; x=1739491721; darn=dpdk.org; h=references:in-reply-to:cc:to:from:subject:message-id:date:from:to :cc:subject:date:message-id:reply-to; bh=QoP3pKwnCVy77RssK/3WLs0AgMUcQC5zI5cgTxYl608=; b=f3/tLwon4oyWh3JV5gov3Klu/y2j8erSkYHKpfAnuuwEvKlLjNNUZZ6fGf/VAy0Drr vWDRJy1QNTrH0Nr0jh1ldfhBz8KhR+yMX7pXhAOKGrs3yRKv6Jtva5BwsC1dzZUXxawU kruoO5hT9ltDg5UwZbh231AmDBJQWOTi7YCNc= X-Google-DKIM-Signature: v=1; a=rsa-sha256; c=relaxed/relaxed; d=1e100.net; s=20230601; t=1738886921; x=1739491721; h=references:in-reply-to:cc:to:from:subject:message-id:date :x-gm-message-state:from:to:cc:subject:date:message-id:reply-to; bh=QoP3pKwnCVy77RssK/3WLs0AgMUcQC5zI5cgTxYl608=; b=M873gKp8tKa5UHj+nhw+uU43o2WlKqCeVpRX9Xz9Nd5VXCduKMzFqetC2pWCfNQkEf 1OtW0sY/bRndmP+hs/r2LX/S23FdV7RNEz2GWxuEyOR5VC52LLGs6Lb/FvzI+yzCAOoZ oGoe1KH2Mq5h3b4c5soyaeAixo+QrOw2yEbc7AnaNtuAPsDRwCT0PnQ8BiwJTFDtRpB7 pjhEp8YfBy1DPziKjhfQdFZ2TZqPQUbmKUrl2obT9pSKcvYodp+J18jbKNWx6iTWwid4 CNKQLw4JNJy/wZvwaagVyGvGvDL/DeVrokBKxn1YqQ91s1AtaaeCL78fcIQvwWg5bJm7 S1Fw== X-Gm-Message-State: AOJu0Yy9CX4nH6k7xjniowfwF46zDdmmNwty0fNN3Kkt0ZRe6Ik0mOpZ vWd9LrLn9p/GxF8hGKY0OTGBeXrWYETOCJOrgq/XqdErpwPdpdzaVFN9XpBUlyGcC3a2utis45S 5HfGdPWGw3hdcSjsxoyfk2RAPWlP5l2v+HpoOC1UTeBbcWTxHyaOGcwuU X-Gm-Gg: ASbGncsuKutDTO0iTdwHpxRyXcjNMuomrnqDV4gWIrNwK5S0IT4UZ1C6ORqX1zYrfGa YVLXL/33ev7bOMZV9mk6EjoArzKE3Fmt5xdXxFpzKn2jdL0S53qALNM9Fxe1T1tdFSaOlPCkP6Y 5SI600KuRsRWt7ZTY2MWDHNIIVqIiNrMY6p53FZGUItlPG/qgh22VxKjdenjaeOkcGcGTLgVU5s c74iuONKZkD2a6wY3vI2P+cV+oWqHn8Hwdc1Jgbj0XtihmC4vxJ9dDlPEU3R6m8W6Mi27koLgGb rWAopeNZDPNW0t4d8VjJIE+11ODRI7YeiYyqJLn2NA== X-Google-Smtp-Source: AGHT+IH4EDncca8sgrzFh1prr/tZ3uRnLuos6wYIlt6qsomqqJ6IE2SMW9fVXbU7ZRxl1JzjbxWXWJwQ0ELP X-Received: by 2002:a05:6602:36cd:b0:83a:b43b:da89 with SMTP id ca18e2360f4ac-854fd9074a3mr135896839f.10.1738886920860; Thu, 06 Feb 2025 16:08:40 -0800 (PST) Received: from postal.iol.unh.edu (postal.iol.unh.edu. [2606:4100:3880:1234::84]) by smtp-relay.gmail.com with ESMTPS id ca18e2360f4ac-854f667e947sm12711739f.9.2025.02.06.16.08.40 (version=TLS1_2 cipher=ECDHE-ECDSA-AES128-GCM-SHA256 bits=128/128); Thu, 06 Feb 2025 16:08:40 -0800 (PST) X-Relaying-Domain: iol.unh.edu Date: Thu, 06 Feb 2025 16:08:40 -0800 (PST) Message-ID: <67a54f08.050a0220.31d9e0.6e5eSMTPIN_ADDED_MISSING@mx.google.com> Received: from [172.21.0.6] (unknown [172.18.0.240]) by postal.iol.unh.edu (Postfix) with ESMTP id 3250E6052471; Thu, 6 Feb 2025 19:08:40 -0500 (EST) Subject: |SUCCESS| pw151047-151070 [PATCH] [v1,24/24] net/e1000/base: skip MA From: dpdklab@iol.unh.edu To: Test Report Cc: dpdk-test-reports@iol.unh.edu In-Reply-To: <63259ddf726a037a6e9efb484b3ec53a8aa340d5.1738858026.git.anatoly.burakov@intel.com> References: <63259ddf726a037a6e9efb484b3ec53a8aa340d5.1738858026.git.anatoly.burakov@intel.com> Content-Type: text/plain X-BeenThere: test-report@dpdk.org X-Mailman-Version: 2.1.29 Precedence: list List-Id: automatic DPDK test reports List-Unsubscribe: , List-Archive: List-Post: List-Help: List-Subscribe: , Errors-To: test-report-bounces@dpdk.org Test-Label: iol-compile-amd64-testing Test-Status: SUCCESS http://dpdk.org/patch/151070 _Testing PASS_ Submitter: Anatoly Burakov Date: Thursday, February 06 2025 16:08:47 DPDK git baseline: Repo:dpdk Branch: master CommitID:abf3b7b7b361f8aa8d75ae00d449b588a0cdcda3 151047-151070 --> testing pass Upstream job id: Generic-DPDK-Compile-Meson#358664 Test environment and result as below: +---------------------+--------------------+-------------------+-------------------------+----------------------+------------------+-------------------+ | Environment | dpdk_meson_compile | dpdk_msvc_compile | dpdk_llvm_clang_compile | dpdk_mingw64_compile | dpdk_compile_ovs | dpdk_compile_spdk | +=====================+====================+===================+=========================+======================+==================+===================+ | FreeBSD 13.4 | PASS | SKIPPED | SKIPPED | SKIPPED | SKIPPED | SKIPPED | +---------------------+--------------------+-------------------+-------------------------+----------------------+------------------+-------------------+ | FreeBSD 14.2 | PASS | SKIPPED | SKIPPED | SKIPPED | SKIPPED | SKIPPED | +---------------------+--------------------+-------------------+-------------------------+----------------------+------------------+-------------------+ | CentOS Stream 9 | PASS | SKIPPED | SKIPPED | SKIPPED | PASS | PASS | +---------------------+--------------------+-------------------+-------------------------+----------------------+------------------+-------------------+ | Debian Bullseye | PASS | SKIPPED | SKIPPED | SKIPPED | PASS | PASS | +---------------------+--------------------+-------------------+-------------------------+----------------------+------------------+-------------------+ | Debian 12 | PASS | SKIPPED | SKIPPED | SKIPPED | PASS | PASS | +---------------------+--------------------+-------------------+-------------------------+----------------------+------------------+-------------------+ | Fedora 40 (Clang) | PASS | SKIPPED | SKIPPED | SKIPPED | PASS | PASS | +---------------------+--------------------+-------------------+-------------------------+----------------------+------------------+-------------------+ | Fedora 40 | PASS | SKIPPED | SKIPPED | SKIPPED | PASS | PASS | +---------------------+--------------------+-------------------+-------------------------+----------------------+------------------+-------------------+ | Fedora 41 (Clang) | PASS | SKIPPED | SKIPPED | SKIPPED | PASS | PASS | +---------------------+--------------------+-------------------+-------------------------+----------------------+------------------+-------------------+ | Fedora 41 | PASS | SKIPPED | SKIPPED | SKIPPED | PASS | PASS | +---------------------+--------------------+-------------------+-------------------------+----------------------+------------------+-------------------+ | openSUSE Leap 15 | PASS | SKIPPED | SKIPPED | SKIPPED | SKIPPED | SKIPPED | +---------------------+--------------------+-------------------+-------------------------+----------------------+------------------+-------------------+ | RHEL8 | PASS | SKIPPED | SKIPPED | SKIPPED | PASS | SKIPPED | +---------------------+--------------------+-------------------+-------------------------+----------------------+------------------+-------------------+ | RHEL9 | PASS | SKIPPED | SKIPPED | SKIPPED | PASS | SKIPPED | +---------------------+--------------------+-------------------+-------------------------+----------------------+------------------+-------------------+ | Ubuntu 20.04 | PASS | SKIPPED | SKIPPED | SKIPPED | SKIPPED | SKIPPED | +---------------------+--------------------+-------------------+-------------------------+----------------------+------------------+-------------------+ | Ubuntu 22.04 | PASS | SKIPPED | SKIPPED | SKIPPED | PASS | PASS | +---------------------+--------------------+-------------------+-------------------------+----------------------+------------------+-------------------+ | Ubuntu 24.04 | PASS | SKIPPED | SKIPPED | SKIPPED | PASS | PASS | +---------------------+--------------------+-------------------+-------------------------+----------------------+------------------+-------------------+ | Alpine | PASS | SKIPPED | SKIPPED | SKIPPED | PASS | SKIPPED | +---------------------+--------------------+-------------------+-------------------------+----------------------+------------------+-------------------+ | Windows Server 2022 | SKIPPED | PASS | PASS | PASS | SKIPPED | SKIPPED | +---------------------+--------------------+-------------------+-------------------------+----------------------+------------------+-------------------+ FreeBSD 13.4 Kernel: 13.4-RELEASE-p1 Compiler: clang 18.1.6 FreeBSD 14.2 Kernel: 14.2-RELEASE Compiler: clang 18.1.6 CentOS Stream 9 Kernel: Depends on container host Compiler: gcc 11.5.0 20240719 (Red Hat 11.5.0-2) Debian Bullseye Kernel: Depends on container host Compiler: gcc (Debian 10.2.1-6) 10.2.1 20210110 Debian 12 Kernel: Depends on container host Compiler: gcc (Debian 12.2.0-14) 12.2.0 Fedora 40 (Clang) Kernel: Depends on container host Compiler: clang 18.1.8 (Fedora 18.1.8-1.fc40) Fedora 40 Kernel: Depends on container host Compiler: gcc 14.2.1 20240912 (Red Hat 14.2.1-3) Fedora 41 (Clang) Kernel: Depends on container host Compiler: clang 19.1.5 (Fedora 19.1.5-1.fc41) Fedora 41 Kernel: Depends on container host Compiler: gcc 14.2.1 20240912 (Red Hat 14.2.1-3) openSUSE Leap 15 Kernel: Depends on container host Compiler: gcc (SUSE Linux) 7.5.0 RHEL8 Kernel: Depends on container host Compiler: gcc 8.5.0 20210514 (Red Hat 8.5.0-22) RHEL9 Kernel: Depends on container host Compiler: gcc 11.5.0 20240719 (Red Hat 11.5.0-2) Ubuntu 20.04 Kernel: Depends on container host Compiler: gcc (Ubuntu 9.4.0-1ubuntu1~20.04.2) 9.4.0 Ubuntu 22.04 Kernel: Depends on container host Compiler: gcc (Ubuntu 11.4.0-1ubuntu1~22.04) 11.4.0 Ubuntu 24.04 Kernel: Depends on container host Compiler: gcc (Ubuntu 13.3.0-6ubuntu2~24.04) 13.3.0 Alpine Kernel: Depends on container host Compiler: gcc (Alpine 14.2.0) 14.2.0 Windows Server 2022 Kernel: 10.0.20348.2031 Compiler: clang 15.0.7, gcc 14.1.0 (MinGW), and MSVC VS 19.39.33521 To view detailed results, visit: https://lab.dpdk.org/results/dashboard/patchsets/32513/ UNH-IOL DPDK Community Lab To manage your email subscriptions, visit: https://lab.dpdk.org/results/dashboard/preferences/subscriptions/