From mboxrd@z Thu Jan 1 00:00:00 1970 Return-Path: Received: from mails.dpdk.org (mails.dpdk.org [217.70.189.124]) by inbox.dpdk.org (Postfix) with ESMTP id 9E30E461AF for ; Fri, 7 Feb 2025 01:09:43 +0100 (CET) Received: from mails.dpdk.org (localhost [127.0.0.1]) by mails.dpdk.org (Postfix) with ESMTP id 984C2402D5; Fri, 7 Feb 2025 01:09:43 +0100 (CET) Received: from mail-pl1-f226.google.com (mail-pl1-f226.google.com [209.85.214.226]) by mails.dpdk.org (Postfix) with ESMTP id BB620402A7 for ; Fri, 7 Feb 2025 01:09:41 +0100 (CET) Received: by mail-pl1-f226.google.com with SMTP id d9443c01a7336-21f0c4275a1so23418795ad.2 for ; Thu, 06 Feb 2025 16:09:41 -0800 (PST) DKIM-Signature: v=1; a=rsa-sha256; c=relaxed/relaxed; d=iol.unh.edu; s=unh-iol; t=1738886981; x=1739491781; darn=dpdk.org; h=references:in-reply-to:cc:to:from:subject:message-id:date:from:to :cc:subject:date:message-id:reply-to; bh=f5jDOR8vP9kfnPS4x2fSwUVF0Ahcg34HfiKa/ektZyQ=; b=PkPf1r+8AehOtJxfRG5JjQf2LKx5YVhdvXQz44j2rBXOy4fJo6mOUyFowxRERZPvvI 3d0SdkEvxDF3GJH8waRk2hIdnc3ZWRbgCuirvwnDT49UTR3S3Y02uYYEuEESqDqv7WJO joaghFbfvLyBEB1XHzwheblnWDC+Y/hqCcHGA= X-Google-DKIM-Signature: v=1; a=rsa-sha256; c=relaxed/relaxed; d=1e100.net; s=20230601; t=1738886981; x=1739491781; h=references:in-reply-to:cc:to:from:subject:message-id:date :x-gm-message-state:from:to:cc:subject:date:message-id:reply-to; bh=f5jDOR8vP9kfnPS4x2fSwUVF0Ahcg34HfiKa/ektZyQ=; b=r3fXd4+jrtrKDrtzLo3Q0yvMqsSldQtTxVNxNregeBamyB4Yy804oXk4mSTJA7cOtt KOnXQ5fS7MjNlHHlIpbSyG7qUi1BPkR9dmNev1kttp/y62YeXlh8xdtYG+yjNqoNEj9A 3RoBuydhfTEsHEqJH4aVCFWRkVKuBGyBrFXVIghY5Aa8OAcb37H2SHoYzKiwf18T0BH1 LsH98unZXNqwF+2VMlSsCffHZOK48SBUBaM1YTa/UUulxGADH/mXMUeHgqSrI2C/c5Ya K1u0LjorMxTAzQTPeujOb9qfNXzFwm+VgcWVDdFO1LeixSdT1U7zBmpd42DTF0sQy7fr UOXA== X-Gm-Message-State: AOJu0YwU73smWcz8LKDnlVSVZpdfirduvWxoT2wjbKRKvK8IXrB0AJ/c oruqLecP9QQ2C51L4x0vz26LaLu7MikzoLylkx2UN0ujIc6ETvH4kHUk0WVrWadhyQoXLYY7HSo oD0PjBJegnVob0CvieTuQyU3baFqclwCv03vLr7Ta X-Gm-Gg: ASbGncvw4+TeEuPcp1g7ymhnm9oJUJf2pjtK7vCKxXzz1cpnaTLSYuAUKudQZk7eSxL ZXI7kLT6Wuo0wpWfVG+PyY9TXM0q/GBpRFsdnFpKg4yUwEiZmoTmjk0ePN0A2iKia0sLtPXSRgL /PXh7wAQ17T7YynPqLBSgkKCGUi4OjJPsyJ9SW2eqd7Bl4CVFP6+4RP9dLs/gqg7BUkVtM0vVpN 97u09NJWJngFUNQiqPE551BOoPWK4sFOEceLhfrtlgHIuSakOQebftiTAqYacDp+G2TwSUJTdWa IWL8xs4udIMy/7uSKRe15/KMY1pOcg== X-Google-Smtp-Source: AGHT+IFUg35uk6ZRKfKk5KAwQOrytkW4E1pHKwVnF1opDFf7pNKD0o+we9j5pkvePu0px2sfaYj4WYLg1uru X-Received: by 2002:a05:6a21:3406:b0:1e2:5cf:c8d6 with SMTP id adf61e73a8af0-1ee03b6f10amr2479963637.36.1738886980628; Thu, 06 Feb 2025 16:09:40 -0800 (PST) Received: from postal.iol.unh.edu (postal.iol.unh.edu. [132.177.123.84]) by smtp-relay.gmail.com with ESMTPS id d2e1a72fcca58-73048ad5480sm113582b3a.7.2025.02.06.16.09.40 (version=TLS1_2 cipher=ECDHE-ECDSA-AES128-GCM-SHA256 bits=128/128); Thu, 06 Feb 2025 16:09:40 -0800 (PST) X-Relaying-Domain: iol.unh.edu Date: Thu, 06 Feb 2025 16:09:40 -0800 (PST) Message-ID: <67a54f44.050a0220.980eb.66b7SMTPIN_ADDED_MISSING@mx.google.com> Received: from [172.21.0.5] (unknown [172.18.0.240]) by postal.iol.unh.edu (Postfix) with ESMTP id CD56E6052471; Thu, 6 Feb 2025 19:09:39 -0500 (EST) Subject: |SUCCESS| pw150647 [PATCH] dma/idxd: add device ids for new HW versi From: dpdklab@iol.unh.edu To: Test Report Cc: dpdk-test-reports@iol.unh.edu In-Reply-To: <20250130172624.1450975-2-bruce.richardson@intel.com> References: <20250130172624.1450975-2-bruce.richardson@intel.com> Content-Type: text/plain X-BeenThere: test-report@dpdk.org X-Mailman-Version: 2.1.29 Precedence: list List-Id: automatic DPDK test reports List-Unsubscribe: , List-Archive: List-Post: List-Help: List-Subscribe: , Errors-To: test-report-bounces@dpdk.org Test-Label: iol-sample-apps-testing Test-Status: SUCCESS http://dpdk.org/patch/150647 _Testing PASS RETEST #1_ Submitter: Bruce Richardson Date: Thursday, January 30 2025 17:26:25 DPDK git baseline: Repo:dpdk Branch: master CommitID:8c565bbebb8f72decbc4af6a69cb76f07bffc472 150647 --> testing pass Upstream job id: Template-DTS-Pipeline#211233 Test environment and result as below: +--------------------+----------------------+----------------------+ | Environment | compressdev_zlib_pmd | dpdk_fips_validation | +====================+======================+======================+ | Ubuntu 22.04 (ARM) | PASS | SKIPPED | +--------------------+----------------------+----------------------+ | Ubuntu 22.04 | PASS | SKIPPED | +--------------------+----------------------+----------------------+ | Ubuntu 20.04 | SKIPPED | PASS | +--------------------+----------------------+----------------------+ Ubuntu 22.04 (ARM) Kernel: 5.15.0-97-generic Compiler: gcc gcc (Ubuntu 11.4.0-1ubuntu1~22.04) 11.4.0 Ubuntu 22.04 Kernel: 5.15.0-100-generic Compiler: gcc gcc (Ubuntu 11.4.0-1ubuntu1~22.04) 11.4.0 Ubuntu 20.04 Kernel: Depends on container host Compiler: gcc (Ubuntu 9.4.0-1ubuntu1~20.04.2) 9.4.0 To view detailed results, visit: https://lab.dpdk.org/results/dashboard/patchsets/32464/ UNH-IOL DPDK Community Lab To manage your email subscriptions, visit: https://lab.dpdk.org/results/dashboard/preferences/subscriptions/