From mboxrd@z Thu Jan 1 00:00:00 1970 Return-Path: Received: from mails.dpdk.org (mails.dpdk.org [217.70.189.124]) by inbox.dpdk.org (Postfix) with ESMTP id E5E36461AF for ; Fri, 7 Feb 2025 01:10:57 +0100 (CET) Received: from mails.dpdk.org (localhost [127.0.0.1]) by mails.dpdk.org (Postfix) with ESMTP id DD74F402D5; Fri, 7 Feb 2025 01:10:57 +0100 (CET) Received: from mail-il1-f226.google.com (mail-il1-f226.google.com [209.85.166.226]) by mails.dpdk.org (Postfix) with ESMTP id B73C9402A7 for ; Fri, 7 Feb 2025 01:10:55 +0100 (CET) Received: by mail-il1-f226.google.com with SMTP id e9e14a558f8ab-3d051dca3b6so5221835ab.1 for ; Thu, 06 Feb 2025 16:10:55 -0800 (PST) DKIM-Signature: v=1; a=rsa-sha256; c=relaxed/relaxed; d=iol.unh.edu; s=unh-iol; t=1738887055; x=1739491855; darn=dpdk.org; h=references:in-reply-to:cc:to:from:subject:message-id:date:from:to :cc:subject:date:message-id:reply-to; bh=aNaaq1olsB0EJT5Lp5PaemUlKzTxOMeTsjTasMRWiVg=; b=hpZ/f9FeukmwFxlaAGCwdOoKIbO1+R24bZNUxFmIj+c4M9n+Qz6/sG6qXhn/uwZadC q+z/4IjCE23Yj556CGmJL3gs2GEMIXjSTIS6uUTLFRyXr7FzkIBAciYk4Bst3RTr+K4Y lgekcqLXTmQNNRe8FnXHSs74Cvb3FRHivNuSM= X-Google-DKIM-Signature: v=1; a=rsa-sha256; c=relaxed/relaxed; d=1e100.net; s=20230601; t=1738887055; x=1739491855; h=references:in-reply-to:cc:to:from:subject:message-id:date :x-gm-message-state:from:to:cc:subject:date:message-id:reply-to; bh=aNaaq1olsB0EJT5Lp5PaemUlKzTxOMeTsjTasMRWiVg=; b=Z2eBdbyq9PoU0+GYmnRDiXibn4gJxA5RyFRiOJQyQbSh+6HbEn3NCoER6yZmRX+RHO 6LckEL9klsoYiNJL2ihRcXt9pHzVSM9+W2/eMM3jqCHxWriPBF/2Y+8+BXMcnWPKdM+u nJHbvuz37g1bOT0mCMJaFRMFmb3YE5RuqF7KqsTxVG9KB2Yy1I1JbcceVQp2uMBly3qB I+oQTfbQrFXBfQfAluRqJufvMDCZKliyCuESnHHow5wU9QFSJUCBcpc/g9Hjyh2CTU4f jHzrdONEF7UN/ckNK7o/vRYu0Y1T4SYoEsXvcRl7bc3mwrfyBY/CsOEoZDjT0EwNG5w4 5iKw== X-Gm-Message-State: AOJu0YzGGUMrTg611zgIZY7KwTMY+3fuMnJfbItzyOXP59f0ZkYolJEr GGGyOm4vaZowb4nKS9p5gszbahee+Ry+1ZVaNjDrISWCHqnjeyeAzwmDuVmUpFPP5u2obeh/gLa IGB7JHNj/MQhDtGyEWffkRvo5CeoIeMKwdkSaPXg2 X-Gm-Gg: ASbGncs59g/aaV1zMX7kRrfaOJTG8SUXruV+2MNd7tPpcRrJh19hGxLE8Ar+RxY+cf+ AbgwyBoqQ0Lm7ZG+3ELgP5XbX6cZwn7EVLOlnquueRQ93OTqmfrDQ7xlXT96v4Rqi6kG3WLNupQ ez3REABMvzBP1eOMm8Whcduqv57Vt3h3ZsXoLs8W9aOO9ZgFw/2hYzro0D0uSuLi3joQnmHTQvo HYKhTZV0TI93RXzEWdCPQP5mcFQqW6hD7E5OGbcEJJWD2pj+le0eJ/szRTWTsxEq/E4a7ahTq+q NYiiv/sb3NHZ4drll+wh+VkH2Pkm0w== X-Google-Smtp-Source: AGHT+IGo475wKbkqQd8PPi+He+rPz9RJoKJIBOnYKAQIGa3xvdYhf2KchmcYanaijOUTuLegeNt4ZjZ/Do+V X-Received: by 2002:a05:6e02:12c5:b0:3d0:17d2:a02c with SMTP id e9e14a558f8ab-3d13df7927amr8480305ab.20.1738887055010; Thu, 06 Feb 2025 16:10:55 -0800 (PST) Received: from postal.iol.unh.edu (postal.iol.unh.edu. [132.177.123.84]) by smtp-relay.gmail.com with ESMTPS id 8926c6da1cb9f-4eccf9a9838sm145529173.6.2025.02.06.16.10.54 (version=TLS1_2 cipher=ECDHE-ECDSA-AES128-GCM-SHA256 bits=128/128); Thu, 06 Feb 2025 16:10:55 -0800 (PST) X-Relaying-Domain: iol.unh.edu Date: Thu, 06 Feb 2025 16:10:55 -0800 (PST) Message-ID: <67a54f8f.050a0220.29559c.7f19SMTPIN_ADDED_MISSING@mx.google.com> Received: from [172.21.0.6] (unknown [172.18.0.240]) by postal.iol.unh.edu (Postfix) with ESMTP id A0D5B6052471; Thu, 6 Feb 2025 19:10:54 -0500 (EST) Subject: |SUCCESS| pw151071 [PATCH] [v3] net: add thread-safe crc api From: dpdklab@iol.unh.edu To: Test Report Cc: dpdk-test-reports@iol.unh.edu In-Reply-To: <20250206203844.3874038-1-arkadiuszx.kusztal@intel.com> References: <20250206203844.3874038-1-arkadiuszx.kusztal@intel.com> Content-Type: text/plain X-BeenThere: test-report@dpdk.org X-Mailman-Version: 2.1.29 Precedence: list List-Id: automatic DPDK test reports List-Unsubscribe: , List-Archive: List-Post: List-Help: List-Subscribe: , Errors-To: test-report-bounces@dpdk.org Test-Label: iol-compile-amd64-testing Test-Status: SUCCESS http://dpdk.org/patch/151071 _Testing PASS_ Submitter: Kusztal, ArkadiuszX Date: Thursday, February 06 2025 20:38:44 DPDK git baseline: Repo:dpdk Branch: master CommitID:7125636162d67b1c40ba6802a3ff4466d125d243 151071 --> testing pass Upstream job id: Windows-Compile-DPDK-VS#4845 Test environment and result as below: +---------------------+--------------------+-------------------+ | Environment | dpdk_meson_compile | dpdk_msvc_compile | +=====================+====================+===================+ | FreeBSD 13.4 | PASS | SKIPPED | +---------------------+--------------------+-------------------+ | FreeBSD 14.2 | PASS | SKIPPED | +---------------------+--------------------+-------------------+ | Windows Server 2022 | SKIPPED | PASS | +---------------------+--------------------+-------------------+ FreeBSD 13.4 Kernel: 13.4-RELEASE-p1 Compiler: clang 18.1.6 FreeBSD 14.2 Kernel: 14.2-RELEASE Compiler: clang 18.1.6 Windows Server 2022 Kernel: 10.0.20348.2031 Compiler: clang 15.0.7, gcc 14.1.0 (MinGW), and MSVC VS 19.39.33521 To view detailed results, visit: https://lab.dpdk.org/results/dashboard/patchsets/32514/ UNH-IOL DPDK Community Lab To manage your email subscriptions, visit: https://lab.dpdk.org/results/dashboard/preferences/subscriptions/