From mboxrd@z Thu Jan 1 00:00:00 1970 Return-Path: Received: from mails.dpdk.org (mails.dpdk.org [217.70.189.124]) by inbox.dpdk.org (Postfix) with ESMTP id 4B1BA461AF for ; Fri, 7 Feb 2025 01:11:38 +0100 (CET) Received: from mails.dpdk.org (localhost [127.0.0.1]) by mails.dpdk.org (Postfix) with ESMTP id 47033402D5; Fri, 7 Feb 2025 01:11:38 +0100 (CET) Received: from mail-pl1-f227.google.com (mail-pl1-f227.google.com [209.85.214.227]) by mails.dpdk.org (Postfix) with ESMTP id 402E4402A7 for ; Fri, 7 Feb 2025 01:11:37 +0100 (CET) Received: by mail-pl1-f227.google.com with SMTP id d9443c01a7336-21f0bc811dbso38906905ad.1 for ; Thu, 06 Feb 2025 16:11:37 -0800 (PST) DKIM-Signature: v=1; a=rsa-sha256; c=relaxed/relaxed; d=iol.unh.edu; s=unh-iol; t=1738887096; x=1739491896; darn=dpdk.org; h=references:in-reply-to:cc:to:from:subject:message-id:date:from:to :cc:subject:date:message-id:reply-to; bh=rLNf6h6JQUSFXKxjVzh26rFOTXcvQvMvYHfSf8JQV30=; b=JgbgH+xIPXv8NvPWSzh6qcxi8uQeZn48OX8a/72b6qhxmjFkM6Yo1JYtyFa6fSUdRK MV/r+jzWEkx0PHuViXSyKS16TeB4c4lCsSO6oUnPn4FrNXh1n4zcjBNMZGq8GG/mRPg8 pli6BsOKUqqPH2qXRUMZUREFpEgnrey4weKew= X-Google-DKIM-Signature: v=1; a=rsa-sha256; c=relaxed/relaxed; d=1e100.net; s=20230601; t=1738887096; x=1739491896; h=references:in-reply-to:cc:to:from:subject:message-id:date :x-gm-message-state:from:to:cc:subject:date:message-id:reply-to; bh=rLNf6h6JQUSFXKxjVzh26rFOTXcvQvMvYHfSf8JQV30=; b=OJHTTFM/RG5+s2iGVSrozXG9uJtlDahfh2fkhIaUc6UVTuW+Az13cM+N+xtsoCQoFF c7SKHEbvJ7qUcbUdfHlsoow548cT3ANtHgtchEKwQ72yEkoXywV/eDhRjiKRs/hNJ9+4 gGO2C1OXt1efdxi+mmko74pPP4nCSJoIo5YHpyVNdW21edttNH91NM906KGO1sbLuuzn gvHaGTexT4aahyQJJPkM9K/eBFk8k1HeamuB76ceSYTouZ0FFKPBogXNy4vC8VzPGMTk rsEqh4TGc1X8AlFh6bkzyN33EYUTtUPFSuAx/YOgfpR4ufp/oZt++Xz3c/PFhT18B1du KPAA== X-Gm-Message-State: AOJu0YyOeHU2di/7d6zHxeNgorYGc+GhrTi+7tpHqK2kVZIaNHe22+hS OcplpHsgiYXMvdfCqYT4AAIzsuvMONYqSWg1lUmMj/EEx6MHlvyblVAezBgDA3PJwJ5UUAqK+bP 6KrqQcCUaj2rUkNHWbN9nGjwvHdwJkESdObv7aXxL5xZ1UjJCI4DnmcWJ X-Gm-Gg: ASbGncudYSDlxfG+TQeKfFwXJVZ3PoIFZPSTwXn3OAALyuf11tYOympjee+7jU0s9A8 5+FYcblxeAodJHLqs/kvXfwd/YO669G13VF51V0VFO2tUIJpeZwBf0C0FyDbKBNGax9WKZPPbi4 JpmuZxDRf3Hm5DZ7icZed+K3XCfJHZRJ4zZPlgmX4X8u+xW/aNi1K1S0tW8OubltLJjY71YIwZW f614pDLDbwayOfY7O41F6B+jo2jqT+c3wBjm4Na0YrXulLFw6+Mm4HradUFhXJXXQkk48Ffue96 ReMsfqSufWQCuy9HLM+S6LebIdSb1Af+SYyg9Oufhw== X-Google-Smtp-Source: AGHT+IGM65j1zjJrF5Ya3wDSDHEyymR71TCx6UwF4HF3Ic6lZ3DyBcXV5KzSxoIVo1pQdNuBbVo6BNxBMsvV X-Received: by 2002:a05:6a20:244a:b0:1e1:b023:6c89 with SMTP id adf61e73a8af0-1edf36c75cdmr8264885637.15.1738887096372; Thu, 06 Feb 2025 16:11:36 -0800 (PST) Received: from postal.iol.unh.edu (postal.iol.unh.edu. [2606:4100:3880:1234::84]) by smtp-relay.gmail.com with ESMTPS id 41be03b00d2f7-ad51aee7f8dsm134811a12.17.2025.02.06.16.11.36 (version=TLS1_2 cipher=ECDHE-ECDSA-AES128-GCM-SHA256 bits=128/128); Thu, 06 Feb 2025 16:11:36 -0800 (PST) X-Relaying-Domain: iol.unh.edu Date: Thu, 06 Feb 2025 16:11:36 -0800 (PST) Message-ID: <67a54fb8.630a0220.9be8d.7d13SMTPIN_ADDED_MISSING@mx.google.com> Received: from [172.21.0.6] (unknown [172.18.0.240]) by postal.iol.unh.edu (Postfix) with ESMTP id 8F7476052471; Thu, 6 Feb 2025 19:11:35 -0500 (EST) Subject: |SUCCESS| pw151071 [PATCH] [v3] net: add thread-safe crc api From: dpdklab@iol.unh.edu To: Test Report Cc: dpdk-test-reports@iol.unh.edu In-Reply-To: <20250206203844.3874038-1-arkadiuszx.kusztal@intel.com> References: <20250206203844.3874038-1-arkadiuszx.kusztal@intel.com> Content-Type: text/plain X-BeenThere: test-report@dpdk.org X-Mailman-Version: 2.1.29 Precedence: list List-Id: automatic DPDK test reports List-Unsubscribe: , List-Archive: List-Post: List-Help: List-Subscribe: , Errors-To: test-report-bounces@dpdk.org Test-Label: iol-compile-amd64-testing Test-Status: SUCCESS http://dpdk.org/patch/151071 _Testing PASS_ Submitter: Kusztal, ArkadiuszX Date: Thursday, February 06 2025 20:38:44 DPDK git baseline: Repo:dpdk Branch: master CommitID:7125636162d67b1c40ba6802a3ff4466d125d243 151071 --> testing pass Upstream job id: Generic-VM-DPDK-Compile-Meson#33110 Test environment and result as below: +---------------------+--------------------+-------------------+ | Environment | dpdk_meson_compile | dpdk_msvc_compile | +=====================+====================+===================+ | FreeBSD 13.4 | PASS | SKIPPED | +---------------------+--------------------+-------------------+ | FreeBSD 14.2 | PASS | SKIPPED | +---------------------+--------------------+-------------------+ | Windows Server 2022 | SKIPPED | PASS | +---------------------+--------------------+-------------------+ FreeBSD 13.4 Kernel: 13.4-RELEASE-p1 Compiler: clang 18.1.6 FreeBSD 14.2 Kernel: 14.2-RELEASE Compiler: clang 18.1.6 Windows Server 2022 Kernel: 10.0.20348.2031 Compiler: clang 15.0.7, gcc 14.1.0 (MinGW), and MSVC VS 19.39.33521 To view detailed results, visit: https://lab.dpdk.org/results/dashboard/patchsets/32514/ UNH-IOL DPDK Community Lab To manage your email subscriptions, visit: https://lab.dpdk.org/results/dashboard/preferences/subscriptions/