From mboxrd@z Thu Jan 1 00:00:00 1970 Return-Path: Received: from mails.dpdk.org (mails.dpdk.org [217.70.189.124]) by inbox.dpdk.org (Postfix) with ESMTP id 0F7E1461AF for ; Fri, 7 Feb 2025 01:26:48 +0100 (CET) Received: from mails.dpdk.org (localhost [127.0.0.1]) by mails.dpdk.org (Postfix) with ESMTP id D3DE9402D5; Fri, 7 Feb 2025 01:26:47 +0100 (CET) Received: from mail-qv1-f99.google.com (mail-qv1-f99.google.com [209.85.219.99]) by mails.dpdk.org (Postfix) with ESMTP id EF925402A7 for ; Fri, 7 Feb 2025 01:26:46 +0100 (CET) Received: by mail-qv1-f99.google.com with SMTP id 6a1803df08f44-6e1a41935c3so20613506d6.3 for ; Thu, 06 Feb 2025 16:26:46 -0800 (PST) DKIM-Signature: v=1; a=rsa-sha256; c=relaxed/relaxed; d=iol.unh.edu; s=unh-iol; t=1738888006; x=1739492806; darn=dpdk.org; h=references:in-reply-to:cc:to:from:subject:message-id:date:from:to :cc:subject:date:message-id:reply-to; bh=gb1kfuoW3THYwvbgtyqIobRsLxh1g2zPez5/KdoorcA=; b=eEP4sSOzbq4saZimtMpwtnKRQr1XFyVFuLwW+dRVOELaNVBiFXk/wf+z/CLrq2BYnp gk8/LztvWHRw/0EWfJwrINWhAp8t8I8WcgV5W9CpkHXay6n0O3INL3Rk5TzZ3W2hhYqe 7ST7lCm4E80EZibStwE8kmITDZcbsnyRq8svI= X-Google-DKIM-Signature: v=1; a=rsa-sha256; c=relaxed/relaxed; d=1e100.net; s=20230601; t=1738888006; x=1739492806; h=references:in-reply-to:cc:to:from:subject:message-id:date :x-gm-message-state:from:to:cc:subject:date:message-id:reply-to; bh=gb1kfuoW3THYwvbgtyqIobRsLxh1g2zPez5/KdoorcA=; b=JaY3v8EZVtOOJiD7ImDN1L9F5ajuq2h9TXyk9vLJgyi6XYTkYywWnXgW9IDhFl0I2u /9sqibO7wGMqsWDLU4wjkB/qza/godAuERz66jw1vfg3xoEciYMO5dVoYMLBfwTf+qak Vfl41r4U+uewq9eXdxUuBCqwvXttPTE2kYEZoNOPqUiXGUDC5okI9lH9mvUFjTWeXFSH zVpvsPOnSfCTH+h7bVSLXuDiJbF30IvivZNzeHRjl4lwmFVA+2h2c4KIfYa2EsAVBSgv nKL7iUQo1E6xiDd0/irIjmkg36lt0cBQzHw6tvNXyDqAEAUtxrr14M2qdHK6QpLJIMK4 s0QA== X-Gm-Message-State: AOJu0Yy3B1INhNjnUZNrAdG0Q17vhP6/r7kXMzXWTQmpsmIyxc0D3uPc g+lg0XFzT81nzaxDFjz3ophbPFZUshFfZV5wYZbU0i42/rlnMXFr9Y90/PotIt9f/D0+cW7ig2D DUoUmBqmXCp3Ni+heaN5kHnXLBFRzpxA1fHd9am7q4mFPmyOen6YgOSon X-Gm-Gg: ASbGncuByj+0n9PYVhsjiPyLKx6d58UzX708tHjywPV4UkHEQn2SKz8//kc3AD+nU7R tG3aW7onjrTrH1aXFTa0FEc7R5eaxfF3WlxcOOYPl7MF0PCv+i6M9yVEUATCN5DFPiz9FW/CHz4 rQuO38HEX381o/7yWSlMiYABN0cQM79/VDJCpTAgLePDVQvwUeQtLrmqaEdu0bCRRqG2vgXhrsk 0tytZzwbmGB4c/gQxlX70PE8tPgPKzmZA7WdlR09YHm7j3DR4qEPgbPMmjUdzUBMae59S5tIwIc QO/U2qE7O3Eq91qBDdHYLTs0nnCJzL6EjOy/pPkIQg== X-Google-Smtp-Source: AGHT+IEZw7LNbWo8rLwa3JtDdcjw5H8Y8RsfMySWZ+Hg5WEWFtfYy6Y6Gj+plrWAq9RhoAO8XK6sAWHiDuPK X-Received: by 2002:a05:6214:dc7:b0:6e4:27c6:77b9 with SMTP id 6a1803df08f44-6e4455f3507mr16708876d6.11.1738888006336; Thu, 06 Feb 2025 16:26:46 -0800 (PST) Received: from postal.iol.unh.edu (postal.iol.unh.edu. [2606:4100:3880:1234::84]) by smtp-relay.gmail.com with ESMTPS id 6a1803df08f44-6e43bb0cc08sm1444736d6.63.2025.02.06.16.26.46 (version=TLS1_2 cipher=ECDHE-ECDSA-AES128-GCM-SHA256 bits=128/128); Thu, 06 Feb 2025 16:26:46 -0800 (PST) X-Relaying-Domain: iol.unh.edu Date: Thu, 06 Feb 2025 16:26:46 -0800 (PST) Message-ID: <67a55346.050a0220.3867de.8426SMTPIN_ADDED_MISSING@mx.google.com> Received: from [172.21.0.6] (unknown [172.18.0.240]) by postal.iol.unh.edu (Postfix) with ESMTP id 05E356052471; Thu, 6 Feb 2025 19:26:46 -0500 (EST) Subject: |SUCCESS| pw151046 [PATCH] test/event: fix number of queues in event From: dpdklab@iol.unh.edu To: Test Report Cc: dpdk-test-reports@iol.unh.edu In-Reply-To: <20250206143244.524451-1-sthotton@marvell.com> References: <20250206143244.524451-1-sthotton@marvell.com> Content-Type: text/plain X-BeenThere: test-report@dpdk.org X-Mailman-Version: 2.1.29 Precedence: list List-Id: automatic DPDK test reports List-Unsubscribe: , List-Archive: List-Post: List-Help: List-Subscribe: , Errors-To: test-report-bounces@dpdk.org Test-Label: iol-unit-arm64-testing Test-Status: SUCCESS http://dpdk.org/patch/151046 _Testing PASS_ Submitter: Shijith Thotton Date: Thursday, February 06 2025 14:32:44 DPDK git baseline: Repo:dpdk Branch: master CommitID:32c18e7364e30a8e43cc7cc6709a7ce606fa285e 151046 --> testing pass Upstream job id: Generic-Unit-Test-DPDK#312333 Test environment and result as below: +-----------------------------+----------------+---------------------------+------------------------------+--------------+ | Environment | dpdk_unit_test | cryptodev_sw_zuc_autotest | cryptodev_sw_snow3g_autotest | lpm_autotest | +=============================+================+===========================+==============================+==============+ | CentOS Stream 9 (ARM) | PASS | SKIPPED | SKIPPED | SKIPPED | +-----------------------------+----------------+---------------------------+------------------------------+--------------+ | Debian 11 (Buster) (ARM) | PASS | SKIPPED | SKIPPED | SKIPPED | +-----------------------------+----------------+---------------------------+------------------------------+--------------+ | Debian 12 (arm) | PASS | PASS | PASS | SKIPPED | +-----------------------------+----------------+---------------------------+------------------------------+--------------+ | Fedora 40 (ARM Clang) | PASS | SKIPPED | SKIPPED | SKIPPED | +-----------------------------+----------------+---------------------------+------------------------------+--------------+ | Fedora 40 (ARM) | PASS | SKIPPED | SKIPPED | SKIPPED | +-----------------------------+----------------+---------------------------+------------------------------+--------------+ | Fedora 41 (ARM) | PASS | SKIPPED | SKIPPED | SKIPPED | +-----------------------------+----------------+---------------------------+------------------------------+--------------+ | RHEL9 (ARM) | PASS | SKIPPED | SKIPPED | SKIPPED | +-----------------------------+----------------+---------------------------+------------------------------+--------------+ | Ubuntu 20.04 (ARM) | PASS | SKIPPED | SKIPPED | SKIPPED | +-----------------------------+----------------+---------------------------+------------------------------+--------------+ | Fedora 41 (ARM Clang) | PASS | SKIPPED | SKIPPED | SKIPPED | +-----------------------------+----------------+---------------------------+------------------------------+--------------+ | Ubuntu 24.04 (ARM) | PASS | SKIPPED | SKIPPED | SKIPPED | +-----------------------------+----------------+---------------------------+------------------------------+--------------+ | 32-bit Ubuntu 22.04.4 (ARM) | PASS | SKIPPED | SKIPPED | SKIPPED | +-----------------------------+----------------+---------------------------+------------------------------+--------------+ | Ubuntu 22.04 (ARM) | PASS | SKIPPED | SKIPPED | SKIPPED | +-----------------------------+----------------+---------------------------+------------------------------+--------------+ | Ubuntu 20.04 ARM SVE | SKIPPED | SKIPPED | SKIPPED | PASS | +-----------------------------+----------------+---------------------------+------------------------------+--------------+ CentOS Stream 9 (ARM) Kernel: Depends on container host Compiler: gcc 11.5.0 20240719 (Red Hat 11.5.0-2) Debian 11 (Buster) (ARM) Kernel: Depends on container host Compiler: gcc (Debian 10.2.1-6) 10.2.1 20210110 Debian 12 (arm) Kernel: Depends on container host Compiler: gcc (Debian 12.2.0-14) 12.2.0 Fedora 40 (ARM Clang) Kernel: Depends on container host Compiler: clang 18.1.8 (Fedora 18.1.8-1.fc40) Fedora 40 (ARM) Kernel: Depends on container host Compiler: gcc 14.2.1 20240912 (Red Hat 14.2.1-3) Fedora 41 (ARM) Kernel: Depends on container host Compiler: gcc 14.2.1 20240912 (Red Hat 14.2.1-3) RHEL9 (ARM) Kernel: Depends on container host Compiler: gcc 11.5.0 20240719 (Red Hat 11.5.0-2) Ubuntu 20.04 (ARM) Kernel: Depends on container host Compiler: gcc (Ubuntu 9.4.0-1ubuntu1~20.04.2) 9.4.0 Fedora 41 (ARM Clang) Kernel: Depends on container host Compiler: clang 19.1.5 (Fedora 19.1.5-1.fc41) Ubuntu 24.04 (ARM) Kernel: Depends on container host Compiler: gcc (Ubuntu 13.3.0-6ubuntu2~24.04) 13.3.0 32-bit Ubuntu 22.04.4 (ARM) Kernel: 5.15.83+ aarch64 Compiler: gcc (Ubuntu 11.4.0-1ubuntu1~22.04) 11.4.0 Ubuntu 22.04 (ARM) Kernel: Depends on container host Compiler: gcc (Ubuntu 11.4.0-1ubuntu1~22.04) 11.4.0 Ubuntu 20.04 ARM SVE Kernel: Depends on container host Compiler: gcc (Ubuntu 10.5.0-1ubuntu1~20.04) 10.5.0 To view detailed results, visit: https://lab.dpdk.org/results/dashboard/patchsets/32512/ UNH-IOL DPDK Community Lab To manage your email subscriptions, visit: https://lab.dpdk.org/results/dashboard/preferences/subscriptions/