From mboxrd@z Thu Jan 1 00:00:00 1970 Return-Path: Received: from mails.dpdk.org (mails.dpdk.org [217.70.189.124]) by inbox.dpdk.org (Postfix) with ESMTP id D4917461AF for ; Fri, 7 Feb 2025 01:34:25 +0100 (CET) Received: from mails.dpdk.org (localhost [127.0.0.1]) by mails.dpdk.org (Postfix) with ESMTP id CC5BD402D5; Fri, 7 Feb 2025 01:34:25 +0100 (CET) Received: from mail-qk1-f225.google.com (mail-qk1-f225.google.com [209.85.222.225]) by mails.dpdk.org (Postfix) with ESMTP id E8A91402A7 for ; Fri, 7 Feb 2025 01:34:24 +0100 (CET) Received: by mail-qk1-f225.google.com with SMTP id af79cd13be357-7b702c3c021so142636985a.3 for ; Thu, 06 Feb 2025 16:34:24 -0800 (PST) DKIM-Signature: v=1; a=rsa-sha256; c=relaxed/relaxed; d=iol.unh.edu; s=unh-iol; t=1738888464; x=1739493264; darn=dpdk.org; h=cc:to:from:subject:message-id:date:from:to:cc:subject:date :message-id:reply-to; bh=kD+SmrmNPtBN8x/b45EI6w01hzLWRvALLT4y7UPTy5o=; b=EwYsXYSMA5nUt5ASth/pwckLpek41eqE4wI4kvy4gOn/+qtGHamEKMNIbOeVc/oLlQ +NXxWxG2Hm0er128w2k0WiahDtpPIpBU0lzNvBkLUktkfzExdABF/qOfrKj6gPUEYLIW bCcLjMVtP04na/czgwdwEmJKEhrDxPZEQTPxs= X-Google-DKIM-Signature: v=1; a=rsa-sha256; c=relaxed/relaxed; d=1e100.net; s=20230601; t=1738888464; x=1739493264; h=cc:to:from:subject:message-id:date:x-gm-message-state:from:to:cc :subject:date:message-id:reply-to; bh=kD+SmrmNPtBN8x/b45EI6w01hzLWRvALLT4y7UPTy5o=; b=awqULSWk232mDRLuGMH/i46AdY/AMvfAQWEzUq0Tueq5ptD1hi+mTF4xxztHqKVezy oVysDiCOpRSVaiJs7azb9aC8dsd+hBu2PrrEDsD+NEybB+MbOdbN7S90HZUyazuKwuVb pBljDqevDZBuCcu7z5rkWiJARtKEbJnBR4DiQsriG1/sen0jP/CvQlEEdhqECIB5SRz0 cVO1+JXZktDfxSy6ykVC7uAq830mEX0fa53XzYRd4YA8161n1/5VmFSFHEG+DF1P+tcj cVENdU1PtgfyaiCxfF+KncrRRfWf8ZCdjCg44w2lks5pyZW3byoFMiY6GXlBM5woz8TG vd1Q== X-Gm-Message-State: AOJu0YzebdKy5tCp9SpgLiTqSQGakjX7tA1RrcgG+8/OekxHEatv8w4L QqxNdmoWsBX0vZtrsekDZJTbFAD30ssHf4I475Ch9R/rQLskdK/NyaLrq3B4CXz7HlWYN27/37j 4q4PxtTdtgjJfWZOhWZhTm4ThGknJol0MzMBxJsD6JslAhLQmAhGBvj0X X-Gm-Gg: ASbGnctF88o2C9OD8CjvImsMHp3L0VjyWfkoEwlI4kqzQvS+COIw4KAcAmpBG64ONsK BVdfS5JK50752ngcflrjYO9e7KD5ctxxdoBCeSmxevwPpSj8lsf6xFerX5UaFpdEB0XVS+grLsV phR0IV67KLh96cbK84s5psw9EGdcY1BN3qoy4aGD2AAA9hLHF6w72W79z3bI+YMtBgBfnhSU6hj dJ/hbfvdvJ5drwnr+JjGAOuP0LSKVd1s8pNbGCs8M+CmMXS4PJyPzEpGHoJ1QifKuj1kFxg409F Qfeqxkcuw0yXczOi+An9VnGOItg95LX6GDQQ75pehw== X-Google-Smtp-Source: AGHT+IFbLdXJSbYNuAKQNwn6QH3zJD2QJStubgPKPhx6cHeh/22RqZjhJDJ9cUg4pJLGZVCY9+P5hKUvPXeI X-Received: by 2002:a05:620a:f0c:b0:7b6:db05:143c with SMTP id af79cd13be357-7c047c97755mr188134685a.45.1738888464332; Thu, 06 Feb 2025 16:34:24 -0800 (PST) Received: from postal.iol.unh.edu (postal.iol.unh.edu. [2606:4100:3880:1234::84]) by smtp-relay.gmail.com with ESMTPS id af79cd13be357-7c041e75a65sm13188885a.6.2025.02.06.16.34.24 (version=TLS1_2 cipher=ECDHE-ECDSA-AES128-GCM-SHA256 bits=128/128); Thu, 06 Feb 2025 16:34:24 -0800 (PST) X-Relaying-Domain: iol.unh.edu Date: Thu, 06 Feb 2025 16:34:24 -0800 (PST) Message-ID: <67a55510.050a0220.a0e59.73e5SMTPIN_ADDED_MISSING@mx.google.com> Received: from [172.21.0.5] (unknown [172.18.0.240]) by postal.iol.unh.edu (Postfix) with ESMTP id E74626052471; Thu, 6 Feb 2025 19:34:23 -0500 (EST) Subject: |SUCCESS| [GIT MASTER] 7125636162d67b1c40ba6802a3ff4466d125d243 From: dpdklab@iol.unh.edu To: Test Report Cc: dpdk-test-reports@iol.unh.edu, Akhil Goyal Content-Type: text/plain X-BeenThere: test-report@dpdk.org X-Mailman-Version: 2.1.29 Precedence: list List-Id: automatic DPDK test reports List-Unsubscribe: , List-Archive: List-Post: List-Help: List-Subscribe: , Errors-To: test-report-bounces@dpdk.org _Testing PASS_ Branch: dpdk-next-crypto 7125636162d67b1c40ba6802a3ff4466d125d243 --> testing pass Upstream job id: Windows-Compile-DPDK-Native#26496 Test environment and result as below: +---------------------+--------------------+-------------------+-------------------------+ | Environment | dpdk_meson_compile | dpdk_msvc_compile | dpdk_llvm_clang_compile | +=====================+====================+===================+=========================+ | FreeBSD 13.4 | PASS | SKIPPED | SKIPPED | +---------------------+--------------------+-------------------+-------------------------+ | FreeBSD 14.2 | PASS | SKIPPED | SKIPPED | +---------------------+--------------------+-------------------+-------------------------+ | Windows Server 2022 | SKIPPED | PASS | PASS | +---------------------+--------------------+-------------------+-------------------------+ FreeBSD 13.4 Kernel: 13.4-RELEASE-p1 Compiler: clang 18.1.6 FreeBSD 14.2 Kernel: 14.2-RELEASE Compiler: clang 18.1.6 Windows Server 2022 Kernel: 10.0.20348.2031 Compiler: clang 15.0.7, gcc 14.1.0 (MinGW), and MSVC VS 19.39.33521 To view detailed results, visit: https://lab.dpdk.org/results/dashboard/tarballs/32476/ UNH-IOL DPDK Community Lab To manage your email subscriptions, visit: https://lab.dpdk.org/results/dashboard/preferences/subscriptions/