From mboxrd@z Thu Jan 1 00:00:00 1970 Return-Path: Received: from mails.dpdk.org (mails.dpdk.org [217.70.189.124]) by inbox.dpdk.org (Postfix) with ESMTP id 5AF17461AF for ; Fri, 7 Feb 2025 01:37:42 +0100 (CET) Received: from mails.dpdk.org (localhost [127.0.0.1]) by mails.dpdk.org (Postfix) with ESMTP id 39037402D5; Fri, 7 Feb 2025 01:37:42 +0100 (CET) Received: from mail-pl1-f226.google.com (mail-pl1-f226.google.com [209.85.214.226]) by mails.dpdk.org (Postfix) with ESMTP id BFEC0402A7 for ; Fri, 7 Feb 2025 01:37:40 +0100 (CET) Received: by mail-pl1-f226.google.com with SMTP id d9443c01a7336-21f2f386cbeso26638025ad.0 for ; Thu, 06 Feb 2025 16:37:40 -0800 (PST) DKIM-Signature: v=1; a=rsa-sha256; c=relaxed/relaxed; d=iol.unh.edu; s=unh-iol; t=1738888660; x=1739493460; darn=dpdk.org; h=cc:to:from:subject:message-id:date:from:to:cc:subject:date :message-id:reply-to; bh=xjE+FIIVZLrtgxpk5w/327wSTk4VkL5BrbwlsaX0YTM=; b=catjnar4cszCMselIG1+mpwhhlSNxpi39c5vZhtqFWERCOEzz6s4BDUaW2r+szPXpr sTPzcajm3QQj5odAMWlj+DCrIeZcxvoLFv6xZE5FEnAY1VSJ7U3mmx3U4kDuBNErWA49 k74aaTvJxDHBwJC3S7o+VirxH4kfdEnUlFAT8= X-Google-DKIM-Signature: v=1; a=rsa-sha256; c=relaxed/relaxed; d=1e100.net; s=20230601; t=1738888660; x=1739493460; h=cc:to:from:subject:message-id:date:x-gm-message-state:from:to:cc :subject:date:message-id:reply-to; bh=xjE+FIIVZLrtgxpk5w/327wSTk4VkL5BrbwlsaX0YTM=; b=glDt7HMT5EhsyA0sTQNL0mVvdYnK4JjyUHdyVfQ4yXo0/CufvGR+24M8pySOEakxpm ZLDZWyUq0ja9MPkH40j6w4Q25zL43Vf8mVB5gfmyHqArzLk+RciiF5e2Swil5lkYtbB6 RQTTcWK1zB56fZZJFEK6YFVitKw7nx5pTjtEmd+VUfnu4O0r2wRLMf9meX1kBGEYo/wj 9cttOxF72aa7+gEcplgjnnehhDE29TANWGN+PCoHP39O+AG+/djpnWqzZhJECnVRUODQ YWEw/+lFwztxxu0DXQdh0ntGCv58tL3AKK3iaMq4xkASTuhkzROyBRF6pKY/pN4bhPxN o6Og== X-Gm-Message-State: AOJu0Yx2MzNkcWHBApv3W0Rp1hlYSMD5zKXmr+m1OyUO+p056eEJkrb2 LAnAcPCCWUUFZ3y9B1P4ZaqcEPDIsts6SGKdeudXmLJFjMmwJFNbJDpL2KYnid5kY/Qb4ElmH7v pnXWqJXaES2TScgopkU7PzUDjIRQUPKGpQgWjhdHc X-Gm-Gg: ASbGncsSaW0sSij1WfQO+fLnURMYxZ6cbTqDYOX9Tdz0ljXVf+dDSTwQUesJVlrAY0K RIpfbKeFLwmddT7bue5JkNhTdWVmgqn8TpRq9TBaEKYwc67Fs8iv6cPciOCug0xYiXtlg5c4VBL kHGKMmZw1PMj6LB6jlmxVziymt9IW0wYxznDmDmg2lFtvorLOw2MbXVXXLfJytQZb4aTqps9MvK MMSZC9e6gXF+06+39WAW+i4rLBzXIeYJxvzOutYHRnMvdl3ykDXt2WHlQgtVuZg8IQrZh2mlYdf +L+DK3xxdQhg2vPVH70/ZD2JEUrQjA== X-Google-Smtp-Source: AGHT+IEWruAOlGKxy6G/65p4ERsmY9RKu/4mVv/B8SjgeSDgig1JZL0S0A3jbqqpV+5xdFYMy3MxFmuM92F/ X-Received: by 2002:a05:6a21:9003:b0:1e1:f5a:db33 with SMTP id adf61e73a8af0-1ee03b772fbmr2510961637.36.1738888659865; Thu, 06 Feb 2025 16:37:39 -0800 (PST) Received: from postal.iol.unh.edu (postal.iol.unh.edu. [132.177.123.84]) by smtp-relay.gmail.com with ESMTPS id 41be03b00d2f7-ad51af5560esm57523a12.28.2025.02.06.16.37.39 (version=TLS1_2 cipher=ECDHE-ECDSA-AES128-GCM-SHA256 bits=128/128); Thu, 06 Feb 2025 16:37:39 -0800 (PST) X-Relaying-Domain: iol.unh.edu Date: Thu, 06 Feb 2025 16:37:39 -0800 (PST) Message-ID: <67a555d3.630a0220.42982.2f94SMTPIN_ADDED_MISSING@mx.google.com> Received: from [172.21.0.5] (unknown [172.18.0.240]) by postal.iol.unh.edu (Postfix) with ESMTP id 0A06E6052471; Thu, 6 Feb 2025 19:37:39 -0500 (EST) Subject: |SUCCESS| [GIT MASTER] 7125636162d67b1c40ba6802a3ff4466d125d243 From: dpdklab@iol.unh.edu To: Test Report Cc: dpdk-test-reports@iol.unh.edu, Akhil Goyal Content-Type: text/plain X-BeenThere: test-report@dpdk.org X-Mailman-Version: 2.1.29 Precedence: list List-Id: automatic DPDK test reports List-Unsubscribe: , List-Archive: List-Post: List-Help: List-Subscribe: , Errors-To: test-report-bounces@dpdk.org _Testing PASS_ Branch: dpdk-next-crypto 7125636162d67b1c40ba6802a3ff4466d125d243 --> testing pass Upstream job id: Windows-Compile-DPDK-Native#26497 Test environment and result as below: +---------------------+--------------------+-------------------+-------------------------+----------------------+ | Environment | dpdk_meson_compile | dpdk_msvc_compile | dpdk_llvm_clang_compile | dpdk_mingw64_compile | +=====================+====================+===================+=========================+======================+ | FreeBSD 13.4 | PASS | SKIPPED | SKIPPED | SKIPPED | +---------------------+--------------------+-------------------+-------------------------+----------------------+ | FreeBSD 14.2 | PASS | SKIPPED | SKIPPED | SKIPPED | +---------------------+--------------------+-------------------+-------------------------+----------------------+ | Windows Server 2022 | SKIPPED | PASS | PASS | PASS | +---------------------+--------------------+-------------------+-------------------------+----------------------+ FreeBSD 13.4 Kernel: 13.4-RELEASE-p1 Compiler: clang 18.1.6 FreeBSD 14.2 Kernel: 14.2-RELEASE Compiler: clang 18.1.6 Windows Server 2022 Kernel: 10.0.20348.2031 Compiler: clang 15.0.7, gcc 14.1.0 (MinGW), and MSVC VS 19.39.33521 To view detailed results, visit: https://lab.dpdk.org/results/dashboard/tarballs/32476/ UNH-IOL DPDK Community Lab To manage your email subscriptions, visit: https://lab.dpdk.org/results/dashboard/preferences/subscriptions/