From mboxrd@z Thu Jan 1 00:00:00 1970 Return-Path: Received: from mails.dpdk.org (mails.dpdk.org [217.70.189.124]) by inbox.dpdk.org (Postfix) with ESMTP id 11C39461AF for ; Fri, 7 Feb 2025 01:43:36 +0100 (CET) Received: from mails.dpdk.org (localhost [127.0.0.1]) by mails.dpdk.org (Postfix) with ESMTP id 0CCC7402D5; Fri, 7 Feb 2025 01:43:36 +0100 (CET) Received: from mail-qk1-f225.google.com (mail-qk1-f225.google.com [209.85.222.225]) by mails.dpdk.org (Postfix) with ESMTP id CD9B7402A7 for ; Fri, 7 Feb 2025 01:43:34 +0100 (CET) Received: by mail-qk1-f225.google.com with SMTP id af79cd13be357-7be49f6b331so142082785a.1 for ; Thu, 06 Feb 2025 16:43:34 -0800 (PST) DKIM-Signature: v=1; a=rsa-sha256; c=relaxed/relaxed; d=iol.unh.edu; s=unh-iol; t=1738889014; x=1739493814; darn=dpdk.org; h=references:in-reply-to:cc:to:from:subject:message-id:date:from:to :cc:subject:date:message-id:reply-to; bh=cU6NgUsd3gcA1fcdsEcxvc3gCdlWFEM3i8KTZvKQimc=; b=i5bhJNr+j64yF0idri+91WUs2kNP+eS3AvlUAZvjWOb1lBWIgLug1+N1xjWkTlCNRT s8As7x0OzR3vd8GOdcvTaJAsHRUA32fLe41hEu4J7gaWlVLcmWDvTalnUnxAwVckxWCr mI1WKk6IjuVHSxmWZJn/X2Nt21xJeeAvLAtAI= X-Google-DKIM-Signature: v=1; a=rsa-sha256; c=relaxed/relaxed; d=1e100.net; s=20230601; t=1738889014; x=1739493814; h=references:in-reply-to:cc:to:from:subject:message-id:date :x-gm-message-state:from:to:cc:subject:date:message-id:reply-to; bh=cU6NgUsd3gcA1fcdsEcxvc3gCdlWFEM3i8KTZvKQimc=; b=KZuQXfwsAvKCJAMZGAyzL706UcPs45dQ1xOTRYhsgKEtJ+oplx83IwsdNYp6CsEtN/ jjHVgirJDlqcBnWP6H/AzYKMc0UNN8UZyX7/0WQi0WZLeMRvETNcmasQaiE2GL0hf9Ok YXKsyyMVwt2Dg/+EzFhGnk8f/b/5zcHEgHrtY4iJZhC7eP7KucK+PTxEOngzjFhRA5Dq fQ+z6VM7NmqWrgUItmMFtxFa/8Js+yMU878NtypGt8clCeU9Q2bt1wR+QH+Q8muAFOFo BGs2kA7pYtq7IST03AlQ3yDKnFetO/E+s6YYMpYxFJ7mM40R2/dg07Pwah8gpCBVN8KJ aaUA== X-Gm-Message-State: AOJu0Yya7JNQ7Kda93WDBfiYWAmIseLsbCYKJwovDPrDyf1s+2fKpi5n xzd1jMBWyCwlPK1Vf/RFLUDxLM7Z7dsPj5Nv4Pmkuk8GmzYIahe9OUfp3ukIBafg5FTJflGNQoL MM3gQ/K9hsLhGJx3BW/nNecmAUlfgVNKc/iHelQfiyESZWxen1Y2rRcN5 X-Gm-Gg: ASbGncv57bmusVCWReyqvtZS/x3ll0Mrbg8zMMSZz9rD1kJ0VMXbpN15/RK7MPs2WGV v40L+A53tQDg9Y1Sq7mQeBKu1XhlZxQ1rH2p2MXCg35qkRa/5MSc7ssK2jfZFB8OwNGx+95OCuM zmuxFHIhS3b9ugjprFF1VIefJey2kjSIfML8L+9Wkw9axehqW0/syguTkX5uXphV2hXPK3quy/7 VKFQLCTiiFfxM5LIB9QTGgJUr4x+mkmzukF+4HcVuu0GL5UEkaBKw4wOJL54P1b4g5Z54n4Zp// ln52t3ae6De9PJAwkhl6IVyadyFsEY2QfJpAbBCkHg== X-Google-Smtp-Source: AGHT+IGZTzq+Wk0a4ewVG6e3/AlaaOQZgSLbgYGtkZb2Z7XqTqqsKVDJ1WSriizXLy90WA5ikCROYFvceEnJ X-Received: by 2002:a05:6214:1bcc:b0:6d8:8667:c6ca with SMTP id 6a1803df08f44-6e4456d9c4cmr17767586d6.32.1738889014140; Thu, 06 Feb 2025 16:43:34 -0800 (PST) Received: from postal.iol.unh.edu (postal.iol.unh.edu. [2606:4100:3880:1234::84]) by smtp-relay.gmail.com with ESMTPS id 6a1803df08f44-6e43ba42deesm1446676d6.16.2025.02.06.16.43.34 (version=TLS1_2 cipher=ECDHE-ECDSA-AES128-GCM-SHA256 bits=128/128); Thu, 06 Feb 2025 16:43:34 -0800 (PST) X-Relaying-Domain: iol.unh.edu Date: Thu, 06 Feb 2025 16:43:34 -0800 (PST) Message-ID: <67a55736.d40a0220.1d8d4b.8435SMTPIN_ADDED_MISSING@mx.google.com> Received: from [172.21.0.5] (unknown [172.18.0.240]) by postal.iol.unh.edu (Postfix) with ESMTP id CCE8A6052471; Thu, 6 Feb 2025 19:43:33 -0500 (EST) Subject: |SUCCESS| pw151071 [PATCH] [v3] net: add thread-safe crc api From: dpdklab@iol.unh.edu To: Test Report Cc: dpdk-test-reports@iol.unh.edu In-Reply-To: <20250206203844.3874038-1-arkadiuszx.kusztal@intel.com> References: <20250206203844.3874038-1-arkadiuszx.kusztal@intel.com> Content-Type: text/plain X-BeenThere: test-report@dpdk.org X-Mailman-Version: 2.1.29 Precedence: list List-Id: automatic DPDK test reports List-Unsubscribe: , List-Archive: List-Post: List-Help: List-Subscribe: , Errors-To: test-report-bounces@dpdk.org Test-Label: iol-compile-amd64-testing Test-Status: SUCCESS http://dpdk.org/patch/151071 _Testing PASS_ Submitter: Kusztal, ArkadiuszX Date: Thursday, February 06 2025 20:38:44 DPDK git baseline: Repo:dpdk Branch: master CommitID:7125636162d67b1c40ba6802a3ff4466d125d243 151071 --> testing pass Upstream job id: Windows-Compile-DPDK-Native#26498 Test environment and result as below: +---------------------+--------------------+-------------------+-------------------------+ | Environment | dpdk_meson_compile | dpdk_msvc_compile | dpdk_llvm_clang_compile | +=====================+====================+===================+=========================+ | FreeBSD 13.4 | PASS | SKIPPED | SKIPPED | +---------------------+--------------------+-------------------+-------------------------+ | FreeBSD 14.2 | PASS | SKIPPED | SKIPPED | +---------------------+--------------------+-------------------+-------------------------+ | Windows Server 2022 | SKIPPED | PASS | PASS | +---------------------+--------------------+-------------------+-------------------------+ FreeBSD 13.4 Kernel: 13.4-RELEASE-p1 Compiler: clang 18.1.6 FreeBSD 14.2 Kernel: 14.2-RELEASE Compiler: clang 18.1.6 Windows Server 2022 Kernel: 10.0.20348.2031 Compiler: clang 15.0.7, gcc 14.1.0 (MinGW), and MSVC VS 19.39.33521 To view detailed results, visit: https://lab.dpdk.org/results/dashboard/patchsets/32514/ UNH-IOL DPDK Community Lab To manage your email subscriptions, visit: https://lab.dpdk.org/results/dashboard/preferences/subscriptions/