From mboxrd@z Thu Jan 1 00:00:00 1970 Return-Path: Received: from mails.dpdk.org (mails.dpdk.org [217.70.189.124]) by inbox.dpdk.org (Postfix) with ESMTP id C1F67461AF for ; Fri, 7 Feb 2025 01:55:44 +0100 (CET) Received: from mails.dpdk.org (localhost [127.0.0.1]) by mails.dpdk.org (Postfix) with ESMTP id 94058402D5; Fri, 7 Feb 2025 01:55:44 +0100 (CET) Received: from mail-pl1-f226.google.com (mail-pl1-f226.google.com [209.85.214.226]) by mails.dpdk.org (Postfix) with ESMTP id B6AF3402A7 for ; Fri, 7 Feb 2025 01:55:43 +0100 (CET) Received: by mail-pl1-f226.google.com with SMTP id d9443c01a7336-21661be2c2dso29237935ad.1 for ; Thu, 06 Feb 2025 16:55:43 -0800 (PST) DKIM-Signature: v=1; a=rsa-sha256; c=relaxed/relaxed; d=iol.unh.edu; s=unh-iol; t=1738889743; x=1739494543; darn=dpdk.org; h=references:in-reply-to:cc:to:from:subject:message-id:date:from:to :cc:subject:date:message-id:reply-to; bh=yNqiWn5dblct21nFmj/fsZqEke74WwFvzshgDAimWig=; b=CkzZlrsWnqRoEs4n+V5JEC07AT0LIsw/GKYkFqlp7bNohHWKJ0KvPfIIVBFzA13SEy nxanZa16AvefaUyc8m5Wqeaux9vs6E8DKKrTl3x/9jzRcnSxRgPDvX7/7FDxP8f14Nub AG4xzJAuFVXp2+5PE20/x4GL6fhot0vqMmQfI= X-Google-DKIM-Signature: v=1; a=rsa-sha256; c=relaxed/relaxed; d=1e100.net; s=20230601; t=1738889743; x=1739494543; h=references:in-reply-to:cc:to:from:subject:message-id:date :x-gm-message-state:from:to:cc:subject:date:message-id:reply-to; bh=yNqiWn5dblct21nFmj/fsZqEke74WwFvzshgDAimWig=; b=nkE36sESCnwW8rj5yEadB/kLhw8DMebbnmt3TNFIRzEip2h38Cbp8I4hocKn9eZI+a MRuX8W/66WlkIujWWwlNwlkJcVal8k4ZcnqoZHbIoQynHCBtsYTh6hssbPhR2pmxn/4y Qz7DqBsQ5Vo+OaYSx6iUfVVpDONvqFuOyAWDETBS5VY4SsDWV6yPiq1aUAUMsX1Nw/YI eEc62jLO4rBatV3+PjCfTr+aJ2/BSPS2Dz9zpwIW+lIaLlnnhnn5Mw8A+5GYl0G0Sn5Y jnSCJ4GDNB6wcISKWjspb9QvMAm09cZcrs/MD9lLOEdPJ6Bx4lH/tnbLA3QOOIP8B5So 9Nsw== X-Gm-Message-State: AOJu0YwzvnJXPcGBOqnHb60tgTWenxFJLjyRsPWgKjGY6QUr2cqG1RUz eaVUcjCmPhOkKrxXIiDFCXNlHVwfbTbNPgwNWjupbmmg9FAaJyBXZl866RHa9BTWJHtQQkPpHGQ t5F40HOM2NZO2y5zu7C4N8bQPHc/KwqgS/503XZ13 X-Gm-Gg: ASbGncvAZe6qqiHyz9dvyYAu+MLnGLcUkNuQfkIR0L7HuCr8FckvT3ioUvdGCeWWf1J NhaaGc04hxEbkYU48N1AzXKmXDb7UJTfty2LNLtHzg5fTi/q+kozbw1KKJHcQSbCBVFUaMdtqRn 6Bqp60DU08iS2FwvnySuBbp/KTjOO959evGwtyHO+UyJeogEuEGHjEPy8P2v7WoQJrzFjuM0G+A CAWz7X/yA+jmkawVyrsWficZMVMYjALEJ1yB9q0I27LPLsId2cLuoJZaXxo/CQzmdCfaexebeNi 4zC0p+1uDdTT2w7Gy0uStfZISVoe0w== X-Google-Smtp-Source: AGHT+IGefHthU+sye0wy6925nQEBRTwHjhCXJffp8YeKYx/WXeg5JPc6FmJsrvZ87yhI/TUN9MyjZsPMdXG2 X-Received: by 2002:a17:902:e802:b0:215:b473:1dc9 with SMTP id d9443c01a7336-21f4e763a2fmr22129595ad.46.1738889742779; Thu, 06 Feb 2025 16:55:42 -0800 (PST) Received: from postal.iol.unh.edu (postal.iol.unh.edu. [132.177.123.84]) by smtp-relay.gmail.com with ESMTPS id d9443c01a7336-21f3650c583sm1171225ad.18.2025.02.06.16.55.42 (version=TLS1_2 cipher=ECDHE-ECDSA-AES128-GCM-SHA256 bits=128/128); Thu, 06 Feb 2025 16:55:42 -0800 (PST) X-Relaying-Domain: iol.unh.edu Date: Thu, 06 Feb 2025 16:55:42 -0800 (PST) Message-ID: <67a55a0e.170a0220.7e6e0.6e1dSMTPIN_ADDED_MISSING@mx.google.com> Received: from [172.21.0.7] (unknown [172.18.0.240]) by postal.iol.unh.edu (Postfix) with ESMTP id 042796052471; Thu, 6 Feb 2025 19:55:42 -0500 (EST) Subject: |SUCCESS| pw150974-150991 [PATCH] [v3,19/19] common/cnxk: fix null p From: dpdklab@iol.unh.edu To: Test Report Cc: dpdk-test-reports@iol.unh.edu In-Reply-To: <20250205162448.161161-20-stephen@networkplumber.org> References: <20250205162448.161161-20-stephen@networkplumber.org> Content-Type: text/plain X-BeenThere: test-report@dpdk.org X-Mailman-Version: 2.1.29 Precedence: list List-Id: automatic DPDK test reports List-Unsubscribe: , List-Archive: List-Post: List-Help: List-Subscribe: , Errors-To: test-report-bounces@dpdk.org Test-Label: iol-sample-apps-testing Test-Status: SUCCESS http://dpdk.org/patch/150991 _Testing PASS RETEST #1_ Submitter: Stephen Hemminger Date: Wednesday, February 05 2025 16:23:20 DPDK git baseline: Repo:dpdk Branch: master CommitID:32c18e7364e30a8e43cc7cc6709a7ce606fa285e 150974-150991 --> testing pass Upstream job id: Template-DTS-Pipeline#211247 Test environment and result as below: +--------------------+----------------------+----------------------+ | Environment | compressdev_zlib_pmd | dpdk_fips_validation | +====================+======================+======================+ | Ubuntu 22.04 (ARM) | PASS | SKIPPED | +--------------------+----------------------+----------------------+ | Ubuntu 22.04 | PASS | SKIPPED | +--------------------+----------------------+----------------------+ | Ubuntu 20.04 | SKIPPED | PASS | +--------------------+----------------------+----------------------+ Ubuntu 22.04 (ARM) Kernel: 5.15.0-97-generic Compiler: gcc gcc (Ubuntu 11.4.0-1ubuntu1~22.04) 11.4.0 Ubuntu 22.04 Kernel: 5.15.0-100-generic Compiler: gcc gcc (Ubuntu 11.4.0-1ubuntu1~22.04) 11.4.0 Ubuntu 20.04 Kernel: Depends on container host Compiler: gcc (Ubuntu 9.4.0-1ubuntu1~20.04.2) 9.4.0 To view detailed results, visit: https://lab.dpdk.org/results/dashboard/patchsets/32501/ UNH-IOL DPDK Community Lab To manage your email subscriptions, visit: https://lab.dpdk.org/results/dashboard/preferences/subscriptions/